Workbook

Sheet Feuil1
A1: items | B1: 1106 | C1: 1111 | D1: 1113 | E1: 1120 | F1: 1146 | G1: 1147 | H1: 1154 | I1: 1167 | J1: 1168 | K1: 1169 | L1: 1178 | M1: 1194 | N1: 1206 | O1: 1226 | P1: 1232 | Q1: 1233 | R1: 1244 | S1: 1261 | T1: 1294 | U1: 1313 | V1: 1314 | W1: 1359 | X1: 1370 | Y1: 1297 | Z1: 1301 | AA1: 1292 | AB1: 1293 | AC1: 1297 | AD1: 1301 | AE1: 1343 | AF1: 1344 | AG1: 1369 | AH1: 1372 | AI1: 1374 | AJ1: 1376 | AK1: 1378 | AL1: 1381 | AM1: 1339
A2: 01. Ma décision de participer à cette étude a été difficile | B2: 0 | C2: -2 | D2: -4 | E2: 0 | F2: -4 | G2: -4 | H2: -4 | I2: -3 | J2: -2 | K2: -4 | L2: -2 | M2: -4 | N2: -4 | O2: -2 | P2: 2 | Q2: -2 | R2: -3 | S2: -3 | T2: -3 | U2: -2 | V2: -3 | W2: 0 | X2: 2 | Y2: -2 | Z2: 3 | AA2: -4 | AB2: -3 | AC2: -2 | AD2: 3 | AE2: -4 | AF2: -3 | AG2: -3 | AH2: -4 | AI2: -2 | AJ2: -2 | AK2: -4 | AL2: -3 | AM2: -4
A3: 02. Lorsque j’ai pris connaissance des objectifs de cette étude je me suis senti(e) concerné(e) | B3: 2 | C3: 0 | D3: 4 | E3: 2 | F3: 2 | G3: 0 | H3: 3 | I3: -3 | J3: 0 | K3: 3 | L3: -3 | M3: 3 | N3: -2 | O3: 0 | P3: -2 | Q3: -4 | R3: 2 | S3: 4 | T3: 3 | U3: 3 | V3: 4 | W3: 3 | X3: 2 | Y3: 4 | Z3: 4 | AA3: 4 | AB3: 0 | AC3: 4 | AD3: 4 | AE3: 4 | AF3: 0 | AG3: 0 | AH3: 4 | AI3: 3 | AJ3: 0 | AK3: 4 | AL3: 0 | AM3: 0
A4: 03. Avant cette étude je n’étais pas du tout préparé à la méthodologie de la recherche | B4: 0 | C4: 0 | D4: 0 | E4: -2 | F4: 0 | G4: 0 | H4: 0 | I4: -4 | J4: -2 | K4: 2 | L4: 4 | M4: -3 | N4: 0 | O4: -3 | P4: 3 | Q4: 3 | R4: -2 | S4: -3 | T4: 3 | U4: 0 | V4: -2 | W4: -3 | X4: 3 | Y4: 0 | Z4: 3 | AA4: 2 | AB4: -3 | AC4: 0 | AD4: 3 | AE4: -2 | AF4: -2 | AG4: 4 | AH4: 0 | AI4: 3 | AJ4: -2 | AK4: -3 | AL4: 0 | AM4: -4
A5: 04. Ma décision initiale de participer à cette recherche est issue de l’incitation d’une autre personne | B5: 3 | C5: -2 | D5: -3 | E5: -3 | F5: 0 | G5: -3 | H5: -2 | I5: 0 | J5: 0 | K5: 2 | L5: 2 | M5: -2 | N5: -2 | O5: 0 | P5: 2 | Q5: 0 | R5: -4 | S5: 4 | T5: 0 | U5: 0 | V5: -2 | W5: 2 | X5: -2 | Y5: -2 | Z5: 0 | AA5: 0 | AB5: -2 | AC5: -2 | AD5: 0 | AE5: -3 | AF5: -2 | AG5: -2 | AH5: 3 | AI5: -2 | AJ5: -2 | AK5: -2 | AL5: -4 | AM5: -2
A6: 05. La constitution de mon groupe de pairs a été difficile | B6: -4 | C6: 0 | D6: -2 | E6: 0 | F6: -3 | G6: -3 | H6: -3 | I6: -2 | J6: -3 | K6: 0 | L6: -3 | M6: -2 | N6: 3 | O6: -4 | P6: -3 | Q6: 0 | R6: -2 | S6: -4 | T6: -3 | U6: -4 | V6: -4 | W6: -2 | X6: 0 | Y6: 2 | Z6: -4 | AA6: -3 | AB6: 0 | AC6: 2 | AD6: -4 | AE6: -4 | AF6: -3 | AG6: -2 | AH6: -3 | AI6: 0 | AJ6: -3 | AK6: -2 | AL6: -2 | AM6: 0
A7: 06. Je me suis senti aidé par l’équipe de recherche | B7: -3 | C7: 2 | D7: 0 | E7: 2 | F7: 3 | G7: 2 | H7: 3 | I7: -2 | J7: 3 | K7: 0 | L7: 0 | M7: 0 | N7: 0 | O7: 0 | P7: 3 | Q7: 2 | R7: 4 | S7: 0 | T7: 2 | U7: -2 | V7: 2 | W7: 2 | X7: 0 | Y7: 2 | Z7: 2 | AA7: 4 | AB7: 0 | AC7: 2 | AD7: 2 | AE7: 3 | AF7: 3 | AG7: 2 | AH7: -2 | AI7: 2 | AJ7: 2 | AK7: 2 | AL7: 0 | AM7: 2
A8: 07. La compréhension de la méthodologie a été difficile | B8: 4 | C8: -2 | D8: -4 | E8: -2 | F8: 0 | G8: -2 | H8: 2 | I8: 2 | J8: -3 | K8: -2 | L8: 0 | M8: -3 | N8: -3 | O8: 0 | P8: 3 | Q8: -2 | R8: 0 | S8: 2 | T8: 0 | U8: -2 | V8: -2 | W8: -3 | X8: 4 | Y8: -4 | Z8: 0 | AA8: 0 | AB8: -2 | AC8: -4 | AD8: 0 | AE8: 0 | AF8: 0 | AG8: 4 | AH8: -3 | AI8: -4 | AJ8: -3 | AK8: 2 | AL8: -3 | AM8: 0
A9: 08. La prise de notes extensives a été facile | B9: 3 | C9: -3 | D9: 0 | E9: 0 | F9: -3 | G9: -2 | H9: 2 | I9: 2 | J9: -2 | K9: -2 | L9: -4 | M9: -4 | N9: 0 | O9: -2 | P9: -2 | Q9: -2 | R9: 0 | S9: -2 | T9: -2 | U9: 2 | V9: 0 | W9: 2 | X9: -2 | Y9: 0 | Z9: -4 | AA9: -2 | AB9: 0 | AC9: 0 | AD9: -4 | AE9: 3 | AF9: -2 | AG9: -2 | AH9: 2 | AI9: -3 | AJ9: 0 | AK9: -3 | AL9: -2 | AM9: 2
A10: 09. La prise en main des instruments est (a été) difficile | B10: 4 | C10: 0 | D10: 0 | E10: 0 | F10: 0 | G10: -2 | H10: 0 | I10: 0 | J10: -3 | K10: 0 | L10: 0 | M10: 0 | N10: 2 | O10: -2 | P10: -2 | Q10: -4 | R10: 4 | S10: 2 | T10: -2 | U10: 3 | V10: 0 | W10: -2 | X10: 4 | Y10: 2 | Z10: 3 | AA10: 2 | AB10: -2 | AC10: 2 | AD10: 3 | AE10: -3 | AF10: -2 | AG10: 2 | AH10: 2 | AI10: 0 | AJ10: -2 | AK10: 3 | AL10: -2 | AM10: -2
A11: 10. Le travail en groupe de pairs est (a été) le moteur principal de mon implication | B11: 2 | C11: 0 | D11: 0 | E11: 3 | F11: 3 | G11: 0 | H11: 0 | I11: -2 | J11: 2 | K11: 0 | L11: 3 | M11: -2 | N11: 0 | O11: 4 | P11: 4 | Q11: 4 | R11: -3 | S11: 3 | T11: 0 | U11: 0 | V11: 2 | W11: -3 | X11: -3 | Y11: -4 | Z11: 2 | AA11: 3 | AB11: 3 | AC11: -4 | AD11: 2 | AE11: 0 | AF11: 0 | AG11: -3 | AH11: -2 | AI11: 3 | AJ11: 0 | AK11: 4 | AL11: 0 | AM11: 0
A12: 11. Le travail en groupe de pairs a revitalisé ma clinique | B12: -2 | C12: 3 | D12: 3 | E12: 4 | F12: 2 | G12: 4 | H12: 2 | I12: 4 | J12: 3 | K12: 3 | L12: 2 | M12: 0 | N12: 2 | O12: 4 | P12: 0 | Q12: 2 | R12: -3 | S12: -2 | T12: 4 | U12: -4 | V12: 3 | W12: 0 | X12: 0 | Y12: -2 | Z12: 0 | AA12: -2 | AB12: 2 | AC12: -2 | AD12: 0 | AE12: 0 | AF12: 2 | AG12: 0 | AH12: 0 | AI12: -4 | AJ12: 3 | AK12: 2 | AL12: 4 | AM12: 2
... A26: 25. Ma représentation de la recherche en psychothérapie a évolué de façon positive depuis ma participation au réseau. | B26: -3 | C26: 2 | D26: 3 | E26: -2 | F26: 0 | G26: 2 | H26: -2 | I26: 0 | J26: 0 | K26: 0 | L26: -2 | M26: 0 | N26: 3 | O26: 2 | P26: -2 | Q26: 0 | R26: 2 | S26: -2 | T26: 2 | U26: 0 | V26: 0 | W26: 3 | X26: 0 | Y26: 0 | Z26: 0 | AA26: 2 | AB26: 0 | AC26: 0 | AD26: 0 | AE26: 0 | AF26: 4 | AG26: 2 | AH26: 4 | AI26: 0 | AJ26: 2 | AK26: -2 | AL26: 0 | AM26: 0

Sheet Feuil2
B1: 1_ER | C1: 2_ER | D1: 3_ER | E1: 4_ER | F1: 5_DE1 | G1: 6_DE2 | H1: 7_DE3 | I1: 8_DE4 | J1: 9_DE5 | K1: 10_MO1 | L1: 11_EF1 | M1: 12_EF2 | N1: 13_EF3 | O1: 14_MO2 | P1: 15_MO3 | Q1: 16_EF4 | R1: 17_EF5 | S1: 18_DE6 | T1: 19_DE7 | U1: 20_DE8 | V1: 21_EF6 | W1: 22_EF7 | X1: 23_EF8 | Y1: 24_DE9 | Z1: 25_EF9
A2: 1106 | B2: 0 | C2: 2 | D2: 0 | E2: 3 | F2: -4 | G2: -3 | H2: 4 | I2: 3 | J2: 4 | K2: 2 | L2: -2 | M2: 2 | N2: 0 | O2: 0 | P2: -3 | Q2: -2 | R2: 0 | S2: -2 | T2: 0 | U2: -4 | V2: -2 | W2: 0 | X2: 2 | Y2: 3 | Z2: -3
A3: 1111 | B3: -2 | C3: 0 | D3: 0 | E3: -2 | F3: 0 | G3: 2 | H3: -2 | I3: -3 | J3: 0 | K3: 0 | L3: 3 | M3: -4 | N3: 2 | O3: 0 | P3: 0 | Q3: 2 | R3: 4 | S3: -3 | T3: -3 | U3: 4 | V3: 3 | W3: -4 | X3: 3 | Y3: -2 | Z3: 2
A4: 1113 | B4: -4 | C4: 4 | D4: 0 | E4: -3 | F4: -2 | G4: 0 | H4: -4 | I4: 0 | J4: 0 | K4: 0 | L4: 3 | M4: -2 | N4: 4 | O4: 2 | P4: 2 | Q4: 3 | R4: 0 | S4: 0 | T4: -2 | U4: -3 | V4: 2 | W4: -3 | X4: 2 | Y4: -2 | Z4: 3
A5: 1120 | B5: 0 | C5: 2 | D5: -2 | E5: -3 | F5: 0 | G5: 2 | H5: -2 | I5: 0 | J5: 0 | K5: 3 | L5: 4 | M5: -3 | N5: 4 | O5: 0 | P5: -4 | Q5: 2 | R5: 3 | S5: -2 | T5: -3 | U5: 0 | V5: 3 | W5: -4 | X5: 2 | Y5: 0 | Z5: -2
A6: 1146 | B6: -4 | C6: 2 | D6: 0 | E6: 0 | F6: -3 | G6: 3 | H6: 0 | I6: -3 | J6: 0 | K6: 3 | L6: 2 | M6: -4 | N6: 0 | O6: 4 | P6: 2 | Q6: 2 | R6: 4 | S6: 0 | T6: -2 | U6: -2 | V6: 3 | W6: -3 | X6: -2 | Y6: -2 | Z6: 0
A7: 1147 | B7: -4 | C7: 0 | D7: 0 | E7: -3 | F7: -3 | G7: 2 | H7: -2 | I7: -2 | J7: -2 | K7: 0 | L7: 4 | M7: -4 | N7: 3 | O7: 3 | P7: 2 | Q7: 0 | R7: 4 | S7: 0 | T7: -3 | U7: 0 | V7: 0 | W7: -2 | X7: 3 | Y7: 2 | Z7: 2
A8: 1154 | B8: -4 | C8: 3 | D8: 0 | E8: -2 | F8: -3 | G8: 3 | H8: 2 | I8: 2 | J8: 0 | K8: 0 | L8: 2 | M8: -2 | N8: 0 | O8: 4 | P8: -3 | Q8: -3 | R8: 0 | S8: 0 | T8: -4 | U8: 0 | V8: 2 | W8: -2 | X8: 4 | Y8: 3 | Z8: -2
A9: 1167 | B9: -3 | C9: -3 | D9: -4 | E9: 0 | F9: -2 | G9: -2 | H9: 2 | I9: 2 | J9: 0 | K9: -2 | L9: 4 | M9: -3 | N9: 2 | O9: 2 | P9: 3 | Q9: 4 | R9: 3 | S9: 0 | T9: -2 | U9: 3 | V9: 0 | W9: -4 | X9: 0 | Y9: 0 | Z9: 0
A10: 1168 | B10: -2 | C10: 0 | D10: -2 | E10: 0 | F10: -3 | G10: 3 | H10: -3 | I10: -2 | J10: -3 | K10: 2 | L10: 3 | M10: -4 | N10: 0 | O10: 3 | P10: 2 | Q10: 4 | R10: 2 | S10: 0 | T10: -2 | U10: 0 | V10: 4 | W10: -4 | X10: 2 | Y10: 0 | Z10: 0
A11: 1169 | B11: -4 | C11: 3 | D11: 2 | E11: 2 | F11: 0 | G11: 0 | H11: -2 | I11: -2 | J11: 0 | K11: 0 | L11: 3 | M11: -4 | N11: 4 | O11: 0 | P11: 2 | Q11: 2 | R11: 3 | S11: -3 | T11: -2 | U11: -2 | V11: 4 | W11: -3 | X11: 0 | Y11: -3 | Z11: 0
A12: 1178 | B12: -2 | C12: -3 | D12: 4 | E12: 2 | F12: -3 | G12: 0 | H12: 0 | I12: -4 | J12: 0 | K12: 3 | L12: 2 | M12: -2 | N12: 0 | O12: 0 | P12: 4 | Q12: 2 | R12: 3 | S12: -2 | T12: 0 | U12: -4 | V12: 2 | W12: -3 | X12: 3 | Y12: 0 | Z12: -2
A13: 1194 | B13: -4 | C13: 3 | D13: -3 | E13: -2 | F13: -2 | G13: 0 | H13: -3 | I13: -4 | J13: 0 | K13: -2 | L13: 0 | M13: -2 | N13: 0 | O13: 4 | P13: 2 | Q13: 2 | R13: 3 | S13: 0 | T13: 0 | U13: 2 | V13: 2 | W13: -3 | X13: 4 | Y13: 3 | Z13: 0
... A37: 1378 | B37: -4 | C37: 4 | D37: -3 | E37: -2 | F37: -2 | G37: 2 | H37: 2 | I37: -3 | J37: 3 | K37: 4 | L37: 2 | M37: -3 | N37: 0 | O37: 3 | P37: 0 | Q37: 0 | R37: 0 | S37: 0 | T37: 2 | U37: 3 | V37: 0 | W37: -4 | X37: -2 | Y37: 0 | Z37: -2
A38: Moy | B38: =AVERAGE(B2:B37) -> -2.3888889 | C38: =AVERAGE(C2:C37) -> 1.5833333 | D38: =AVERAGE(D2:D37) -> -0.25 | E38: =AVERAGE(E2:E37) -> -0.83333333 | F38: =AVERAGE(F2:F37) -> -2.0555556 | G38: =AVERAGE(G2:G37) -> 1.25 | H38: =AVERAGE(H2:H37) -> -0.66666667 | I38: =AVERAGE(I2:I37) -> -1.0277778 | ... Z38: =AVERAGE(Z2:Z37) -> 0.44444444
A39: sd | B39: =STDEV(B2:B37) -> 1.8559215 | C39: =STDEV(C2:C37) -> 2.3588738 | D39: =STDEV(D2:D37) -> 2.3829753 | E39: =STDEV(E2:E37) -> 2.0632845 | F39: =STDEV(F2:F37) -> 1.7557163 | G39: =STDEV(G2:G37) -> 1.7464249 | H39: =STDEV(H2:H37) -> 2.4142434 | I39: =STDEV(I2:I37) -> 2.035206 | ... Z39: =STDEV(Z2:Z37) -> 1.8584855
A40: Résultats Pôles autisme et Borderline | B40: 1_ER1. Ma décision de participer à cette étude a été difficile | C40: 2_ER2. Lorsque j’ai pris connaissance des objectifs de cette étude je me suis senti(e) concerné(e) | D40: 3_ER3. Avant cette étude je n’étais pas du tout préparé à la méthodologie de la recherche | E40: 4_ER4. Ma décision initiale de participer à cette recherche est issue de l’incitation d’une autre personne | F40: 5_NTI. La constitution de mon groupe de pairs a été difficile | G40: 6_NTI. Je me suis senti aidé par l’équipe de recherche | H40: 7_NTI. La compréhension de la méthodologie a été difficile | I40: 8_NTI. La prise de notes extensives a été facile | J40: 9_NTI. La prise en main des instruments est (a été) difficile | K40: 10_MOT. Le travail en groupe de pairs est (a été) le moteur principal de mon implication | L40: 11_IMP. Le travail en groupe de pairs a revitalisé ma clinique | M40: 12_IMP. Cette recherche n’a pas (eu) d’impact sur ma pratique | N40: 13_IMP. La participation à cette recherche m’a permis de préciser des questions cliniques | O40: 14_MOT. Sur le plan professionnel cette recherche me semble importante pour défendre la pratique psychothérapique | P40: 15_MOT. La possibilité de mieux connaître ma pratique et de comprendre comment se produisent les changements chez mon patient participent à ma motivation | Q40: 16_IMP. Je vois mieux les changements de mon patient depuis que j’ai commencé cette recherche | R40: 17_IMP. Les discussions cliniques en groupe de pairs ont beaucoup apporté à ma réflexion en rapport avec ce patient | S40: 18_NTI. La sortie de traitement d’un patient engagé dans l’évaluation avec mes pairs a déstabilisé le groupe | T40: 19_NTI. Le consensus sur les cotations des différents instruments a toujours eu beaucoup de mal à aboutir | U40: 20_NTI. Pour faciliter le travail avec mes pairs j’utilise Skype ou une autre technologie internet | V40: 21_IMP. J’ai le sentiment que cette recherche a eu un impact positif sur le processus psychothérapique du patient engagé. | W40: 22_IMP. Cette étude n’a pas suscité chez moi de questions théoriques | X40: 23_IMP. La formulation de cas est une étape intéressante pour définir l’indication d’une psychothérapie et ses objectifs | Y40: 24_NTI. Présenter le suivi de mon cas et exposer ma pratique en groupe de pairs s’est avéré facile | Z40: 25_IMP. Ma représentation de la recherche en psychothérapie a évolué de façon positive depuis ma participation au réseau.

Sheet ER
B1: 1_ER | C1: 2_ER | D1: 3_ER | E1: 4_ER
A2: 1106 | B2: 0 | C2: 2 | D2: 0 | E2: 3
A3: 1111 | B3: -2 | C3: 0 | D3: 0 | E3: -2
A4: 1113 | B4: -4 | C4: 4 | D4: 0 | E4: -3
A5: 1120 | B5: 0 | C5: 2 | D5: -2 | E5: -3
A6: 1146 | B6: -4 | C6: 2 | D6: 0 | E6: 0
A7: 1147 | B7: -4 | C7: 0 | D7: 0 | E7: -3
A8: 1154 | B8: -4 | C8: 3 | D8: 0 | E8: -2
A9: 1167 | B9: -3 | C9: -3 | D9: -4 | E9: 0
A10: 1168 | B10: -2 | C10: 0 | D10: -2 | E10: 0
A11: 1169 | B11: -4 | C11: 3 | D11: 2 | E11: 2
A12: 1178 | B12: -2 | C12: -3 | D12: 4 | E12: 2
A13: 1194 | B13: -4 | C13: 3 | D13: -3 | E13: -2
... A37: 1378 | B37: -4 | C37: 4 | D37: -3 | E37: -2
A38: Moy | B38: =AVERAGE(B2:B37) -> -2.3888889 | C38: =AVERAGE(C2:C37) -> 1.5833333 | D38: =AVERAGE(D2:D37) -> -0.25 | E38: =AVERAGE(E2:E37) -> -0.83333333
A39: sd | B39: =STDEV(B2:B38) -> 1.8299632 | C39: =STDEV(C2:C38) -> 2.325881 | D39: =STDEV(D2:D38) -> 2.3496454 | E39: =STDEV(E2:E38) -> 2.0344259
A40: Résultats Pôles autisme et Borderline | B40: 1_ER1. Ma décision de participer à cette étude a été difficile | C40: 2_ER2. Lorsque j’ai pris connaissance des objectifs de cette étude je me suis senti(e) concerné(e) | D40: 3_ER3. Avant cette étude je n’étais pas du tout préparé à la méthodologie de la recherche | E40: 4_ER4. Ma décision initiale de participer à cette recherche est issue de l’incitation d’une autre personne

Sheet NTI
B1: 5_NTI1 | C1: 6_NTI2 | D1: 7_NTI3 | E1: 8_NTI4 | F1: 9_NTI5 | G1: 18_NTI6 | H1: 19_NTI7 | I1: 20_NTI8 | J1: 24_NTI9
A2: 1106 | B2: -4 | C2: -3 | D2: 4 | E2: 3 | F2: 4 | G2: -2 | H2: 0 | I2: -4 | J2: 3
A3: 1111 | B3: 0 | C3: 2 | D3: -2 | E3: -3 | F3: 0 | G3: -3 | H3: -3 | I3: 4 | J3: -2
A4: 1113 | B4: -2 | C4: 0 | D4: -4 | E4: 0 | F4: 0 | G4: 0 | H4: -2 | I4: -3 | J4: -2
A5: 1120 | B5: 0 | C5: 2 | D5: -2 | E5: 0 | F5: 0 | G5: -2 | H5: -3 | I5: 0 | J5: 0
A6: 1146 | B6: -3 | C6: 3 | D6: 0 | E6: -3 | F6: 0 | G6: 0 | H6: -2 | I6: -2 | J6: -2
A7: 1147 | B7: -3 | C7: 2 | D7: -2 | E7: -2 | F7: -2 | G7: 0 | H7: -3 | I7: 0 | J7: 2
A8: 1154 | B8: -3 | C8: 3 | D8: 2 | E8: 2 | F8: 0 | G8: 0 | H8: -4 | I8: 0 | J8: 3
A9: 1167 | B9: -2 | C9: -2 | D9: 2 | E9: 2 | F9: 0 | G9: 0 | H9: -2 | I9: 3 | J9: 0
A10: 1168 | B10: -3 | C10: 3 | D10: -3 | E10: -2 | F10: -3 | G10: 0 | H10: -2 | I10: 0 | J10: 0
A11: 1169 | B11: 0 | C11: 0 | D11: -2 | E11: -2 | F11: 0 | G11: -3 | H11: -2 | I11: -2 | J11: -3
A12: 1178 | B12: -3 | C12: 0 | D12: 0 | E12: -4 | F12: 0 | G12: -2 | H12: 0 | I12: -4 | J12: 0
A13: 1194 | B13: -2 | C13: 0 | D13: -3 | E13: -4 | F13: 0 | G13: 0 | H13: 0 | I13: 2 | J13: 3
... A37: 1378 | B37: -2 | C37: 2 | D37: 2 | E37: -3 | F37: 3 | G37: 0 | H37: 2 | I37: 3 | J37: 0
A38: Moy | B38: =AVERAGE(B2:B37) -> -2.0555556 | C38: =AVERAGE(C2:C37) -> 1.25 | D38: =AVERAGE(D2:D37) -> -0.66666667 | E38: =AVERAGE(E2:E37) -> -1.0277778 | F38: =AVERAGE(F2:F37) -> 0.22222222 | G38: =AVERAGE(G2:G37) -> -1.75 | H38: =AVERAGE(H2:H37) -> -1.1666667 | I38: =AVERAGE(I2:I37) -> -0.33333333 | J38: =AVERAGE(J2:J37) -> 0.41666667
A39: sd | B39: =STDEV(B2:B37) -> 1.7557163 | C39: =STDEV(C2:C37) -> 1.7464249 | D39: =STDEV(D2:D37) -> 2.4142434 | E39: =STDEV(E2:E37) -> 2.035206 | F39: =STDEV(F2:F37) -> 2.2438629 | G39: =STDEV(G2:G37) -> 1.556094 | H39: =STDEV(H2:H37) -> 2.2232537 | I39: =STDEV(I2:I37) -> 2.5071327 | J39: =STDEV(J2:J37) -> 2.00535
A40: Résultats Pôles autisme et Borderline | B40: 5_NTI. La constitution de mon groupe de pairs a été difficile | C40: 6_NTI. Je me suis senti aidé par l’équipe de recherche | D40: 7_NTI. La compréhension de la méthodologie a été difficile | E40: 8_NTI. La prise de notes extensives a été facile | F40: 9_NTI. La prise en main des instruments est (a été) difficile | G40: 18_NTI. La sortie de traitement d’un patient engagé dans l’évaluation avec mes pairs a déstabilisé le groupe | H40: 19_NTI. Le consensus sur les cotations des différents instruments a toujours eu beaucoup de mal à aboutir | I40: 20_NTI. Pour faciliter le travail avec mes pairs j’utilise Skype ou une autre technologie internet | J40: 24_NTI. Présenter le suivi de mon cas et exposer ma pratique en groupe de pairs s’est avéré facile

Sheet MOT
B1: 10_MOT1 | C1: 14_MOT2 | D1: 15_MOT3
A2: 1106 | B2: 2 | C2: 0 | D2: -3
A3: 1111 | B3: 0 | C3: 0 | D3: 0
A4: 1113 | B4: 0 | C4: 2 | D4: 2
A5: 1120 | B5: 3 | C5: 0 | D5: -4
A6: 1146 | B6: 3 | C6: 4 | D6: 2
A7: 1147 | B7: 0 | C7: 3 | D7: 2
A8: 1154 | B8: 0 | C8: 4 | D8: -3
A9: 1167 | B9: -2 | C9: 2 | D9: 3
A10: 1168 | B10: 2 | C10: 3 | D10: 2
A11: 1169 | B11: 0 | C11: 0 | D11: 2
A12: 1178 | B12: 3 | C12: 0 | D12: 4
A13: 1194 | B13: -2 | C13: 4 | D13: 2
... A37: 1378 | B37: 4 | C37: 3 | D37: 0
A38: Moy | B38: =AVERAGE(B2:B37) -> 0.75 | C38: =AVERAGE(C2:C37) -> 2.0277778 | D38: =AVERAGE(D2:D37) -> 1.3888889
A39: sd | B39: =STDEV(B2:B37) -> 2.4068355 | C39: =STDEV(C2:C37) -> 1.6472681 | D39: =STDEV(D2:D37) -> 2.1417987
A40: Résultats Pôles autisme et Borderline | B40: 10_MOT. Le travail en groupe de pairs est (a été) le moteur principal de mon implication | C40: 14_MOT. Sur le plan professionnel cette recherche me semble importante pour défendre la pratique psychothérapique | D40: 15_MOT. La possibilité de mieux connaître ma pratique et de comprendre comment se produisent les changements chez mon patient participent à ma motivation

Sheet IMP
B1: 11_IMP1 | C1: 12_IMP2 | D1: 13_IMP3 | E1: 16_IMP4 | F1: 17_IMP5 | G1: 21_IMP6 | H1: 22_IMP7 | I1: 23_IMP8 | J1: 25_IMP9
A2: 1106 | B2: -2 | C2: 2 | D2: 0 | E2: -2 | F2: 0 | G2: -2 | H2: 0 | I2: 2 | J2: -3
A3: 1111 | B3: 3 | C3: -4 | D3: 2 | E3: 2 | F3: 4 | G3: 3 | H3: -4 | I3: 3 | J3: 2
A4: 1113 | B4: 3 | C4: -2 | D4: 4 | E4: 3 | F4: 0 | G4: 2 | H4: -3 | I4: 2 | J4: 3
A5: 1120 | B5: 4 | C5: -3 | D5: 4 | E5: 2 | F5: 3 | G5: 3 | H5: -4 | I5: 2 | J5: -2
A6: 1146 | B6: 2 | C6: -4 | D6: 0 | E6: 2 | F6: 4 | G6: 3 | H6: -3 | I6: -2 | J6: 0
A7: 1147 | B7: 4 | C7: -4 | D7: 3 | E7: 0 | F7: 4 | G7: 0 | H7: -2 | I7: 3 | J7: 2
A8: 1154 | B8: 2 | C8: -2 | D8: 0 | E8: -3 | F8: 0 | G8: 2 | H8: -2 | I8: 4 | J8: -2
A9: 1167 | B9: 4 | C9: -3 | D9: 2 | E9: 4 | F9: 3 | G9: 0 | H9: -4 | I9: 0 | J9: 0
A10: 1168 | B10: 3 | C10: -4 | D10: 0 | E10: 4 | F10: 2 | G10: 4 | H10: -4 | I10: 2 | J10: 0
A11: 1169 | B11: 3 | C11: -4 | D11: 4 | E11: 2 | F11: 3 | G11: 4 | H11: -3 | I11: 0 | J11: 0
A12: 1178 | B12: 2 | C12: -2 | D12: 0 | E12: 2 | F12: 3 | G12: 2 | H12: -3 | I12: 3 | J12: -2
A13: 1194 | B13: 0 | C13: -2 | D13: 0 | E13: 2 | F13: 3 | G13: 2 | H13: -3 | I13: 4 | J13: 0
... A37: 1378 | B37: 2 | C37: -3 | D37: 0 | E37: 0 | F37: 0 | G37: 0 | H37: -4 | I37: -2 | J37: -2
A38: Moy | B38: =AVERAGE(B2:B37) -> 1.1388889 | C38: =AVERAGE(C2:C37) -> -2.3888889 | D38: =AVERAGE(D2:D37) -> 0.86111111 | E38: =AVERAGE(E2:E37) -> 0.66666667 | F38: =AVERAGE(F2:F37) -> 1.6111111 | G38: =AVERAGE(G2:G37) -> 1.5277778 | H38: =AVERAGE(H2:H37) -> -2.6944444 | I38: =AVERAGE(I2:I37) -> 1.6666667 | J38: =AVERAGE(J2:J37) -> 0.44444444
A39: sd | B39: =STDEV(B2:B37) -> 2.3682758 | C39: =STDEV(C2:C37) -> 1.7772817 | D39: =STDEV(D2:D37) -> 2.0305211 | E39: =STDEV(E2:E37) -> 1.8822479 | F39: =STDEV(F2:F37) -> 1.9313619 | G39: =STDEV(G2:G37) -> 1.5581328 | H39: =STDEV(H2:H37) -> 1.3053613 | I39: =STDEV(I2:I37) -> 1.8047556 | J39: =STDEV(J2:J37) -> 1.8584855
A40: Résultats Pôles autisme et Borderline | B40: 11_IMP. Le travail en groupe de pairs a revitalisé ma clinique | C40: 12_IMP. Cette recherche n’a pas (eu) d’impact sur ma pratique | D40: 13_IMP. La participation à cette recherche m’a permis de préciser des questions cliniques | E40: 16_IMP. Je vois mieux les changements de mon patient depuis que j’ai commencé cette recherche | F40: 17_IMP. Les discussions cliniques en groupe de pairs ont beaucoup apporté à ma réflexion en rapport avec ce patient | G40: 21_IMP. J’ai le sentiment que cette recherche a eu un impact positif sur le processus psychothérapique du patient engagé. | H40: 22_IMP. Cette étude n’a pas suscité chez moi de questions théoriques | I40: 23_IMP. La formulation de cas est une étape intéressante pour définir l’indication d’une psychothérapie et ses objectifs | J40: 25_IMP. Ma représentation de la recherche en psychothérapie a évolué de façon positive depuis ma participation au réseau.

Sheet Feuil4
B1: Moy
A2: 22_EF7 | B2: -2.6944444
A3: 1_ER | B3: -2.3888889
A4: 12_EF2 | B4: -2.3888889
A5: 5_DE1 | B5: -2.0555556
A6: 18_DE6 | B6: -1.75
A7: 19_DE7 | B7: -1.1666667
A8: 8_DE4 | B8: -1.0277778
A9: 4_ER | B9: -0.83333333
A10: 7_DE3 | B10: -0.66666667
A11: 20_DE8 | B11: -0.33333333
A12: 3_ER | B12: -0.25
A13: 9_DE5 | B13: 0.22222222
... A26: 14_MO2 | B26: 2.0277778

Sheet Feuil5
B1: MoyAbs
A2: 9_DE5 | B2: =ABS(Feuil4!B13) -> 0.22222222
A3: 3_ER | B3: =ABS(Feuil4!B12) -> 0.25
A4: 20_DE8 | B4: =ABS(Feuil4!B11) -> 0.33333333
A5: 24_DE9 | B5: =ABS(Feuil4!B14) -> 0.41666667
A6: 25_EF9 | B6: =ABS(Feuil4!B15) -> 0.44444444
A7: 7_DE3 | B7: =ABS(Feuil4!B10) -> 0.66666667
A8: 16_EF4 | B8: =ABS(Feuil4!B16) -> 0.66666667
A9: 10_MO1 | B9: =ABS(Feuil4!B17) -> 0.75
A10: 4_ER | B10: =ABS(Feuil4!B9) -> 0.83333333
A11: 13_EF3 | B11: =ABS(Feuil4!B18) -> 0.86111111
A12: 8_DE4 | B12: =ABS(Feuil4!B8) -> 1.0277778
A13: 11_EF1 | B13: =ABS(Feuil4!B19) -> 1.1388889
A14: 19_DE7 | B14: =ABS(Feuil4!B7) -> 1.1666667
A15: 6_DE2 | B15: =ABS(Feuil4!B20) -> 1.25
A16: 15_MO3 | B16: =ABS(Feuil4!B21) -> 1.3888889
A17: 21_EF6 | B17: =ABS(Feuil4!B22) -> 1.5277778
A18: 2_ER | B18: =ABS(Feuil4!B23) -> 1.5833333
A19: 17_EF5 | B19: =ABS(Feuil4!B24) -> 1.6111111
A20: 23_EF8 | B20: =ABS(Feuil4!B25) -> 1.6666667
A21: 18_DE6 | B21: =ABS(Feuil4!B6) -> 1.75
A22: 14_MO2 | B22: =ABS(Feuil4!B26) -> 2.0277778
A23: 5_DE1 | B23: =ABS(Feuil4!B5) -> 2.0555556
A24: 1_ER | B24: =ABS(Feuil4!B3) -> 2.3888889
A25: 12_EF2 | B25: =ABS(Feuil4!B4) -> 2.3888889
A26: 22_EF7 | B26: =ABS(Feuil4!B2) -> 2.6944444

Sheet Feuil6
B1: 1106
A2: 5_DE1 | B2: -4
A3: 20_DE8 | B3: -4
A4: 6_DE2 | B4: -3
A5: 15_MO3 | B5: -3
A6: 25_EF9 | B6: -3
A7: 11_EF1 | B7: -2
A8: 16_EF4 | B8: -2
A9: 18_DE6 | B9: -2
A10: 21_EF6 | B10: -2
A11: 1_ER | B11: 0
A12: 3_ER | B12: 0
A13: 13_EF3 | B13: 0
... A26: 9_DE5 | B26: 4

Sheet Feuil7
