Workbook

Sheet Feuil1
A1: items | B1: 1106 | C1: 1111 | D1: 1113 | E1: 1120 | F1: 1146 | G1: 1147 | H1: 1154 | I1: 1167 | J1: 1168 | K1: 1169 | L1: 1178 | M1: 1194 | N1: 1206 | O1: 1226 | P1: 1232 | Q1: 1233 | R1: 1244 | S1: 1261 | T1: 1294 | U1: 1313 | V1: 1314 | W1: 1359 | X1: 1370 | Y1: 1297 | Z1: 1301 | AA1: 1292 | AB1: 1293 | AC1: 1297 | AD1: 1301 | AE1: 1343 | AF1: 1344 | AG1: 1369 | AH1: 1372 | AI1: 1374 | AJ1: 1376 | AK1: 1378 | AL1: 1381 | AM1: 1339
A2: 01. Ma décision de participer à cette étude a été difficile | B2: 0 | C2: -2 | D2: -4 | E2: 0 | F2: -4 | G2: -4 | H2: -4 | I2: -3 | J2: -2 | K2: -4 | L2: -2 | M2: -4 | N2: -4 | O2: -2 | P2: 2 | Q2: -2 | R2: -3 | S2: -3 | T2: -3 | U2: -2 | V2: -3 | W2: 0 | X2: 2 | Y2: -2 | Z2: 3 | AA2: -4 | AB2: -3 | AC2: -2 | AD2: 3 | AE2: -4 | AF2: -3 | AG2: -3 | AH2: -4 | AI2: -2 | AJ2: -2 | AK2: -4 | AL2: -3 | AM2: -4
A3: 02. Lorsque j’ai pris connaissance des objectifs de cette étude je me suis senti(e) concerné(e) | B3: 2 | C3: 0 | D3: 4 | E3: 2 | F3: 2 | G3: 0 | H3: 3 | I3: -3 | J3: 0 | K3: 3 | L3: -3 | M3: 3 | N3: -2 | O3: 0 | P3: -2 | Q3: -4 | R3: 2 | S3: 4 | T3: 3 | U3: 3 | V3: 4 | W3: 3 | X3: 2 | Y3: 4 | Z3: 4 | AA3: 4 | AB3: 0 | AC3: 4 | AD3: 4 | AE3: 4 | AF3: 0 | AG3: 0 | AH3: 4 | AI3: 3 | AJ3: 0 | AK3: 4 | AL3: 0 | AM3: 0
A4: 03. Avant cette étude je n’étais pas du tout préparé à la méthodologie de la recherche | B4: 0 | C4: 0 | D4: 0 | E4: -2 | F4: 0 | G4: 0 | H4: 0 | I4: -4 | J4: -2 | K4: 2 | L4: 4 | M4: -3 | N4: 0 | O4: -3 | P4: 3 | Q4: 3 | R4: -2 | S4: -3 | T4: 3 | U4: 0 | V4: -2 | W4: -3 | X4: 3 | Y4: 0 | Z4: 3 | AA4: 2 | AB4: -3 | AC4: 0 | AD4: 3 | AE4: -2 | AF4: -2 | AG4: 4 | AH4: 0 | AI4: 3 | AJ4: -2 | AK4: -3 | AL4: 0 | AM4: -4
A5: 04. Ma décision initiale de participer à cette recherche est issue de l’incitation d’une autre personne | B5: 3 | C5: -2 | D5: -3 | E5: -3 | F5: 0 | G5: -3 | H5: -2 | I5: 0 | J5: 0 | K5: 2 | L5: 2 | M5: -2 | N5: -2 | O5: 0 | P5: 2 | Q5: 0 | R5: -4 | S5: 4 | T5: 0 | U5: 0 | V5: -2 | W5: 2 | X5: -2 | Y5: -2 | Z5: 0 | AA5: 0 | AB5: -2 | AC5: -2 | AD5: 0 | AE5: -3 | AF5: -2 | AG5: -2 | AH5: 3 | AI5: -2 | AJ5: -2 | AK5: -2 | AL5: -4 | AM5: -2
A6: 05. La constitution de mon groupe de pairs a été difficile | B6: -4 | C6: 0 | D6: -2 | E6: 0 | F6: -3 | G6: -3 | H6: -3 | I6: -2 | J6: -3 | K6: 0 | L6: -3 | M6: -2 | N6: 3 | O6: -4 | P6: -3 | Q6: 0 | R6: -2 | S6: -4 | T6: -3 | U6: -4 | V6: -4 | W6: -2 | X6: 0 | Y6: 2 | Z6: -4 | AA6: -3 | AB6: 0 | AC6: 2 | AD6: -4 | AE6: -4 | AF6: -3 | AG6: -2 | AH6: -3 | AI6: 0 | AJ6: -3 | AK6: -2 | AL6: -2 | AM6: 0
A7: 06. Je me suis senti aidé par l’équipe de recherche | B7: -3 | C7: 2 | D7: 0 | E7: 2 | F7: 3 | G7: 2 | H7: 3 | I7: -2 | J7: 3 | K7: 0 | L7: 0 | M7: 0 | N7: 0 | O7: 0 | P7: 3 | Q7: 2 | R7: 4 | S7: 0 | T7: 2 | U7: -2 | V7: 2 | W7: 2 | X7: 0 | Y7: 2 | Z7: 2 | AA7: 4 | AB7: 0 | AC7: 2 | AD7: 2 | AE7: 3 | AF7: 3 | AG7: 2 | AH7: -2 | AI7: 2 | AJ7: 2 | AK7: 2 | AL7: 0 | AM7: 2
A8: 07. La compréhension de la méthodologie a été difficile | B8: 4 | C8: -2 | D8: -4 | E8: -2 | F8: 0 | G8: -2 | H8: 2 | I8: 2 | J8: -3 | K8: -2 | L8: 0 | M8: -3 | N8: -3 | O8: 0 | P8: 3 | Q8: -2 | R8: 0 | S8: 2 | T8: 0 | U8: -2 | V8: -2 | W8: -3 | X8: 4 | Y8: -4 | Z8: 0 | AA8: 0 | AB8: -2 | AC8: -4 | AD8: 0 | AE8: 0 | AF8: 0 | AG8: 4 | AH8: -3 | AI8: -4 | AJ8: -3 | AK8: 2 | AL8: -3 | AM8: 0
A9: 08. La prise de notes extensives a été facile | B9: 3 | C9: -3 | D9: 0 | E9: 0 | F9: -3 | G9: -2 | H9: 2 | I9: 2 | J9: -2 | K9: -2 | L9: -4 | M9: -4 | N9: 0 | O9: -2 | P9: -2 | Q9: -2 | R9: 0 | S9: -2 | T9: -2 | U9: 2 | V9: 0 | W9: 2 | X9: -2 | Y9: 0 | Z9: -4 | AA9: -2 | AB9: 0 | AC9: 0 | AD9: -4 | AE9: 3 | AF9: -2 | AG9: -2 | AH9: 2 | AI9: -3 | AJ9: 0 | AK9: -3 | AL9: -2 | AM9: 2
A10: 09. La prise en main des instruments est (a été) difficile | B10: 4 | C10: 0 | D10: 0 | E10: 0 | F10: 0 | G10: -2 | H10: 0 | I10: 0 | J10: -3 | K10: 0 | L10: 0 | M10: 0 | N10: 2 | O10: -2 | P10: -2 | Q10: -4 | R10: 4 | S10: 2 | T10: -2 | U10: 3 | V10: 0 | W10: -2 | X10: 4 | Y10: 2 | Z10: 3 | AA10: 2 | AB10: -2 | AC10: 2 | AD10: 3 | AE10: -3 | AF10: -2 | AG10: 2 | AH10: 2 | AI10: 0 | AJ10: -2 | AK10: 3 | AL10: -2 | AM10: -2
A11: 10. Le travail en groupe de pairs est (a été) le moteur principal de mon implication | B11: 2 | C11: 0 | D11: 0 | E11: 3 | F11: 3 | G11: 0 | H11: 0 | I11: -2 | J11: 2 | K11: 0 | L11: 3 | M11: -2 | N11: 0 | O11: 4 | P11: 4 | Q11: 4 | R11: -3 | S11: 3 | T11: 0 | U11: 0 | V11: 2 | W11: -3 | X11: -3 | Y11: -4 | Z11: 2 | AA11: 3 | AB11: 3 | AC11: -4 | AD11: 2 | AE11: 0 | AF11: 0 | AG11: -3 | AH11: -2 | AI11: 3 | AJ11: 0 | AK11: 4 | AL11: 0 | AM11: 0
A12: 11. Le travail en groupe de pairs a revitalisé ma clinique | B12: -2 | C12: 3 | D12: 3 | E12: 4 | F12: 2 | G12: 4 | H12: 2 | I12: 4 | J12: 3 | K12: 3 | L12: 2 | M12: 0 | N12: 2 | O12: 4 | P12: 0 | Q12: 2 | R12: -3 | S12: -2 | T12: 4 | U12: -4 | V12: 3 | W12: 0 | X12: 0 | Y12: -2 | Z12: 0 | AA12: -2 | AB12: 2 | AC12: -2 | AD12: 0 | AE12: 0 | AF12: 2 | AG12: 0 | AH12: 0 | AI12: -4 | AJ12: 3 | AK12: 2 | AL12: 4 | AM12: 2
... A26: 25. Ma représentation de la recherche en psychothérapie a évolué de façon positive depuis ma participation au réseau. | B26: -3 | C26: 2 | D26: 3 | E26: -2 | F26: 0 | G26: 2 | H26: -2 | I26: 0 | J26: 0 | K26: 0 | L26: -2 | M26: 0 | N26: 3 | O26: 2 | P26: -2 | Q26: 0 | R26: 2 | S26: -2 | T26: 2 | U26: 0 | V26: 0 | W26: 3 | X26: 0 | Y26: 0 | Z26: 0 | AA26: 2 | AB26: 0 | AC26: 0 | AD26: 0 | AE26: 0 | AF26: 4 | AG26: 2 | AH26: 4 | AI26: 0 | AJ26: 2 | AK26: -2 | AL26: 0 | AM26: 0

Sheet Desc1
B1: XLSTAT 2011.4.02 - Statistiques descriptives - le 14/01/2012 à 17:14:15
B2: Données quantitatives : Classeur = enquêtetout.xlsx / Feuille = Feuil2 / Plage = Feuil2!$B$1:$Z$37 / 36 lignes et 25 colonnes
B5: Statistiques descriptives (Données quantitatives) :
B7: Statistique | C7: 1_ER | D7: 2_ER | E7: 3_ER | F7: 4_ER | G7: 5_DE1 | H7: 6_DE2 | I7: 7_DE3 | J7: 8_DE4 | K7: 9_DE5 | L7: 10_MO1 | M7: 11_EF1 | N7: 12_EF2 | O7: 13_EF3 | P7: 14_MO2 | Q7: 15_MO3 | R7: 16_EF4 | S7: 17_EF5 | T7: 18_DE6 | U7: 19_DE7 | V7: 20_DE8 | W7: 21_EF6 | X7: 22_EF7 | Y7: 23_EF8 | Z7: 24_DE9 | AA7: 25_EF9
B8: Nb. d'observations | C8: 36 | D8: 36 | E8: 36 | F8: 36 | G8: 36 | H8: 36 | I8: 36 | J8: 36 | K8: 36 | L8: 36 | M8: 36 | N8: 36 | O8: 36 | P8: 36 | Q8: 36 | R8: 36 | S8: 36 | T8: 36 | U8: 36 | V8: 36 | W8: 36 | X8: 36 | Y8: 36 | Z8: 36 | AA8: 36
B9: Minimum | C9: -4 | D9: -4 | E9: -4 | F9: -4 | G9: -4 | H9: -3 | I9: -4 | J9: -4 | K9: -4 | L9: -4 | M9: -4 | N9: -4 | O9: -4 | P9: 0 | Q9: -4 | R9: -4 | S9: -3 | T9: -4 | U9: -4 | V9: -4 | W9: -2 | X9: -4 | Y9: -2 | Z9: -3 | AA9: -3
B10: Maximum | C10: 3 | D10: 4 | E10: 4 | F10: 4 | G10: 3 | H10: 4 | I10: 4 | J10: 3 | K10: 4 | L10: 4 | M10: 4 | N10: 3 | O10: 4 | P10: 4 | Q10: 4 | R10: 4 | S10: 4 | T10: 0 | U10: 4 | V10: 4 | W10: 4 | X10: 0 | Y10: 4 | Z10: 4 | AA10: 4
B11: 1er Quartile | C11: -4 | D11: 0 | E11: -2 | F11: -2 | G11: -3 | H11: 0 | I11: -3 | J11: -2 | K11: -2 | L11: 0 | M11: 0 | N11: -4 | O11: 0 | P11: 0 | Q11: 0 | R11: 0 | S11: 0 | T11: -3 | U11: -3 | V11: -2 | W11: 0 | X11: -4 | Y11: 0 | Z11: -0.5 | AA11: 0
B12: Médiane | C12: -3 | D12: 2 | E12: 0 | F12: -2 | G12: -2.5 | H12: 2 | I12: -1 | J12: -2 | K12: 0 | L12: 0 | M12: 2 | N12: -3 | O12: 0 | P12: 3 | Q12: 2 | R12: 0 | S12: 2 | T12: -2 | U12: -2 | V12: 0 | W12: 2 | X12: -3 | Y12: 2 | Z12: 0 | AA12: 0
B13: 3ème Quartile | C13: -2 | D13: 4 | E13: 2 | F13: 0 | G13: -1.5 | H13: 2 | I13: 0.5 | J13: 0 | K13: 2 | L13: 3 | M13: 3 | N13: -2 | O13: 2 | P13: 3 | Q13: 3 | R13: 2 | S13: 3 | T13: 0 | U13: 0 | V13: 2 | W13: 3 | X13: -2 | Y13: 3 | Z13: 2 | AA13: 2
B14: Moyenne | C14: -2.3888889 | D14: 1.5833333 | E14: -0.25 | F14: -0.83333333 | G14: -2.0555556 | H14: 1.25 | I14: -0.66666667 | J14: -1.0277778 | K14: 0.22222222 | L14: 0.75 | M14: 1.1388889 | N14: -2.3888889 | O14: 0.86111111 | P14: 2.0277778 | Q14: 1.3888889 | R14: 0.66666667 | S14: 1.6111111 | T14: -1.75 | U14: -1.1666667 | V14: -0.33333333 | W14: 1.5277778 | X14: -2.6944444 | Y14: 1.6666667 | Z14: 0.41666667 | AA14: 0.44444444
B15: Variance (n-1) | C15: 3.4444444 | D15: 5.5642857 | E15: 5.6785714 | F15: 4.2571429 | G15: 3.0825397 | H15: 3.05 | I15: 5.8285714 | J15: 4.1420635 | K15: 5.0349206 | L15: 5.7928571 | M15: 5.6087302 | N15: 3.1587302 | O15: 4.1230159 | P15: 2.7134921 | Q15: 4.5873016 | R15: 3.5428571 | S15: 3.7301587 | T15: 2.4214286 | U15: 4.9428571 | V15: 6.2857143 | W15: 2.4277778 | X15: 1.7039683 | Y15: 3.2571429 | Z15: 4.0214286 | AA15: 3.4539683
B16: Ecart-type (n-1) | C16: 1.8559215 | D16: 2.3588738 | E16: 2.3829753 | F16: 2.0632845 | G16: 1.7557163 | H16: 1.7464249 | I16: 2.4142434 | J16: 2.035206 | K16: 2.2438629 | L16: 2.4068355 | M16: 2.3682758 | N16: 1.7772817 | O16: 2.0305211 | P16: 1.6472681 | Q16: 2.1417987 | R16: 1.8822479 | S16: 1.9313619 | T16: 1.556094 | U16: 2.2232537 | V16: 2.5071327 | W16: 1.5581328 | X16: 1.3053613 | Y16: 1.8047556 | Z16: 2.00535 | AA16: 1.8584855
B19: Box plots :

Sheet Desc
B1: XLSTAT 2011.4.02 - Statistiques descriptives - le 14/01/2012 à 17:08:58
B2: Données quantitatives : Classeur = enquêtetout.xlsx / Feuille = Feuil1 / Plage = Feuil1!$B$1:$AM$26 / 25 lignes et 38 colonnes
B5: Statistiques descriptives (Données quantitatives) :
B7: Statistique | C7: 1106 | D7: 1111 | E7: 1113 | F7: 1120 | G7: 1146 | H7: 1147 | I7: 1154 | J7: 1167 | K7: 1168 | L7: 1169 | M7: 1178 | N7: 1194 | O7: 1206 | P7: 1226 | Q7: 1232 | R7: 1233 | S7: 1244 | T7: 1261 | U7: 1294 | V7: 1313 | W7: 1314 | X7: 1359 | Y7: 1370 | Z7: 1297 | AA7: 1301 | AB7: 1292 | AC7: 1293 | AD7: 1297 | AE7: 1301 | AF7: 1343 | AG7: 1344 | AH7: 1369 | AI7: 1372 | AJ7: 1374 | AK7: 1376 | AL7: 1378 | AM7: 1381 | AN7: 1339
B8: Nb. d'observations | C8: 25 | D8: 25 | E8: 25 | F8: 25 | G8: 25 | H8: 25 | I8: 25 | J8: 25 | K8: 25 | L8: 25 | M8: 25 | N8: 25 | O8: 25 | P8: 25 | Q8: 25 | R8: 25 | S8: 25 | T8: 25 | U8: 25 | V8: 25 | W8: 25 | X8: 25 | Y8: 25 | Z8: 25 | AA8: 25 | AB8: 25 | AC8: 25 | AD8: 25 | AE8: 25 | AF8: 25 | AG8: 25 | AH8: 25 | AI8: 25 | AJ8: 25 | AK8: 25 | AL8: 25 | AM8: 25 | AN8: 25
B9: Minimum | C9: -4 | D9: -4 | E9: -4 | F9: -4 | G9: -4 | H9: -4 | I9: -4 | J9: -4 | K9: -4 | L9: -4 | M9: -4 | N9: -4 | O9: -4 | P9: -4 | Q9: -4 | R9: -4 | S9: -4 | T9: -4 | U9: -4 | V9: -4 | W9: -4 | X9: -4 | Y9: -4 | Z9: -4 | AA9: -4 | AB9: -4 | AC9: -4 | AD9: -4 | AE9: -4 | AF9: -4 | AG9: -4 | AH9: -4 | AI9: -4 | AJ9: -4 | AK9: -4 | AL9: -4 | AM9: -4 | AN9: -4
B10: Maximum | C10: 4 | D10: 4 | E10: 4 | F10: 4 | G10: 4 | H10: 4 | I10: 4 | J10: 4 | K10: 4 | L10: 4 | M10: 4 | N10: 4 | O10: 4 | P10: 4 | Q10: 4 | R10: 4 | S10: 4 | T10: 4 | U10: 4 | V10: 4 | W10: 4 | X10: 4 | Y10: 4 | Z10: 4 | AA10: 4 | AB10: 4 | AC10: 4 | AD10: 4 | AE10: 4 | AF10: 4 | AG10: 4 | AH10: 4 | AI10: 4 | AJ10: 4 | AK10: 4 | AL10: 4 | AM10: 4 | AN10: 4
B11: 1er Quartile | C11: -2 | D11: -2 | E11: -2 | F11: -2 | G11: -2 | H11: -2 | I11: -2 | J11: -2 | K11: -2 | L11: -2 | M11: -2 | N11: -2 | O11: -2 | P11: -2 | Q11: -2 | R11: -2 | S11: -2 | T11: -2 | U11: -2 | V11: -2 | W11: -2 | X11: -2 | Y11: -2 | Z11: -2 | AA11: -2 | AB11: -2 | AC11: -2 | AD11: -2 | AE11: -2 | AF11: -2 | AG11: -2 | AH11: -2 | AI11: -2 | AJ11: -2 | AK11: -2 | AL11: -2 | AM11: -2 | AN11: -2
B12: Médiane | C12: 0 | D12: 0 | E12: 0 | F12: 0 | G12: 0 | H12: 0 | I12: 0 | J12: 0 | K12: 0 | L12: 0 | M12: 0 | N12: 0 | O12: 0 | P12: 0 | Q12: 0 | R12: 0 | S12: 0 | T12: 0 | U12: 0 | V12: 0 | W12: 0 | X12: 0 | Y12: 0 | Z12: 0 | AA12: 0 | AB12: 0 | AC12: 0 | AD12: 0 | AE12: 0 | AF12: 0 | AG12: 0 | AH12: 0 | AI12: 0 | AJ12: 0 | AK12: 0 | AL12: 0 | AM12: 0 | AN12: 0
B13: 3ème Quartile | C13: 2 | D13: 2 | E13: 2 | F13: 2 | G13: 2 | H13: 2 | I13: 2 | J13: 2 | K13: 2 | L13: 2 | M13: 2 | N13: 2 | O13: 2 | P13: 2 | Q13: 2 | R13: 2 | S13: 2 | T13: 2 | U13: 2 | V13: 2 | W13: 2 | X13: 2 | Y13: 2 | Z13: 2 | AA13: 2 | AB13: 2 | AC13: 2 | AD13: 2 | AE13: 2 | AF13: 2 | AG13: 2 | AH13: 2 | AI13: 2 | AJ13: 2 | AK13: 2 | AL13: 2 | AM13: 2 | AN13: 2
B14: Moyenne | C14: 0 | D14: 1.110223e-16 | E14: 5.5511151e-17 | F14: 1.3877788e-17 | G14: -6.6613381e-17 | H14: -5.5511151e-17 | I14: -5.5511151e-17 | J14: 4.8849813e-17 | K14: 7.6605389e-17 | L14: 1.0658141e-16 | M14: -6.9388939e-17 | N14: -1.0658141e-16 | O14: -8.3266727e-17 | P14: 1.110223e-16 | Q14: 2.7755576e-17 | R14: -2.220446e-17 | S14: -8.3266727e-17 | T14: -5.5511151e-17 | U14: -2.7755576e-17 | V14: -2.6645353e-17 | W14: 5.1070259e-17 | X14: -2.7755576e-17 | Y14: -1.0658141e-16 | Z14: -2.553513e-17 | AA14: 0 | AB14: 0 | AC14: -5.3290705e-17 | AD14: -2.553513e-17 | AE14: 0 | AF14: -2.6645353e-17 | AG14: -5.5511151e-17 | AH14: -2.7755576e-17 | AI14: 5.5511151e-17 | AJ14: 0 | AK14: 1.3877788e-17 | AL14: 0 | AM14: -2.6645353e-17 | AN14: -6.6613381e-17
B15: Variance (n-1) | C15: 6.25 | D15: 6.25 | E15: 6.25 | F15: 6.25 | G15: 6.25 | H15: 6.25 | I15: 6.25 | J15: 6.25 | K15: 6.25 | L15: 6.25 | M15: 6.25 | N15: 6.25 | O15: 6.25 | P15: 6.25 | Q15: 6.25 | R15: 6.25 | S15: 6.25 | T15: 6.25 | U15: 6.25 | V15: 6.25 | W15: 6.25 | X15: 6.25 | Y15: 6.25 | Z15: 6.25 | AA15: 6.25 | AB15: 6.25 | AC15: 6.25 | AD15: 6.25 | AE15: 6.25 | AF15: 6.25 | AG15: 6.25 | AH15: 6.25 | AI15: 6.25 | AJ15: 6.25 | AK15: 6.25 | AL15: 6.25 | AM15: 6.25 | AN15: 6.25
B16: Ecart-type (n-1) | C16: 2.5 | D16: 2.5 | E16: 2.5 | F16: 2.5 | G16: 2.5 | H16: 2.5 | I16: 2.5 | J16: 2.5 | K16: 2.5 | L16: 2.5 | M16: 2.5 | N16: 2.5 | O16: 2.5 | P16: 2.5 | Q16: 2.5 | R16: 2.5 | S16: 2.5 | T16: 2.5 | U16: 2.5 | V16: 2.5 | W16: 2.5 | X16: 2.5 | Y16: 2.5 | Z16: 2.5 | AA16: 2.5 | AB16: 2.5 | AC16: 2.5 | AD16: 2.5 | AE16: 2.5 | AF16: 2.5 | AG16: 2.5 | AH16: 2.5 | AI16: 2.5 | AJ16: 2.5 | AK16: 2.5 | AL16: 2.5 | AM16: 2.5 | AN16: 2.5
B19: Box plots :

Sheet Feuil2
B1: 1_ER | C1: 2_ER | D1: 3_ER | E1: 4_ER | F1: 5_DE1 | G1: 6_DE2 | H1: 7_DE3 | I1: 8_DE4 | J1: 9_DE5 | K1: 10_MO1 | L1: 11_EF1 | M1: 12_EF2 | N1: 13_EF3 | O1: 14_MO2 | P1: 15_MO3 | Q1: 16_EF4 | R1: 17_EF5 | S1: 18_DE6 | T1: 19_DE7 | U1: 20_DE8 | V1: 21_EF6 | W1: 22_EF7 | X1: 23_EF8 | Y1: 24_DE9 | Z1: 25_EF9
A2: 1106 | B2: 0 | C2: 2 | D2: 0 | E2: 3 | F2: -4 | G2: -3 | H2: 4 | I2: 3 | J2: 4 | K2: 2 | L2: -2 | M2: 2 | N2: 0 | O2: 0 | P2: -3 | Q2: -2 | R2: 0 | S2: -2 | T2: 0 | U2: -4 | V2: -2 | W2: 0 | X2: 2 | Y2: 3 | Z2: -3
A3: 1111 | B3: -2 | C3: 0 | D3: 0 | E3: -2 | F3: 0 | G3: 2 | H3: -2 | I3: -3 | J3: 0 | K3: 0 | L3: 3 | M3: -4 | N3: 2 | O3: 0 | P3: 0 | Q3: 2 | R3: 4 | S3: -3 | T3: -3 | U3: 4 | V3: 3 | W3: -4 | X3: 3 | Y3: -2 | Z3: 2
A4: 1113 | B4: -4 | C4: 4 | D4: 0 | E4: -3 | F4: -2 | G4: 0 | H4: -4 | I4: 0 | J4: 0 | K4: 0 | L4: 3 | M4: -2 | N4: 4 | O4: 2 | P4: 2 | Q4: 3 | R4: 0 | S4: 0 | T4: -2 | U4: -3 | V4: 2 | W4: -3 | X4: 2 | Y4: -2 | Z4: 3
A5: 1120 | B5: 0 | C5: 2 | D5: -2 | E5: -3 | F5: 0 | G5: 2 | H5: -2 | I5: 0 | J5: 0 | K5: 3 | L5: 4 | M5: -3 | N5: 4 | O5: 0 | P5: -4 | Q5: 2 | R5: 3 | S5: -2 | T5: -3 | U5: 0 | V5: 3 | W5: -4 | X5: 2 | Y5: 0 | Z5: -2
A6: 1146 | B6: -4 | C6: 2 | D6: 0 | E6: 0 | F6: -3 | G6: 3 | H6: 0 | I6: -3 | J6: 0 | K6: 3 | L6: 2 | M6: -4 | N6: 0 | O6: 4 | P6: 2 | Q6: 2 | R6: 4 | S6: 0 | T6: -2 | U6: -2 | V6: 3 | W6: -3 | X6: -2 | Y6: -2 | Z6: 0
A7: 1147 | B7: -4 | C7: 0 | D7: 0 | E7: -3 | F7: -3 | G7: 2 | H7: -2 | I7: -2 | J7: -2 | K7: 0 | L7: 4 | M7: -4 | N7: 3 | O7: 3 | P7: 2 | Q7: 0 | R7: 4 | S7: 0 | T7: -3 | U7: 0 | V7: 0 | W7: -2 | X7: 3 | Y7: 2 | Z7: 2
A8: 1154 | B8: -4 | C8: 3 | D8: 0 | E8: -2 | F8: -3 | G8: 3 | H8: 2 | I8: 2 | J8: 0 | K8: 0 | L8: 2 | M8: -2 | N8: 0 | O8: 4 | P8: -3 | Q8: -3 | R8: 0 | S8: 0 | T8: -4 | U8: 0 | V8: 2 | W8: -2 | X8: 4 | Y8: 3 | Z8: -2
A9: 1167 | B9: -3 | C9: -3 | D9: -4 | E9: 0 | F9: -2 | G9: -2 | H9: 2 | I9: 2 | J9: 0 | K9: -2 | L9: 4 | M9: -3 | N9: 2 | O9: 2 | P9: 3 | Q9: 4 | R9: 3 | S9: 0 | T9: -2 | U9: 3 | V9: 0 | W9: -4 | X9: 0 | Y9: 0 | Z9: 0
A10: 1168 | B10: -2 | C10: 0 | D10: -2 | E10: 0 | F10: -3 | G10: 3 | H10: -3 | I10: -2 | J10: -3 | K10: 2 | L10: 3 | M10: -4 | N10: 0 | O10: 3 | P10: 2 | Q10: 4 | R10: 2 | S10: 0 | T10: -2 | U10: 0 | V10: 4 | W10: -4 | X10: 2 | Y10: 0 | Z10: 0
A11: 1169 | B11: -4 | C11: 3 | D11: 2 | E11: 2 | F11: 0 | G11: 0 | H11: -2 | I11: -2 | J11: 0 | K11: 0 | L11: 3 | M11: -4 | N11: 4 | O11: 0 | P11: 2 | Q11: 2 | R11: 3 | S11: -3 | T11: -2 | U11: -2 | V11: 4 | W11: -3 | X11: 0 | Y11: -3 | Z11: 0
A12: 1178 | B12: -2 | C12: -3 | D12: 4 | E12: 2 | F12: -3 | G12: 0 | H12: 0 | I12: -4 | J12: 0 | K12: 3 | L12: 2 | M12: -2 | N12: 0 | O12: 0 | P12: 4 | Q12: 2 | R12: 3 | S12: -2 | T12: 0 | U12: -4 | V12: 2 | W12: -3 | X12: 3 | Y12: 0 | Z12: -2
A13: 1194 | B13: -4 | C13: 3 | D13: -3 | E13: -2 | F13: -2 | G13: 0 | H13: -3 | I13: -4 | J13: 0 | K13: -2 | L13: 0 | M13: -2 | N13: 0 | O13: 4 | P13: 2 | Q13: 2 | R13: 3 | S13: 0 | T13: 0 | U13: 2 | V13: 2 | W13: -3 | X13: 4 | Y13: 3 | Z13: 0
... A37: 1378 | B37: -4 | C37: 4 | D37: -3 | E37: -2 | F37: -2 | G37: 2 | H37: 2 | I37: -3 | J37: 3 | K37: 4 | L37: 2 | M37: -3 | N37: 0 | O37: 3 | P37: 0 | Q37: 0 | R37: 0 | S37: 0 | T37: 2 | U37: 3 | V37: 0 | W37: -4 | X37: -2 | Y37: 0 | Z37: -2
A38: Moy | B38: =AVERAGE(B2:B37) -> -2.3888889 | C38: =AVERAGE(C2:C37) -> 1.5833333 | D38: =AVERAGE(D2:D37) -> -0.25 | E38: =AVERAGE(E2:E37) -> -0.83333333 | F38: =AVERAGE(F2:F37) -> -2.0555556 | G38: =AVERAGE(G2:G37) -> 1.25 | H38: =AVERAGE(H2:H37) -> -0.66666667 | I38: =AVERAGE(I2:I37) -> -1.0277778 | ... Z38: =AVERAGE(Z2:Z37) -> 0.44444444
A39: sd | B39: =STDEV(B2:B37) -> 1.8559215 | C39: =STDEV(C2:C37) -> 2.3588738 | D39: =STDEV(D2:D37) -> 2.3829753 | E39: =STDEV(E2:E37) -> 2.0632845 | F39: =STDEV(F2:F37) -> 1.7557163 | G39: =STDEV(G2:G37) -> 1.7464249 | H39: =STDEV(H2:H37) -> 2.4142434 | I39: =STDEV(I2:I37) -> 2.035206 | ... Z39: =STDEV(Z2:Z37) -> 1.8584855
A40: Résultats Pôles autisme et Borderline | B40: 1_ER1. Ma décision de participer à cette étude a été difficile | C40: 2_ER2. Lorsque j’ai pris connaissance des objectifs de cette étude je me suis senti(e) concerné(e) | D40: 3_ER3. Avant cette étude je n’étais pas du tout préparé à la méthodologie de la recherche | E40: 4_ER4. Ma décision initiale de participer à cette recherche est issue de l’incitation d’une autre personne | F40: 5_NTI. La constitution de mon groupe de pairs a été difficile | G40: 6_NTI. Je me suis senti aidé par l’équipe de recherche | H40: 7_NTI. La compréhension de la méthodologie a été difficile | I40: 8_NTI. La prise de notes extensives a été facile | J40: 9_NTI. La prise en main des instruments est (a été) difficile | K40: 10_MOT. Le travail en groupe de pairs est (a été) le moteur principal de mon implication | L40: 11_IMP. Le travail en groupe de pairs a revitalisé ma clinique | M40: 12_IMP. Cette recherche n’a pas (eu) d’impact sur ma pratique | N40: 13_IMP. La participation à cette recherche m’a permis de préciser des questions cliniques | O40: 14_MOT. Sur le plan professionnel cette recherche me semble importante pour défendre la pratique psychothérapique | P40: 15_MOT. La possibilité de mieux connaître ma pratique et de comprendre comment se produisent les changements chez mon patient participent à ma motivation | Q40: 16_IMP. Je vois mieux les changements de mon patient depuis que j’ai commencé cette recherche | R40: 17_IMP. Les discussions cliniques en groupe de pairs ont beaucoup apporté à ma réflexion en rapport avec ce patient | S40: 18_NTI. La sortie de traitement d’un patient engagé dans l’évaluation avec mes pairs a déstabilisé le groupe | T40: 19_NTI. Le consensus sur les cotations des différents instruments a toujours eu beaucoup de mal à aboutir | U40: 20_NTI. Pour faciliter le travail avec mes pairs j’utilise Skype ou une autre technologie internet | V40: 21_IMP. J’ai le sentiment que cette recherche a eu un impact positif sur le processus psychothérapique du patient engagé. | W40: 22_IMP. Cette étude n’a pas suscité chez moi de questions théoriques | X40: 23_IMP. La formulation de cas est une étape intéressante pour définir l’indication d’une psychothérapie et ses objectifs | Y40: 24_NTI. Présenter le suivi de mon cas et exposer ma pratique en groupe de pairs s’est avéré facile | Z40: 25_IMP. Ma représentation de la recherche en psychothérapie a évolué de façon positive depuis ma participation au réseau.

Sheet Histogramme_HID
A1: -4 | B1: 0 | E1: -4 | F1: 0 | I1: -4 | J1: 0 | M1: -4 | N1: 0 | Q1: -4 | R1: 0 | U1: -4 | V1: 0 | Y1: -4 | Z1: 0 | AC1: -4 | AD1: 0 | AG1: -4 | AH1: 0 | AK1: -4 | AL1: 0 | AO1: -3 | AP1: 0 | AS1: -3 | AT1: 0 | AW1: -4 | AX1: 0 | BA1: -4 | BB1: 0 | BE1: -4 | BF1: 0 | BI1: -4 | BJ1: 0 | BM1: -4 | BN1: 0 | BQ1: -4 | BR1: 0 | BU1: -4 | BV1: 0 | BY1: -4 | BZ1: 0 | CC1: -4 | CD1: 0 | CG1: -4 | CH1: 0 | CK1: -4 | CL1: 0 | CO1: -4 | CP1: 0 | CS1: -4 | CT1: 0 | CW1: -4 | CX1: 0 | DA1: 0 | DB1: 0 | DE1: 0 | DF1: 0 | DI1: -4 | DJ1: 0 | DM1: -4 | DN1: 0 | DQ1: -4 | DR1: 0 | DU1: -4 | DV1: 0 | DY1: -3 | DZ1: 0 | EC1: -3 | ED1: 0 | EG1: -4 | EH1: 0 | EK1: -4 | EL1: 0 | EO1: -4 | EP1: 0 | ES1: -4 | ET1: 0 | EW1: -4 | EX1: 0 | FA1: -4 | FB1: 0 | FE1: -2 | FF1: 0 | FI1: -2 | FJ1: 0 | FM1: -4 | FN1: 0 | FQ1: -4 | FR1: 0 | FU1: -2 | FV1: 0 | FY1: -2 | FZ1: 0 | GC1: -3 | GD1: 0 | GG1: -3 | GH1: 0 | GK1: -3 | GL1: 0 | GO1: -3 | GP1: 0
A2: -4 | B2: 0.33333333 | E2: -4 | F2: 0.33333333 | I2: -4 | J2: 0.027777778 | M2: -4 | N2: 0.027777778 | Q2: -4 | R2: 0.027777778 | U2: -4 | V2: 0.027777778 | Y2: -4 | Z2: 0.055555556 | AC2: -4 | AD2: 0.055555556 | AG2: -4 | AH2: 0.19444444 | AK2: -4 | AL2: 0.19444444 | AO2: -3 | AP2: 0.027777778 | AS2: -3 | AT2: 0.027777778 | AW2: -4 | AX2: 0.083333333 | BA2: -4 | BB2: 0.083333333 | BE2: -4 | BF2: 0.083333333 | BI2: -4 | BJ2: 0.083333333 | BM2: -4 | BN2: 0.027777778 | BQ2: -4 | BR2: 0.027777778 | BU2: -4 | BV2: 0.027777778 | BY2: -4 | BZ2: 0.027777778 | CC2: -4 | CD2: 0.055555556 | CG2: -4 | CH2: 0.055555556 | CK2: -4 | CL2: 0.30555556 | CO2: -4 | CP2: 0.30555556 | CS2: -4 | CT2: 0.027777778 | CW2: -4 | CX2: 0.027777778 | DA2: 0 | DB2: 0.36111111 | DE2: 0 | DF2: 0.36111111 | DI2: -4 | DJ2: 0.027777778 | DM2: -4 | DN2: 0.027777778 | DQ2: -4 | DR2: 0.027777778 | DU2: -4 | DV2: 0.027777778 | DY2: -3 | DZ2: 0.027777778 | EC2: -3 | ED2: 0.027777778 | EG2: -4 | EH2: 0.16666667 | EK2: -4 | EL2: 0.16666667 | EO2: -4 | EP2: 0.11111111 | ES2: -4 | ET2: 0.11111111 | EW2: -4 | EX2: 0.11111111 | FA2: -4 | FB2: 0.11111111 | FE2: -2 | FF2: 0.027777778 | FI2: -2 | FJ2: 0.027777778 | FM2: -4 | FN2: 0.30555556 | FQ2: -4 | FR2: 0.30555556 | FU2: -2 | FV2: 0.11111111 | FY2: -2 | FZ2: 0.11111111 | GC2: -3 | GD2: 0.055555556 | GG2: -3 | GH2: 0.055555556 | GK2: -3 | GL2: 0.027777778 | GO2: -3 | GP2: 0.027777778
A3: -3.29 | B3: 0.33333333 | E3: -3.9964851 | F3: 0.33333333 | I3: -3.19 | J3: 0.027777778 | M3: -3.9959901 | N3: 0.027777778 | Q3: -3.19 | R3: 0.027777778 | U3: -3.9959901 | V3: 0.027777778 | Y3: -3.19 | Z3: 0.055555556 | AC3: -3.9959901 | AD3: 0.055555556 | AG3: -3.29 | AH3: 0.19444444 | AK3: -3.9964851 | AL3: 0.19444444 | AO3: -2.29 | AP3: 0.027777778 | AS3: -2.9964851 | AT3: 0.027777778 | AW3: -3.19 | AX3: 0.083333333 | BA3: -3.9959901 | BB3: 0.083333333 | BE3: -3.29 | BF3: 0.083333333 | BI3: -3.9964851 | BJ3: 0.083333333 | BM3: -3.19 | BN3: 0.027777778 | BQ3: -3.9959901 | BR3: 0.027777778 | BU3: -3.19 | BV3: 0.027777778 | BY3: -3.9959901 | BZ3: 0.027777778 | CC3: -3.19 | CD3: 0.055555556 | CG3: -3.9959901 | CH3: 0.055555556 | CK3: -3.29 | CL3: 0.30555556 | CO3: -3.9964851 | CP3: 0.30555556 | CS3: -3.19 | CT3: 0.027777778 | CW3: -3.9959901 | CX3: 0.027777778 | DA3: 0.41 | DB3: 0.36111111 | DE3: 0.002029703 | DF3: 0.36111111 | DI3: -3.19 | DJ3: 0.027777778 | DM3: -3.9959901 | DN3: 0.027777778 | DQ3: -3.19 | DR3: 0.027777778 | DU3: -3.9959901 | DV3: 0.027777778 | DY3: -2.29 | DZ3: 0.027777778 | EC3: -2.9964851 | ED3: 0.027777778 | EG3: -3.59 | EH3: 0.16666667 | EK3: -3.9979703 | EL3: 0.16666667 | EO3: -3.19 | EP3: 0.11111111 | ES3: -3.9959901 | ET3: 0.11111111 | EW3: -3.19 | EX3: 0.11111111 | FA3: -3.9959901 | FB3: 0.11111111 | FE3: -1.39 | FF3: 0.027777778 | FI3: -1.99695 | FJ3: 0.027777778 | FM3: -3.59 | FN3: 0.30555556 | FQ3: -3.9979703 | FR3: 0.30555556 | FU3: -1.39 | FV3: 0.11111111 | FY3: -1.99695 | FZ3: 0.11111111 | GC3: -2.29 | GD3: 0.055555556 | GG3: -2.9964851 | GH3: 0.055555556 | GK3: -2.29 | GL3: 0.027777778 | GO3: -2.9964851 | GP3: 0.027777778
A4: -3.29 | B4: 0 | E4: -3.9964851 | F4: 0 | I4: -3.19 | J4: 0 | M4: -3.9959901 | N4: 0 | Q4: -3.19 | R4: 0 | U4: -3.9959901 | V4: 0 | Y4: -3.19 | Z4: 0 | AC4: -3.9959901 | AD4: 0 | AG4: -3.29 | AH4: 0 | AK4: -3.9964851 | AL4: 0 | AO4: -2.29 | AP4: 0 | AS4: -2.9964851 | AT4: 0 | AW4: -3.19 | AX4: 0 | BA4: -3.9959901 | BB4: 0 | BE4: -3.29 | BF4: 0 | BI4: -3.9964851 | BJ4: 0 | BM4: -3.19 | BN4: 0 | BQ4: -3.9959901 | BR4: 0 | BU4: -3.19 | BV4: 0 | BY4: -3.9959901 | BZ4: 0 | CC4: -3.19 | CD4: 0 | CG4: -3.9959901 | CH4: 0 | CK4: -3.29 | CL4: 0 | CO4: -3.9964851 | CP4: 0 | CS4: -3.19 | CT4: 0 | CW4: -3.9959901 | CX4: 0 | DA4: 0.41 | DB4: 0 | DE4: 0.002029703 | DF4: 0 | DI4: -3.19 | DJ4: 0 | DM4: -3.9959901 | DN4: 0 | DQ4: -3.19 | DR4: 0 | DU4: -3.9959901 | DV4: 0 | DY4: -2.29 | DZ4: 0 | EC4: -2.9964851 | ED4: 0 | EG4: -3.59 | EH4: 0 | EK4: -3.9979703 | EL4: 0 | EO4: -3.19 | EP4: 0 | ES4: -3.9959901 | ET4: 0 | EW4: -3.19 | EX4: 0 | FA4: -3.9959901 | FB4: 0 | FE4: -1.39 | FF4: 0 | FI4: -1.99695 | FJ4: 0 | FM4: -3.59 | FN4: 0 | FQ4: -3.9979703 | FR4: 0 | FU4: -1.39 | FV4: 0 | FY4: -1.99695 | FZ4: 0 | GC4: -2.29 | GD4: 0 | GG4: -2.9964851 | GH4: 0 | GK4: -2.29 | GL4: 0 | GO4: -2.9964851 | GP4: 0
A5: -3.29 | B5: 0.25 | E5: -3.9929703 | F5: 0 | I5: -3.19 | J5: 0.055555556 | M5: -3.9919802 | N5: 0 | Q5: -3.19 | R5: 0.19444444 | U5: -3.9919802 | V5: 0 | Y5: -3.19 | Z5: 0.11111111 | AC5: -3.9919802 | AD5: 0 | AG5: -3.29 | AH5: 0.30555556 | AK5: -3.9929703 | AL5: 0 | AO5: -2.29 | AP5: 0.083333333 | AS5: -2.9929703 | AT5: 0 | AW5: -3.19 | AX5: 0.19444444 | BA5: -3.9919802 | BB5: 0 | BE5: -3.29 | BF5: 0.13888889 | BI5: -3.9929703 | BJ5: 0 | BM5: -3.19 | BN5: 0.055555556 | BQ5: -3.9919802 | BR5: 0 | BU5: -3.19 | BV5: 0.11111111 | BY5: -3.9919802 | BZ5: 0 | CC5: -3.19 | CD5: 0.027777778 | CG5: -3.9919802 | CH5: 0 | CK5: -3.29 | CL5: 0.30555556 | CO5: -3.9929703 | CP5: 0 | CS5: -3.19 | CT5: 0.055555556 | CW5: -3.9919802 | CX5: 0 | DA5: 0.41 | DB5: 0 | DE5: 0.0040594059 | DF5: 0 | DI5: -3.19 | DJ5: 0.083333333 | DM5: -3.9919802 | DN5: 0 | DQ5: -3.19 | DR5: 0.055555556 | DU5: -3.9919802 | DV5: 0 | DY5: -2.29 | DZ5: 0.055555556 | EC5: -2.9929703 | ED5: 0 | EG5: -3.59 | EH5: 0 | EK5: -3.9959406 | EL5: 0 | EO5: -3.19 | EP5: 0.25 | ES5: -3.9919802 | ET5: 0 | EW5: -3.19 | EX5: 0.11111111 | FA5: -3.9919802 | FB5: 0 | FE5: -1.39 | FF5: 0 | FI5: -1.9939 | FJ5: 0 | FM5: -3.59 | FN5: 0 | FQ5: -3.9959406 | FR5: 0 | FU5: -1.39 | FV5: 0 | FY5: -1.9939 | FZ5: 0 | GC5: -2.29 | GD5: 0.19444444 | GG5: -2.9929703 | GH5: 0 | GK5: -2.29 | GL5: 0.19444444 | GO5: -2.9929703 | GP5: 0
A6: -2.58 | B6: 0.25 | E6: -3.9929703 | F6: 0.33333333 | I6: -2.38 | J6: 0.055555556 | M6: -3.9919802 | N6: 0.027777778 | Q6: -2.38 | R6: 0.19444444 | U6: -3.9919802 | V6: 0.027777778 | Y6: -2.38 | Z6: 0.11111111 | AC6: -3.9919802 | AD6: 0.055555556 | AG6: -2.58 | AH6: 0.30555556 | AK6: -3.9929703 | AL6: 0.19444444 | AO6: -1.58 | AP6: 0.083333333 | AS6: -2.9929703 | AT6: 0.027777778 | AW6: -2.38 | AX6: 0.19444444 | BA6: -3.9919802 | BB6: 0.083333333 | BE6: -2.58 | BF6: 0.13888889 | BI6: -3.9929703 | BJ6: 0.083333333 | BM6: -2.38 | BN6: 0.055555556 | BQ6: -3.9919802 | BR6: 0.027777778 | BU6: -2.38 | BV6: 0.11111111 | BY6: -3.9919802 | BZ6: 0.027777778 | CC6: -2.38 | CD6: 0.027777778 | CG6: -3.9919802 | CH6: 0.055555556 | CK6: -2.58 | CL6: 0.30555556 | CO6: -3.9929703 | CP6: 0.30555556 | CS6: -2.38 | CT6: 0.055555556 | CW6: -3.9919802 | CX6: 0.027777778 | DA6: 0.82 | DB6: 0 | DE6: 0.0040594059 | DF6: 0.36111111 | DI6: -2.38 | DJ6: 0.083333333 | DM6: -3.9919802 | DN6: 0.027777778 | DQ6: -2.38 | DR6: 0.055555556 | DU6: -3.9919802 | DV6: 0.027777778 | DY6: -1.58 | DZ6: 0.055555556 | EC6: -2.9929703 | ED6: 0.027777778 | EG6: -3.18 | EH6: 0 | EK6: -3.9959406 | EL6: 0.16666667 | EO6: -2.38 | EP6: 0.25 | ES6: -3.9919802 | ET6: 0.11111111 | EW6: -2.38 | EX6: 0.11111111 | FA6: -3.9919802 | FB6: 0.11111111 | FE6: -0.78 | FF6: 0 | FI6: -1.9939 | FJ6: 0.027777778 | FM6: -3.18 | FN6: 0 | FQ6: -3.9959406 | FR6: 0.30555556 | FU6: -0.78 | FV6: 0 | FY6: -1.9939 | FZ6: 0.11111111 | GC6: -1.58 | GD6: 0.19444444 | GG6: -2.9929703 | GH6: 0.055555556 | GK6: -1.58 | GL6: 0.19444444 | GO6: -2.9929703 | GP6: 0.027777778
A7: -2.58 | B7: 0 | E7: -3.9894554 | F7: 0.33333333 | I7: -2.38 | J7: 0 | M7: -3.9879703 | N7: 0.027777778 | Q7: -2.38 | R7: 0 | U7: -3.9879703 | V7: 0.027777778 | Y7: -2.38 | Z7: 0 | AC7: -3.9879703 | AD7: 0.055555556 | AG7: -2.58 | AH7: 0 | AK7: -3.9894554 | AL7: 0.19444444 | AO7: -1.58 | AP7: 0 | AS7: -2.9894554 | AT7: 0.027777778 | AW7: -2.38 | AX7: 0 | BA7: -3.9879703 | BB7: 0.083333333 | BE7: -2.58 | BF7: 0 | BI7: -3.9894554 | BJ7: 0.083333333 | BM7: -2.38 | BN7: 0 | BQ7: -3.9879703 | BR7: 0.027777778 | BU7: -2.38 | BV7: 0 | BY7: -3.9879703 | BZ7: 0.027777778 | CC7: -2.38 | CD7: 0 | CG7: -3.9879703 | CH7: 0.055555556 | CK7: -2.58 | CL7: 0 | CO7: -3.9894554 | CP7: 0.30555556 | CS7: -2.38 | CT7: 0 | CW7: -3.9879703 | CX7: 0.027777778 | DA7: 0.82 | DB7: 0 | DE7: 0.0060891089 | DF7: 0.36111111 | DI7: -2.38 | DJ7: 0 | DM7: -3.9879703 | DN7: 0.027777778 | DQ7: -2.38 | DR7: 0 | DU7: -3.9879703 | DV7: 0.027777778 | DY7: -1.58 | DZ7: 0 | EC7: -2.9894554 | ED7: 0.027777778 | EG7: -3.18 | EH7: 0 | EK7: -3.9939109 | EL7: 0.16666667 | EO7: -2.38 | EP7: 0 | ES7: -3.9879703 | ET7: 0.11111111 | EW7: -2.38 | EX7: 0 | FA7: -3.9879703 | FB7: 0.11111111 | FE7: -0.78 | FF7: 0 | FI7: -1.99085 | FJ7: 0.027777778 | FM7: -3.18 | FN7: 0 | FQ7: -3.9939109 | FR7: 0.30555556 | FU7: -0.78 | FV7: 0 | FY7: -1.99085 | FZ7: 0.11111111 | GC7: -1.58 | GD7: 0 | GG7: -2.9894554 | GH7: 0.055555556 | GK7: -1.58 | GL7: 0 | GO7: -2.9894554 | GP7: 0.027777778
A8: -2.58 | B8: 0.25 | E8: -3.9894554 | F8: 0 | I8: -2.38 | J8: 0.055555556 | M8: -3.9879703 | N8: 0 | Q8: -2.38 | R8: 0.19444444 | U8: -3.9879703 | V8: 0 | Y8: -2.38 | Z8: 0.38888889 | AC8: -3.9879703 | AD8: 0 | AG8: -2.58 | AH8: 0.25 | AK8: -3.9894554 | AL8: 0 | AO8: -1.58 | AP8: 0 | AS8: -2.9894554 | AT8: 0 | AW8: -2.38 | AX8: 0.22222222 | BA8: -3.9879703 | BB8: 0 | BE8: -2.58 | BF8: 0.36111111 | BI8: -3.9894554 | BJ8: 0 | BM8: -2.38 | BN8: 0.25 | BQ8: -3.9879703 | BR8: 0 | BU8: -2.38 | BV8: 0.083333333 | BY8: -3.9879703 | BZ8: 0 | CC8: -2.38 | CD8: 0.11111111 | CG8: -3.9879703 | CH8: 0 | CK8: -2.58 | CL8: 0.19444444 | CO8: -3.9894554 | CP8: 0 | CS8: -2.38 | CT8: 0.055555556 | CW8: -3.9879703 | CX8: 0 | DA8: 0.82 | DB8: 0 | DE8: 0.0060891089 | DF8: 0 | DI8: -2.38 | DJ8: 0 | DM8: -3.9879703 | DN8: 0 | DQ8: -2.38 | DR8: 0.055555556 | DU8: -3.9879703 | DV8: 0 | DY8: -1.58 | DZ8: 0 | EC8: -2.9894554 | ED8: 0 | EG8: -3.18 | EH8: 0.19444444 | EK8: -3.9939109 | EL8: 0 | EO8: -2.38 | EP8: 0.22222222 | ES8: -3.9879703 | ET8: 0 | EW8: -2.38 | EX8: 0.19444444 | FA8: -3.9879703 | FB8: 0 | FE8: -0.78 | FF8: 0 | FI8: -1.99085 | FJ8: 0 | FM8: -3.18 | FN8: 0.36111111 | FQ8: -3.9939109 | FR8: 0 | FU8: -0.78 | FV8: 0 | FY8: -1.99085 | FZ8: 0 | GC8: -1.58 | GD8: 0 | GG8: -2.9894554 | GH8: 0 | GK8: -1.58 | GL8: 0 | GO8: -2.9894554 | GP8: 0
A9: -1.87 | B9: 0.25 | E9: -3.9859406 | F9: 0 | I9: -1.57 | J9: 0.055555556 | M9: -3.9839604 | N9: 0 | Q9: -1.57 | R9: 0.19444444 | U9: -3.9839604 | V9: 0 | Y9: -1.57 | Z9: 0.38888889 | AC9: -3.9839604 | AD9: 0 | AG9: -1.87 | AH9: 0.25 | AK9: -3.9859406 | AL9: 0 | AO9: -0.87 | AP9: 0 | AS9: -2.9859406 | AT9: 0 | AW9: -1.57 | AX9: 0.22222222 | BA9: -3.9839604 | BB9: 0 | BE9: -1.87 | BF9: 0.36111111 | BI9: -3.9859406 | BJ9: 0 | BM9: -1.57 | BN9: 0.25 | BQ9: -3.9839604 | BR9: 0 | BU9: -1.57 | BV9: 0.083333333 | BY9: -3.9839604 | BZ9: 0 | CC9: -1.57 | CD9: 0.11111111 | CG9: -3.9839604 | CH9: 0 | CK9: -1.87 | CL9: 0.19444444 | CO9: -3.9859406 | CP9: 0 | CS9: -1.57 | CT9: 0.055555556 | CW9: -3.9839604 | CX9: 0 | DA9: 1.23 | DB9: 0 | DE9: 0.0081188119 | DF9: 0 | DI9: -1.57 | DJ9: 0 | DM9: -3.9839604 | DN9: 0 | DQ9: -1.57 | DR9: 0.055555556 | DU9: -3.9839604 | DV9: 0 | DY9: -0.87 | DZ9: 0 | EC9: -2.9859406 | ED9: 0 | EG9: -2.77 | EH9: 0.19444444 | EK9: -3.9918812 | EL9: 0 | EO9: -1.57 | EP9: 0.22222222 | ES9: -3.9839604 | ET9: 0 | EW9: -1.57 | EX9: 0.19444444 | FA9: -3.9839604 | FB9: 0 | FE9: -0.17 | FF9: 0 | FI9: -1.9878 | FJ9: 0 | FM9: -2.77 | FN9: 0.36111111 | FQ9: -3.9918812 | FR9: 0 | FU9: -0.17 | FV9: 0 | FY9: -1.9878 | FZ9: 0 | GC9: -0.87 | GD9: 0 | GG9: -2.9859406 | GH9: 0 | GK9: -0.87 | GL9: 0 | GO9: -2.9859406 | GP9: 0
A10: -1.87 | B10: 0 | E10: -3.9859406 | F10: 0.33333333 | I10: -1.57 | J10: 0 | M10: -3.9839604 | N10: 0.027777778 | Q10: -1.57 | R10: 0 | U10: -3.9839604 | V10: 0.027777778 | Y10: -1.57 | Z10: 0 | AC10: -3.9839604 | AD10: 0.055555556 | AG10: -1.87 | AH10: 0 | AK10: -3.9859406 | AL10: 0.19444444 | AO10: -0.87 | AP10: 0 | AS10: -2.9859406 | AT10: 0.027777778 | AW10: -1.57 | AX10: 0 | BA10: -3.9839604 | BB10: 0.083333333 | BE10: -1.87 | BF10: 0 | BI10: -3.9859406 | BJ10: 0.083333333 | BM10: -1.57 | BN10: 0 | BQ10: -3.9839604 | BR10: 0.027777778 | BU10: -1.57 | BV10: 0 | BY10: -3.9839604 | BZ10: 0.027777778 | CC10: -1.57 | CD10: 0 | CG10: -3.9839604 | CH10: 0.055555556 | CK10: -1.87 | CL10: 0 | CO10: -3.9859406 | CP10: 0.30555556 | CS10: -1.57 | CT10: 0 | CW10: -3.9839604 | CX10: 0.027777778 | DA10: 1.23 | DB10: 0 | DE10: 0.0081188119 | DF10: 0.36111111 | DI10: -1.57 | DJ10: 0 | DM10: -3.9839604 | DN10: 0.027777778 | DQ10: -1.57 | DR10: 0 | DU10: -3.9839604 | DV10: 0.027777778 | DY10: -0.87 | DZ10: 0 | EC10: -2.9859406 | ED10: 0.027777778 | EG10: -2.77 | EH10: 0 | EK10: -3.9918812 | EL10: 0.16666667 | EO10: -1.57 | EP10: 0 | ES10: -3.9839604 | ET10: 0.11111111 | EW10: -1.57 | EX10: 0 | FA10: -3.9839604 | FB10: 0.11111111 | FE10: -0.17 | FF10: 0 | FI10: -1.9878 | FJ10: 0.027777778 | FM10: -2.77 | FN10: 0 | FQ10: -3.9918812 | FR10: 0.30555556 | FU10: -0.17 | FV10: 0 | FY10: -1.9878 | FZ10: 0.11111111 | GC10: -0.87 | GD10: 0 | GG10: -2.9859406 | GH10: 0.055555556 | GK10: -0.87 | GL10: 0 | GO10: -2.9859406 | GP10: 0.027777778
A11: -1.87 | B11: 0 | E11: -3.9824257 | F11: 0.33333333 | I11: -1.57 | J11: 0 | M11: -3.9799505 | N11: 0.027777778 | Q11: -1.57 | R11: 0 | U11: -3.9799505 | V11: 0.027777778 | Y11: -1.57 | Z11: 0 | AC11: -3.9799505 | AD11: 0.055555556 | AG11: -1.87 | AH11: 0 | AK11: -3.9824257 | AL11: 0.19444444 | AO11: -0.87 | AP11: 0 | AS11: -2.9824257 | AT11: 0.027777778 | AW11: -1.57 | AX11: 0 | BA11: -3.9799505 | BB11: 0.083333333 | BE11: -1.87 | BF11: 0 | BI11: -3.9824257 | BJ11: 0.083333333 | BM11: -1.57 | BN11: 0 | BQ11: -3.9799505 | BR11: 0.027777778 | BU11: -1.57 | BV11: 0 | BY11: -3.9799505 | BZ11: 0.027777778 | CC11: -1.57 | CD11: 0 | CG11: -3.9799505 | CH11: 0.055555556 | CK11: -1.87 | CL11: 0 | CO11: -3.9824257 | CP11: 0.30555556 | CS11: -1.57 | CT11: 0 | CW11: -3.9799505 | CX11: 0.027777778 | DA11: 1.23 | DB11: 0 | DE11: 0.010148515 | DF11: 0.36111111 | DI11: -1.57 | DJ11: 0 | DM11: -3.9799505 | DN11: 0.027777778 | DQ11: -1.57 | DR11: 0 | DU11: -3.9799505 | DV11: 0.027777778 | DY11: -0.87 | DZ11: 0 | EC11: -2.9824257 | ED11: 0.027777778 | EG11: -2.77 | EH11: 0 | EK11: -3.9898515 | EL11: 0.16666667 | EO11: -1.57 | EP11: 0 | ES11: -3.9799505 | ET11: 0.11111111 | EW11: -1.57 | EX11: 0 | FA11: -3.9799505 | FB11: 0.11111111 | FE11: -0.17 | FF11: 0.38888889 | FI11: -1.98475 | FJ11: 0.027777778 | FM11: -2.77 | FN11: 0 | FQ11: -3.9898515 | FR11: 0.30555556 | FU11: -0.17 | FV11: 0.19444444 | FY11: -1.98475 | FZ11: 0.11111111 | GC11: -0.87 | GD11: 0 | GG11: -2.9824257 | GH11: 0.055555556 | GK11: -0.87 | GL11: 0 | GO11: -2.9824257 | GP11: 0.027777778
A12: -1.16 | B12: 0 | E12: -3.9824257 | F12: 0 | I12: -0.76 | J12: 0 | M12: -3.9799505 | N12: 0 | Q12: -0.76 | R12: 0 | U12: -3.9799505 | V12: 0 | Y12: -0.76 | Z12: 0 | AC12: -3.9799505 | AD12: 0 | AG12: -1.16 | AH12: 0 | AK12: -3.9824257 | AL12: 0 | AO12: -0.16 | AP12: 0 | AS12: -2.9824257 | AT12: 0 | AW12: -0.76 | AX12: 0 | BA12: -3.9799505 | BB12: 0 | BE12: -1.16 | BF12: 0 | BI12: -3.9824257 | BJ12: 0 | BM12: -0.76 | BN12: 0 | BQ12: -3.9799505 | BR12: 0 | BU12: -0.76 | BV12: 0 | BY12: -3.9799505 | BZ12: 0 | CC12: -0.76 | CD12: 0 | CG12: -3.9799505 | CH12: 0 | CK12: -1.16 | CL12: 0 | CO12: -3.9824257 | CP12: 0 | CS12: -0.76 | CT12: 0 | CW12: -3.9799505 | CX12: 0 | DA12: 1.64 | DB12: 0 | DE12: 0.010148515 | DF12: 0 | DI12: -0.76 | DJ12: 0 | DM12: -3.9799505 | DN12: 0 | DQ12: -0.76 | DR12: 0 | DU12: -3.9799505 | DV12: 0 | DY12: -0.16 | DZ12: 0 | EC12: -2.9824257 | ED12: 0 | EG12: -2.36 | EH12: 0 | EK12: -3.9898515 | EL12: 0 | EO12: -0.76 | EP12: 0 | ES12: -3.9799505 | ET12: 0 | EW12: -0.76 | EX12: 0 | FA12: -3.9799505 | FB12: 0 | FE12: 0.44 | FF12: 0.38888889 | FI12: -1.98475 | FJ12: 0 | FM12: -2.36 | FN12: 0 | FQ12: -3.9898515 | FR12: 0 | FU12: 0.44 | FV12: 0.19444444 | FY12: -1.98475 | FZ12: 0 | GC12: -0.16 | GD12: 0 | GG12: -2.9824257 | GH12: 0 | GK12: -0.16 | GL12: 0 | GO12: -2.9824257 | GP12: 0
... A31: 3.1 | B31: 0 | E31: -3.9472772 | F31: 0.33333333 | I31: 4.1 | J31: 0 | M31: -3.9398515 | N31: 0.027777778 | Q31: 4.1 | R31: 0 | U31: -3.9398515 | V31: 0.027777778 | Y31: 4.1 | Z31: 0 | AC31: -3.9398515 | AD31: 0.055555556 | AG31: 3.1 | AH31: 0 | AK31: -3.9472772 | AL31: 0.19444444 | AO31: 4.1 | AP31: 0 | AS31: -2.9472772 | AT31: 0.027777778 | AW31: 4.1 | AX31: 0 | BA31: -3.9398515 | BB31: 0.083333333 | BE31: 3.1 | BF31: 0 | BI31: -3.9472772 | BJ31: 0.083333333 | BM31: 4.1 | BN31: 0 | BQ31: -3.9398515 | BR31: 0.027777778 | BU31: 4.1 | BV31: 0 | BY31: -3.9398515 | BZ31: 0.027777778 | CC31: 4.1 | CD31: 0 | CG31: -3.9398515 | CH31: 0.055555556 | CK31: 3.1 | CL31: 0 | CO31: -3.9472772 | CP31: 0.30555556 | CS31: 4.1 | CT31: 0 | CW31: -3.9398515 | CX31: 0.027777778 | DA31: 4.1 | DB31: 0 | DE31: 0.030445545 | DF31: 0.36111111 | DI31: 4.1 | DJ31: 0 | DM31: -3.9398515 | DN31: 0.027777778 | DQ31: 4.1 | DR31: 0 | DU31: -3.9398515 | DV31: 0.027777778 | DY31: 4.1 | DZ31: 0 | EC31: -2.9472772 | ED31: 0.027777778 | EG31: 0.1 | EH31: 0 | EK31: -3.9695545 | EL31: 0.16666667 | EO31: 4.1 | EP31: 0 | ES31: -3.9398515 | ET31: 0.11111111 | EW31: 4.1 | EX31: 0 | FA31: -3.9398515 | FB31: 0.11111111 | FE31: 4.1 | FF31: 0 | FI31: -1.95425 | FJ31: 0.027777778 | FM31: 0.1 | FN31: 0 | FQ31: -3.9695545 | FR31: 0.30555556 | FU31: 4.1 | FV31: 0 | FY31: -1.95425 | FZ31: 0.11111111 | GC31: 4.1 | GD31: 0 | GG31: -2.9472772 | GH31: 0.055555556 | GK31: 4.1 | GL31: 0 | GO31: -2.9472772 | GP31: 0.027777778
E32: -3.9472772 | F32: 0 | M32: -3.9398515 | N32: 0 | U32: -3.9398515 | V32: 0 | AC32: -3.9398515 | AD32: 0 | AK32: -3.9472772 | AL32: 0 | AS32: -2.9472772 | AT32: 0 | BA32: -3.9398515 | BB32: 0 | BI32: -3.9472772 | BJ32: 0 | BQ32: -3.9398515 | BR32: 0 | BY32: -3.9398515 | BZ32: 0 | CG32: -3.9398515 | CH32: 0 | CO32: -3.9472772 | CP32: 0 | CW32: -3.9398515 | CX32: 0 | DE32: 0.030445545 | DF32: 0 | DM32: -3.9398515 | DN32: 0 | DU32: -3.9398515 | DV32: 0 | EC32: -2.9472772 | ED32: 0 | EK32: -3.9695545 | EL32: 0 | ES32: -3.9398515 | ET32: 0 | FA32: -3.9398515 | FB32: 0 | FI32: -1.95425 | FJ32: 0 | FQ32: -3.9695545 | FR32: 0 | FY32: -1.95425 | FZ32: 0 | GG32: -2.9472772 | GH32: 0 | GO32: -2.9472772 | GP32: 0
E33: -3.9437624 | F33: 0 | M33: -3.9358416 | N33: 0 | U33: -3.9358416 | V33: 0 | AC33: -3.9358416 | AD33: 0 | AK33: -3.9437624 | AL33: 0 | AS33: -2.9437624 | AT33: 0 | BA33: -3.9358416 | BB33: 0 | BI33: -3.9437624 | BJ33: 0 | BQ33: -3.9358416 | BR33: 0 | BY33: -3.9358416 | BZ33: 0 | CG33: -3.9358416 | CH33: 0 | CO33: -3.9437624 | CP33: 0 | CW33: -3.9358416 | CX33: 0 | DE33: 0.032475248 | DF33: 0 | DM33: -3.9358416 | DN33: 0 | DU33: -3.9358416 | DV33: 0 | EC33: -2.9437624 | ED33: 0 | EK33: -3.9675248 | EL33: 0 | ES33: -3.9358416 | ET33: 0 | FA33: -3.9358416 | FB33: 0 | FI33: -1.9512 | FJ33: 0 | FQ33: -3.9675248 | FR33: 0 | FY33: -1.9512 | FZ33: 0 | GG33: -2.9437624 | GH33: 0 | GO33: -2.9437624 | GP33: 0
E34: -3.9437624 | F34: 0.33333333 | M34: -3.9358416 | N34: 0.027777778 | U34: -3.9358416 | V34: 0.027777778 | AC34: -3.9358416 | AD34: 0.055555556 | AK34: -3.9437624 | AL34: 0.19444444 | AS34: -2.9437624 | AT34: 0.027777778 | BA34: -3.9358416 | BB34: 0.083333333 | BI34: -3.9437624 | BJ34: 0.083333333 | BQ34: -3.9358416 | BR34: 0.027777778 | BY34: -3.9358416 | BZ34: 0.027777778 | CG34: -3.9358416 | CH34: 0.055555556 | CO34: -3.9437624 | CP34: 0.30555556 | CW34: -3.9358416 | CX34: 0.027777778 | DE34: 0.032475248 | DF34: 0.36111111 | DM34: -3.9358416 | DN34: 0.027777778 | DU34: -3.9358416 | DV34: 0.027777778 | EC34: -2.9437624 | ED34: 0.027777778 | EK34: -3.9675248 | EL34: 0.16666667 | ES34: -3.9358416 | ET34: 0.11111111 | FA34: -3.9358416 | FB34: 0.11111111 | FI34: -1.9512 | FJ34: 0.027777778 | FQ34: -3.9675248 | FR34: 0.30555556 | FY34: -1.9512 | FZ34: 0.11111111 | GG34: -2.9437624 | GH34: 0.055555556 | GO34: -2.9437624 | GP34: 0.027777778
E35: -3.9402475 | F35: 0.33333333 | M35: -3.9318317 | N35: 0.027777778 | U35: -3.9318317 | V35: 0.027777778 | AC35: -3.9318317 | AD35: 0.055555556 | AK35: -3.9402475 | AL35: 0.19444444 | AS35: -2.9402475 | AT35: 0.027777778 | BA35: -3.9318317 | BB35: 0.083333333 | BI35: -3.9402475 | BJ35: 0.083333333 | BQ35: -3.9318317 | BR35: 0.027777778 | BY35: -3.9318317 | BZ35: 0.027777778 | CG35: -3.9318317 | CH35: 0.055555556 | CO35: -3.9402475 | CP35: 0.30555556 | CW35: -3.9318317 | CX35: 0.027777778 | DE35: 0.03450495 | DF35: 0.36111111 | DM35: -3.9318317 | DN35: 0.027777778 | DU35: -3.9318317 | DV35: 0.027777778 | EC35: -2.9402475 | ED35: 0.027777778 | EK35: -3.965495 | EL35: 0.16666667 | ES35: -3.9318317 | ET35: 0.11111111 | FA35: -3.9318317 | FB35: 0.11111111 | FI35: -1.94815 | FJ35: 0.027777778 | FQ35: -3.965495 | FR35: 0.30555556 | FY35: -1.94815 | FZ35: 0.11111111 | GG35: -2.9402475 | GH35: 0.055555556 | GO35: -2.9402475 | GP35: 0.027777778
E36: -3.9402475 | F36: 0 | M36: -3.9318317 | N36: 0 | U36: -3.9318317 | V36: 0 | AC36: -3.9318317 | AD36: 0 | AK36: -3.9402475 | AL36: 0 | AS36: -2.9402475 | AT36: 0 | BA36: -3.9318317 | BB36: 0 | BI36: -3.9402475 | BJ36: 0 | BQ36: -3.9318317 | BR36: 0 | BY36: -3.9318317 | BZ36: 0 | CG36: -3.9318317 | CH36: 0 | CO36: -3.9402475 | CP36: 0 | CW36: -3.9318317 | CX36: 0 | DE36: 0.03450495 | DF36: 0 | DM36: -3.9318317 | DN36: 0 | DU36: -3.9318317 | DV36: 0 | EC36: -2.9402475 | ED36: 0 | EK36: -3.965495 | EL36: 0 | ES36: -3.9318317 | ET36: 0 | FA36: -3.9318317 | FB36: 0 | FI36: -1.94815 | FJ36: 0 | FQ36: -3.965495 | FR36: 0 | FY36: -1.94815 | FZ36: 0 | GG36: -2.9402475 | GH36: 0 | GO36: -2.9402475 | GP36: 0
E37: -3.9367327 | F37: 0 | M37: -3.9278218 | N37: 0 | U37: -3.9278218 | V37: 0 | AC37: -3.9278218 | AD37: 0 | AK37: -3.9367327 | AL37: 0 | AS37: -2.9367327 | AT37: 0 | BA37: -3.9278218 | BB37: 0 | BI37: -3.9367327 | BJ37: 0 | BQ37: -3.9278218 | BR37: 0 | BY37: -3.9278218 | BZ37: 0 | CG37: -3.9278218 | CH37: 0 | CO37: -3.9367327 | CP37: 0 | CW37: -3.9278218 | CX37: 0 | DE37: 0.036534653 | DF37: 0 | DM37: -3.9278218 | DN37: 0 | DU37: -3.9278218 | DV37: 0 | EC37: -2.9367327 | ED37: 0 | EK37: -3.9634653 | EL37: 0 | ES37: -3.9278218 | ET37: 0 | FA37: -3.9278218 | FB37: 0 | FI37: -1.9451 | FJ37: 0 | FQ37: -3.9634653 | FR37: 0 | FY37: -1.9451 | FZ37: 0 | GG37: -2.9367327 | GH37: 0 | GO37: -2.9367327 | GP37: 0
E38: -3.9367327 | F38: 0.33333333 | M38: -3.9278218 | N38: 0.027777778 | U38: -3.9278218 | V38: 0.027777778 | AC38: -3.9278218 | AD38: 0.055555556 | AK38: -3.9367327 | AL38: 0.19444444 | AS38: -2.9367327 | AT38: 0.027777778 | BA38: -3.9278218 | BB38: 0.083333333 | BI38: -3.9367327 | BJ38: 0.083333333 | BQ38: -3.9278218 | BR38: 0.027777778 | BY38: -3.9278218 | BZ38: 0.027777778 | CG38: -3.9278218 | CH38: 0.055555556 | CO38: -3.9367327 | CP38: 0.30555556 | CW38: -3.9278218 | CX38: 0.027777778 | DE38: 0.036534653 | DF38: 0.36111111 | DM38: -3.9278218 | DN38: 0.027777778 | DU38: -3.9278218 | DV38: 0.027777778 | EC38: -2.9367327 | ED38: 0.027777778 | EK38: -3.9634653 | EL38: 0.16666667 | ES38: -3.9278218 | ET38: 0.11111111 | FA38: -3.9278218 | FB38: 0.11111111 | FI38: -1.9451 | FJ38: 0.027777778 | FQ38: -3.9634653 | FR38: 0.30555556 | FY38: -1.9451 | FZ38: 0.11111111 | GG38: -2.9367327 | GH38: 0.055555556 | GO38: -2.9367327 | GP38: 0.027777778
E39: -3.9332178 | F39: 0.33333333 | M39: -3.9238119 | N39: 0.027777778 | U39: -3.9238119 | V39: 0.027777778 | AC39: -3.9238119 | AD39: 0.055555556 | AK39: -3.9332178 | AL39: 0.19444444 | AS39: -2.9332178 | AT39: 0.027777778 | BA39: -3.9238119 | BB39: 0.083333333 | BI39: -3.9332178 | BJ39: 0.083333333 | BQ39: -3.9238119 | BR39: 0.027777778 | BY39: -3.9238119 | BZ39: 0.027777778 | CG39: -3.9238119 | CH39: 0.055555556 | CO39: -3.9332178 | CP39: 0.30555556 | CW39: -3.9238119 | CX39: 0.027777778 | DE39: 0.038564356 | DF39: 0.36111111 | DM39: -3.9238119 | DN39: 0.027777778 | DU39: -3.9238119 | DV39: 0.027777778 | EC39: -2.9332178 | ED39: 0.027777778 | EK39: -3.9614356 | EL39: 0.16666667 | ES39: -3.9238119 | ET39: 0.11111111 | FA39: -3.9238119 | FB39: 0.11111111 | FI39: -1.94205 | FJ39: 0.027777778 | FQ39: -3.9614356 | FR39: 0.30555556 | FY39: -1.94205 | FZ39: 0.11111111 | GG39: -2.9332178 | GH39: 0.055555556 | GO39: -2.9332178 | GP39: 0.027777778
E40: -3.9332178 | F40: 0 | M40: -3.9238119 | N40: 0 | U40: -3.9238119 | V40: 0 | AC40: -3.9238119 | AD40: 0 | AK40: -3.9332178 | AL40: 0 | AS40: -2.9332178 | AT40: 0 | BA40: -3.9238119 | BB40: 0 | BI40: -3.9332178 | BJ40: 0 | BQ40: -3.9238119 | BR40: 0 | BY40: -3.9238119 | BZ40: 0 | CG40: -3.9238119 | CH40: 0 | CO40: -3.9332178 | CP40: 0 | CW40: -3.9238119 | CX40: 0 | DE40: 0.038564356 | DF40: 0 | DM40: -3.9238119 | DN40: 0 | DU40: -3.9238119 | DV40: 0 | EC40: -2.9332178 | ED40: 0 | EK40: -3.9614356 | EL40: 0 | ES40: -3.9238119 | ET40: 0 | FA40: -3.9238119 | FB40: 0 | FI40: -1.94205 | FJ40: 0 | FQ40: -3.9614356 | FR40: 0 | FY40: -1.94205 | FZ40: 0 | GG40: -2.9332178 | GH40: 0 | GO40: -2.9332178 | GP40: 0
E41: -3.929703 | F41: 0 | M41: -3.919802 | N41: 0 | U41: -3.919802 | V41: 0 | AC41: -3.919802 | AD41: 0 | AK41: -3.929703 | AL41: 0 | AS41: -2.929703 | AT41: 0 | BA41: -3.919802 | BB41: 0 | BI41: -3.929703 | BJ41: 0 | BQ41: -3.919802 | BR41: 0 | BY41: -3.919802 | BZ41: 0 | CG41: -3.919802 | CH41: 0 | CO41: -3.929703 | CP41: 0 | CW41: -3.919802 | CX41: 0 | DE41: 0.040594059 | DF41: 0 | DM41: -3.919802 | DN41: 0 | DU41: -3.919802 | DV41: 0 | EC41: -2.929703 | ED41: 0 | EK41: -3.9594059 | EL41: 0 | ES41: -3.919802 | ET41: 0 | FA41: -3.919802 | FB41: 0 | FI41: -1.939 | FJ41: 0 | FQ41: -3.9594059 | FR41: 0 | FY41: -1.939 | FZ41: 0 | GG41: -2.929703 | GH41: 0 | GO41: -2.929703 | GP41: 0
E42: -3.929703 | F42: 0.33333333 | M42: -3.919802 | N42: 0.027777778 | U42: -3.919802 | V42: 0.027777778 | AC42: -3.919802 | AD42: 0.055555556 | AK42: -3.929703 | AL42: 0.19444444 | AS42: -2.929703 | AT42: 0.027777778 | BA42: -3.919802 | BB42: 0.083333333 | BI42: -3.929703 | BJ42: 0.083333333 | BQ42: -3.919802 | BR42: 0.027777778 | BY42: -3.919802 | BZ42: 0.027777778 | CG42: -3.919802 | CH42: 0.055555556 | CO42: -3.929703 | CP42: 0.30555556 | CW42: -3.919802 | CX42: 0.027777778 | DE42: 0.040594059 | DF42: 0.36111111 | DM42: -3.919802 | DN42: 0.027777778 | DU42: -3.919802 | DV42: 0.027777778 | EC42: -2.929703 | ED42: 0.027777778 | EK42: -3.9594059 | EL42: 0.16666667 | ES42: -3.919802 | ET42: 0.11111111 | FA42: -3.919802 | FB42: 0.11111111 | FI42: -1.939 | FJ42: 0.027777778 | FQ42: -3.9594059 | FR42: 0.30555556 | FY42: -1.939 | FZ42: 0.11111111 | GG42: -2.929703 | GH42: 0.055555556 | GO42: -2.929703 | GP42: 0.027777778
E43: -3.9261881 | F43: 0.33333333 | M43: -3.9157921 | N43: 0.027777778 | U43: -3.9157921 | V43: 0.027777778 | AC43: -3.9157921 | AD43: 0.055555556 | AK43: -3.9261881 | AL43: 0.19444444 | AS43: -2.9261881 | AT43: 0.027777778 | BA43: -3.9157921 | BB43: 0.083333333 | BI43: -3.9261881 | BJ43: 0.083333333 | BQ43: -3.9157921 | BR43: 0.027777778 | BY43: -3.9157921 | BZ43: 0.027777778 | CG43: -3.9157921 | CH43: 0.055555556 | CO43: -3.9261881 | CP43: 0.30555556 | CW43: -3.9157921 | CX43: 0.027777778 | DE43: 0.042623762 | DF43: 0.36111111 | DM43: -3.9157921 | DN43: 0.027777778 | DU43: -3.9157921 | DV43: 0.027777778 | EC43: -2.9261881 | ED43: 0.027777778 | EK43: -3.9573762 | EL43: 0.16666667 | ES43: -3.9157921 | ET43: 0.11111111 | FA43: -3.9157921 | FB43: 0.11111111 | FI43: -1.93595 | FJ43: 0.027777778 | FQ43: -3.9573762 | FR43: 0.30555556 | FY43: -1.93595 | FZ43: 0.11111111 | GG43: -2.9261881 | GH43: 0.055555556 | GO43: -2.9261881 | GP43: 0.027777778
... E1612: 0.24945545 | F1612: 0 | M1612: 0.045990099 | N1612: 0 | U1612: 0.045990099 | V1612: 0 | AC1612: 0.045990099 | AD1612: 0 | AK1612: 0.24945545 | AL1612: 0 | AS1612: 2.6694554 | AT1612: 0 | BA1612: 0.045990099 | BB1612: 0 | BI1612: 0.24945545 | BJ1612: 0 | BQ1612: 0.045990099 | BR1612: 0 | BY1612: 0.045990099 | BZ1612: 0 | CG1612: 0.045990099 | CH1612: 0 | CO1612: 0.24945545 | CP1612: 0 | CW1612: 0.045990099 | CX1612: 0 | DE1612: 4.09795 | DF1612: 0 | DM1612: 2.47595 | DN1612: 0 | DU1612: 0.045990099 | DV1612: 0 | EC1612: 2.6694554 | ED1612: 0 | EK1612: 0.09795 | EL1612: 0 | ES1612: 0.045990099 | ET1612: 0 | FA1612: 0.045990099 | FB1612: 0 | FI1612: 3.49915 | FJ1612: 0 | FQ1612: 0.09795 | FR1612: 0 | FY1612: 3.49915 | FZ1612: 0 | GG1612: 2.6694554 | GH1612: 0 | GO1612: 2.6694554 | GP1612: 0
E1613: 0.2529703 | F1613: 0 | M1613: 1.67 | N1613: 0 | U1613: 1.67 | V1613: 0 | AC1613: 1.67 | AD1613: 0 | AK1613: 0.2529703 | AL1613: 0 | AS1613: 2.6729703 | AT1613: 0 | BA1613: 1.67 | BB1613: 0 | BI1613: 0.2529703 | BJ1613: 0 | BQ1613: 1.67 | BR1613: 0 | BY1613: 1.67 | BZ1613: 0 | CG1613: 1.67 | CH1613: 0 | CO1613: 0.2529703 | CP1613: 0 | CW1613: 1.67 | CX1613: 0 | DM1613: 2.48 | DN1613: 0 | DU1613: 1.67 | DV1613: 0 | EC1613: 2.6729703 | ED1613: 0 | ES1613: 1.67 | ET1613: 0 | FA1613: 1.67 | FB1613: 0 | FI1613: 3.5022 | FJ1613: 0 | FY1613: 3.5022 | FZ1613: 0 | GG1613: 2.6729703 | GH1613: 0 | GO1613: 2.6729703 | GP1613: 0
E1614: 0.2529703 | F1614: 0.083333333 | M1614: 1.67 | N1614: 0.13888889 | U1614: 1.67 | V1614: 0.055555556 | AC1614: 1.67 | AD1614: 0.11111111 | AK1614: 0.2529703 | AL1614: 0.19444444 | AS1614: 2.6729703 | AT1614: 0.38888889 | BA1614: 1.67 | BB1614: 0.13888889 | BI1614: 0.2529703 | BJ1614: 0.22222222 | BQ1614: 1.67 | BR1614: 0.16666667 | BY1614: 1.67 | BZ1614: 0.11111111 | CG1614: 1.67 | CH1614: 0.25 | CO1614: 0.2529703 | CP1614: 0.13888889 | CW1614: 1.67 | CX1614: 0.25 | DM1614: 2.48 | DN1614: 0.19444444 | DU1614: 1.67 | DV1614: 0.33333333 | EC1614: 2.6729703 | ED1614: 0.22222222 | ES1614: 1.67 | ET1614: 0.13888889 | FA1614: 1.67 | FB1614: 0.083333333 | FI1614: 3.5022 | FJ1614: 0.083333333 | FY1614: 3.5022 | FZ1614: 0.11111111 | GG1614: 2.6729703 | GH1614: 0.16666667 | GO1614: 2.6729703 | GP1614: 0.22222222
E1615: 0.25648515 | F1615: 0.083333333 | M1615: 1.67405 | N1615: 0.13888889 | U1615: 1.67405 | V1615: 0.055555556 | AC1615: 1.67405 | AD1615: 0.11111111 | AK1615: 0.25648515 | AL1615: 0.19444444 | AS1615: 2.6764851 | AT1615: 0.38888889 | BA1615: 1.67405 | BB1615: 0.13888889 | BI1615: 0.25648515 | BJ1615: 0.22222222 | BQ1615: 1.67405 | BR1615: 0.16666667 | BY1615: 1.67405 | BZ1615: 0.11111111 | CG1615: 1.67405 | CH1615: 0.25 | CO1615: 0.25648515 | CP1615: 0.13888889 | CW1615: 1.67405 | CX1615: 0.25 | DM1615: 2.48405 | DN1615: 0.19444444 | DU1615: 1.67405 | DV1615: 0.33333333 | EC1615: 2.6764851 | ED1615: 0.22222222 | ES1615: 1.67405 | ET1615: 0.13888889 | FA1615: 1.67405 | FB1615: 0.083333333 | FI1615: 3.50525 | FJ1615: 0.083333333 | FY1615: 3.50525 | FZ1615: 0.11111111 | GG1615: 2.6764851 | GH1615: 0.16666667 | GO1615: 2.6764851 | GP1615: 0.22222222
E1616: 0.25648515 | F1616: 0 | M1616: 1.67405 | N1616: 0 | U1616: 1.67405 | V1616: 0 | AC1616: 1.67405 | AD1616: 0 | AK1616: 0.25648515 | AL1616: 0 | AS1616: 2.6764851 | AT1616: 0 | BA1616: 1.67405 | BB1616: 0 | BI1616: 0.25648515 | BJ1616: 0 | BQ1616: 1.67405 | BR1616: 0 | BY1616: 1.67405 | BZ1616: 0 | CG1616: 1.67405 | CH1616: 0 | CO1616: 0.25648515 | CP1616: 0 | CW1616: 1.67405 | CX1616: 0 | DM1616: 2.48405 | DN1616: 0 | DU1616: 1.67405 | DV1616: 0 | EC1616: 2.6764851 | ED1616: 0 | ES1616: 1.67405 | ET1616: 0 | FA1616: 1.67405 | FB1616: 0 | FI1616: 3.50525 | FJ1616: 0 | FY1616: 3.50525 | FZ1616: 0 | GG1616: 2.6764851 | GH1616: 0 | GO1616: 2.6764851 | GP1616: 0
E1617: 1.68 | F1617: 0 | M1617: 1.6781 | N1617: 0 | U1617: 1.6781 | V1617: 0 | AC1617: 1.6781 | AD1617: 0 | AK1617: 1.68 | AL1617: 0 | AS1617: 2.68 | AT1617: 0 | BA1617: 1.6781 | BB1617: 0 | BI1617: 1.68 | BJ1617: 0 | BQ1617: 1.6781 | BR1617: 0 | BY1617: 1.6781 | BZ1617: 0 | CG1617: 1.6781 | CH1617: 0 | CO1617: 1.68 | CP1617: 0 | CW1617: 1.6781 | CX1617: 0 | DM1617: 2.4881 | DN1617: 0 | DU1617: 1.6781 | DV1617: 0 | EC1617: 2.68 | ED1617: 0 | ES1617: 1.6781 | ET1617: 0 | FA1617: 1.6781 | FB1617: 0 | FI1617: 3.5083 | FJ1617: 0 | FY1617: 3.5083 | FZ1617: 0 | GG1617: 2.68 | GH1617: 0 | GO1617: 2.68 | GP1617: 0
E1618: 1.68 | F1618: 0.055555556 | M1618: 1.6781 | N1618: 0.13888889 | U1618: 1.6781 | V1618: 0.055555556 | AC1618: 1.6781 | AD1618: 0.11111111 | AK1618: 1.68 | AL1618: 0.027777778 | AS1618: 2.68 | AT1618: 0.16666667 | BA1618: 1.6781 | BB1618: 0.13888889 | BI1618: 1.68 | BJ1618: 0.13888889 | BQ1618: 1.6781 | BR1618: 0.16666667 | BY1618: 1.6781 | BZ1618: 0.11111111 | CG1618: 1.6781 | CH1618: 0.25 | CO1618: 1.68 | CP1618: 0.027777778 | CW1618: 1.6781 | CX1618: 0.25 | DM1618: 2.4881 | DN1618: 0.19444444 | DU1618: 1.6781 | DV1618: 0.33333333 | EC1618: 2.68 | ED1618: 0.19444444 | ES1618: 1.6781 | ET1618: 0.13888889 | FA1618: 1.6781 | FB1618: 0.083333333 | FI1618: 3.5083 | FJ1618: 0.083333333 | FY1618: 3.5083 | FZ1618: 0.11111111 | GG1618: 2.68 | GH1618: 0.13888889 | GO1618: 2.68 | GP1618: 0.083333333
E1619: 1.6835149 | F1619: 0.055555556 | M1619: 1.68215 | N1619: 0.13888889 | U1619: 1.68215 | V1619: 0.055555556 | AC1619: 1.68215 | AD1619: 0.11111111 | AK1619: 1.6835149 | AL1619: 0.027777778 | AS1619: 2.6835149 | AT1619: 0.16666667 | BA1619: 1.68215 | BB1619: 0.13888889 | BI1619: 1.6835149 | BJ1619: 0.13888889 | BQ1619: 1.68215 | BR1619: 0.16666667 | BY1619: 1.68215 | BZ1619: 0.11111111 | CG1619: 1.68215 | CH1619: 0.25 | CO1619: 1.6835149 | CP1619: 0.027777778 | CW1619: 1.68215 | CX1619: 0.25 | DM1619: 2.49215 | DN1619: 0.19444444 | DU1619: 1.68215 | DV1619: 0.33333333 | EC1619: 2.6835149 | ED1619: 0.19444444 | ES1619: 1.68215 | ET1619: 0.13888889 | FA1619: 1.68215 | FB1619: 0.083333333 | FI1619: 3.51135 | FJ1619: 0.083333333 | FY1619: 3.51135 | FZ1619: 0.11111111 | GG1619: 2.6835149 | GH1619: 0.13888889 | GO1619: 2.6835149 | GP1619: 0.083333333
E1620: 1.6835149 | F1620: 0 | M1620: 1.68215 | N1620: 0 | U1620: 1.68215 | V1620: 0 | AC1620: 1.68215 | AD1620: 0 | AK1620: 1.6835149 | AL1620: 0 | AS1620: 2.6835149 | AT1620: 0 | BA1620: 1.68215 | BB1620: 0 | BI1620: 1.6835149 | BJ1620: 0 | BQ1620: 1.68215 | BR1620: 0 | BY1620: 1.68215 | BZ1620: 0 | CG1620: 1.68215 | CH1620: 0 | CO1620: 1.6835149 | CP1620: 0 | CW1620: 1.68215 | CX1620: 0 | DM1620: 2.49215 | DN1620: 0 | DU1620: 1.68215 | DV1620: 0 | EC1620: 2.6835149 | ED1620: 0 | ES1620: 1.68215 | ET1620: 0 | FA1620: 1.68215 | FB1620: 0 | FI1620: 3.51135 | FJ1620: 0 | FY1620: 3.51135 | FZ1620: 0 | GG1620: 2.6835149 | GH1620: 0 | GO1620: 2.6835149 | GP1620: 0
E1621: 1.6870297 | F1621: 0 | M1621: 1.6862 | N1621: 0 | U1621: 1.6862 | V1621: 0 | AC1621: 1.6862 | AD1621: 0 | AK1621: 1.6870297 | AL1621: 0 | AS1621: 2.6870297 | AT1621: 0 | BA1621: 1.6862 | BB1621: 0 | BI1621: 1.6870297 | BJ1621: 0 | BQ1621: 1.6862 | BR1621: 0 | BY1621: 1.6862 | BZ1621: 0 | CG1621: 1.6862 | CH1621: 0 | CO1621: 1.6870297 | CP1621: 0 | CW1621: 1.6862 | CX1621: 0 | DM1621: 2.4962 | DN1621: 0 | DU1621: 1.6862 | DV1621: 0 | EC1621: 2.6870297 | ED1621: 0 | ES1621: 1.6862 | ET1621: 0 | FA1621: 1.6862 | FB1621: 0 | FI1621: 3.5144 | FJ1621: 0 | FY1621: 3.5144 | FZ1621: 0 | GG1621: 2.6870297 | GH1621: 0 | GO1621: 2.6870297 | GP1621: 0
E1622: 1.6870297 | F1622: 0.055555556 | M1622: 1.6862 | N1622: 0.13888889 | U1622: 1.6862 | V1622: 0.055555556 | AC1622: 1.6862 | AD1622: 0.11111111 | AK1622: 1.6870297 | AL1622: 0.027777778 | AS1622: 2.6870297 | AT1622: 0.16666667 | BA1622: 1.6862 | BB1622: 0.13888889 | BI1622: 1.6870297 | BJ1622: 0.13888889 | BQ1622: 1.6862 | BR1622: 0.16666667 | BY1622: 1.6862 | BZ1622: 0.11111111 | CG1622: 1.6862 | CH1622: 0.25 | CO1622: 1.6870297 | CP1622: 0.027777778 | CW1622: 1.6862 | CX1622: 0.25 | DM1622: 2.4962 | DN1622: 0.19444444 | DU1622: 1.6862 | DV1622: 0.33333333 | EC1622: 2.6870297 | ED1622: 0.19444444 | ES1622: 1.6862 | ET1622: 0.13888889 | FA1622: 1.6862 | FB1622: 0.083333333 | FI1622: 3.5144 | FJ1622: 0.083333333 | FY1622: 3.5144 | FZ1622: 0.11111111 | GG1622: 2.6870297 | GH1622: 0.13888889 | GO1622: 2.6870297 | GP1622: 0.083333333
E1623: 1.6905446 | F1623: 0.055555556 | M1623: 1.69025 | N1623: 0.13888889 | U1623: 1.69025 | V1623: 0.055555556 | AC1623: 1.69025 | AD1623: 0.11111111 | AK1623: 1.6905446 | AL1623: 0.027777778 | AS1623: 2.6905446 | AT1623: 0.16666667 | BA1623: 1.69025 | BB1623: 0.13888889 | BI1623: 1.6905446 | BJ1623: 0.13888889 | BQ1623: 1.69025 | BR1623: 0.16666667 | BY1623: 1.69025 | BZ1623: 0.11111111 | CG1623: 1.69025 | CH1623: 0.25 | CO1623: 1.6905446 | CP1623: 0.027777778 | CW1623: 1.69025 | CX1623: 0.25 | DM1623: 2.50025 | DN1623: 0.19444444 | DU1623: 1.69025 | DV1623: 0.33333333 | EC1623: 2.6905446 | ED1623: 0.19444444 | ES1623: 1.69025 | ET1623: 0.13888889 | FA1623: 1.69025 | FB1623: 0.083333333 | FI1623: 3.51745 | FJ1623: 0.083333333 | FY1623: 3.51745 | FZ1623: 0.11111111 | GG1623: 2.6905446 | GH1623: 0.13888889 | GO1623: 2.6905446 | GP1623: 0.083333333
E1624: 1.6905446 | F1624: 0 | M1624: 1.69025 | N1624: 0 | U1624: 1.69025 | V1624: 0 | AC1624: 1.69025 | AD1624: 0 | AK1624: 1.6905446 | AL1624: 0 | AS1624: 2.6905446 | AT1624: 0 | BA1624: 1.69025 | BB1624: 0 | BI1624: 1.6905446 | BJ1624: 0 | BQ1624: 1.69025 | BR1624: 0 | BY1624: 1.69025 | BZ1624: 0 | CG1624: 1.69025 | CH1624: 0 | CO1624: 1.6905446 | CP1624: 0 | CW1624: 1.69025 | CX1624: 0 | DM1624: 2.50025 | DN1624: 0 | DU1624: 1.69025 | DV1624: 0 | EC1624: 2.6905446 | ED1624: 0 | ES1624: 1.69025 | ET1624: 0 | FA1624: 1.69025 | FB1624: 0 | FI1624: 3.51745 | FJ1624: 0 | FY1624: 3.51745 | FZ1624: 0 | GG1624: 2.6905446 | GH1624: 0 | GO1624: 2.6905446 | GP1624: 0
... E2004: 2.3583663 | F2004: 0 | M2004: 2.45975 | N2004: 0 | U2004: 2.45975 | V2004: 0 | AC2004: 2.45975 | AD2004: 0 | AK2004: 2.3583663 | AL2004: 0 | AS2004: 3.3583663 | AT2004: 0 | BA2004: 2.45975 | BB2004: 0 | BI2004: 2.3583663 | BJ2004: 0 | BQ2004: 2.45975 | BR2004: 0 | BY2004: 2.45975 | BZ2004: 0 | CG2004: 2.45975 | CH2004: 0 | CO2004: 2.3583663 | CP2004: 0 | CW2004: 2.45975 | CX2004: 0 | DM2004: 3.26975 | DN2004: 0 | DU2004: 2.45975 | DV2004: 0 | EC2004: 3.3583663 | ED2004: 0 | ES2004: 2.45975 | ET2004: 0 | FA2004: 2.45975 | FB2004: 0 | FI2004: 4.09695 | FJ2004: 0 | FY2004: 4.09695 | FZ2004: 0 | GG2004: 3.3583663 | GH2004: 0 | GO2004: 3.3583663 | GP2004: 0
E2005: 2.3618812 | F2005: 0 | M2005: 2.4638 | N2005: 0 | U2005: 2.4638 | V2005: 0 | AC2005: 2.4638 | AD2005: 0 | AK2005: 2.3618812 | AL2005: 0 | AS2005: 3.3618812 | AT2005: 0 | BA2005: 2.4638 | BB2005: 0 | BI2005: 2.3618812 | BJ2005: 0 | BQ2005: 2.4638 | BR2005: 0 | BY2005: 2.4638 | BZ2005: 0 | CG2005: 2.4638 | CH2005: 0 | CO2005: 2.3618812 | CP2005: 0 | CW2005: 2.4638 | CX2005: 0 | DM2005: 3.2738 | DN2005: 0 | DU2005: 2.4638 | DV2005: 0 | EC2005: 3.3618812 | ED2005: 0 | ES2005: 2.4638 | ET2005: 0 | FA2005: 2.4638 | FB2005: 0 | GG2005: 3.3618812 | GH2005: 0 | GO2005: 3.3618812 | GP2005: 0
E2006: 2.3618812 | F2006: 0.055555556 | M2006: 2.4638 | N2006: 0.13888889 | U2006: 2.4638 | V2006: 0.055555556 | AC2006: 2.4638 | AD2006: 0.11111111 | AK2006: 2.3618812 | AL2006: 0.027777778 | AS2006: 3.3618812 | AT2006: 0.16666667 | BA2006: 2.4638 | BB2006: 0.13888889 | BI2006: 2.3618812 | BJ2006: 0.13888889 | BQ2006: 2.4638 | BR2006: 0.16666667 | BY2006: 2.4638 | BZ2006: 0.11111111 | CG2006: 2.4638 | CH2006: 0.25 | CO2006: 2.3618812 | CP2006: 0.027777778 | CW2006: 2.4638 | CX2006: 0.25 | DM2006: 3.2738 | DN2006: 0.19444444 | DU2006: 2.4638 | DV2006: 0.33333333 | EC2006: 3.3618812 | ED2006: 0.19444444 | ES2006: 2.4638 | ET2006: 0.13888889 | FA2006: 2.4638 | FB2006: 0.083333333 | GG2006: 3.3618812 | GH2006: 0.13888889 | GO2006: 3.3618812 | GP2006: 0.083333333
E2007: 2.365396 | F2007: 0.055555556 | M2007: 2.46785 | N2007: 0.13888889 | U2007: 2.46785 | V2007: 0.055555556 | AC2007: 2.46785 | AD2007: 0.11111111 | AK2007: 2.365396 | AL2007: 0.027777778 | AS2007: 3.365396 | AT2007: 0.16666667 | BA2007: 2.46785 | BB2007: 0.13888889 | BI2007: 2.365396 | BJ2007: 0.13888889 | BQ2007: 2.46785 | BR2007: 0.16666667 | BY2007: 2.46785 | BZ2007: 0.11111111 | CG2007: 2.46785 | CH2007: 0.25 | CO2007: 2.365396 | CP2007: 0.027777778 | CW2007: 2.46785 | CX2007: 0.25 | DM2007: 3.27785 | DN2007: 0.19444444 | DU2007: 2.46785 | DV2007: 0.33333333 | EC2007: 3.365396 | ED2007: 0.19444444 | ES2007: 2.46785 | ET2007: 0.13888889 | FA2007: 2.46785 | FB2007: 0.083333333 | GG2007: 3.365396 | GH2007: 0.13888889 | GO2007: 3.365396 | GP2007: 0.083333333
E2008: 2.365396 | F2008: 0 | M2008: 2.46785 | N2008: 0 | U2008: 2.46785 | V2008: 0 | AC2008: 2.46785 | AD2008: 0 | AK2008: 2.365396 | AL2008: 0 | AS2008: 3.365396 | AT2008: 0 | BA2008: 2.46785 | BB2008: 0 | BI2008: 2.365396 | BJ2008: 0 | BQ2008: 2.46785 | BR2008: 0 | BY2008: 2.46785 | BZ2008: 0 | CG2008: 2.46785 | CH2008: 0 | CO2008: 2.365396 | CP2008: 0 | CW2008: 2.46785 | CX2008: 0 | DM2008: 3.27785 | DN2008: 0 | DU2008: 2.46785 | DV2008: 0 | EC2008: 3.365396 | ED2008: 0 | ES2008: 2.46785 | ET2008: 0 | FA2008: 2.46785 | FB2008: 0 | GG2008: 3.365396 | GH2008: 0 | GO2008: 3.365396 | GP2008: 0
E2009: 2.3689109 | F2009: 0 | M2009: 2.4719 | N2009: 0 | U2009: 2.4719 | V2009: 0 | AC2009: 2.4719 | AD2009: 0 | AK2009: 2.3689109 | AL2009: 0 | AS2009: 3.3689109 | AT2009: 0 | BA2009: 2.4719 | BB2009: 0 | BI2009: 2.3689109 | BJ2009: 0 | BQ2009: 2.4719 | BR2009: 0 | BY2009: 2.4719 | BZ2009: 0 | CG2009: 2.4719 | CH2009: 0 | CO2009: 2.3689109 | CP2009: 0 | CW2009: 2.4719 | CX2009: 0 | DM2009: 3.2819 | DN2009: 0 | DU2009: 2.4719 | DV2009: 0 | EC2009: 3.3689109 | ED2009: 0 | ES2009: 2.4719 | ET2009: 0 | FA2009: 2.4719 | FB2009: 0 | GG2009: 3.3689109 | GH2009: 0 | GO2009: 3.3689109 | GP2009: 0
E2010: 2.3689109 | F2010: 0.055555556 | M2010: 2.4719 | N2010: 0.13888889 | U2010: 2.4719 | V2010: 0.055555556 | AC2010: 2.4719 | AD2010: 0.11111111 | AK2010: 2.3689109 | AL2010: 0.027777778 | AS2010: 3.3689109 | AT2010: 0.16666667 | BA2010: 2.4719 | BB2010: 0.13888889 | BI2010: 2.3689109 | BJ2010: 0.13888889 | BQ2010: 2.4719 | BR2010: 0.16666667 | BY2010: 2.4719 | BZ2010: 0.11111111 | CG2010: 2.4719 | CH2010: 0.25 | CO2010: 2.3689109 | CP2010: 0.027777778 | CW2010: 2.4719 | CX2010: 0.25 | DM2010: 3.2819 | DN2010: 0.19444444 | DU2010: 2.4719 | DV2010: 0.33333333 | EC2010: 3.3689109 | ED2010: 0.19444444 | ES2010: 2.4719 | ET2010: 0.13888889 | FA2010: 2.4719 | FB2010: 0.083333333 | GG2010: 3.3689109 | GH2010: 0.13888889 | GO2010: 3.3689109 | GP2010: 0.083333333
E2011: 2.3724257 | F2011: 0.055555556 | M2011: 2.47595 | N2011: 0.13888889 | U2011: 2.47595 | V2011: 0.055555556 | AC2011: 2.47595 | AD2011: 0.11111111 | AK2011: 2.3724257 | AL2011: 0.027777778 | AS2011: 3.3724257 | AT2011: 0.16666667 | BA2011: 2.47595 | BB2011: 0.13888889 | BI2011: 2.3724257 | BJ2011: 0.13888889 | BQ2011: 2.47595 | BR2011: 0.16666667 | BY2011: 2.47595 | BZ2011: 0.11111111 | CG2011: 2.47595 | CH2011: 0.25 | CO2011: 2.3724257 | CP2011: 0.027777778 | CW2011: 2.47595 | CX2011: 0.25 | DM2011: 3.28595 | DN2011: 0.19444444 | DU2011: 2.47595 | DV2011: 0.33333333 | EC2011: 3.3724257 | ED2011: 0.19444444 | ES2011: 2.47595 | ET2011: 0.13888889 | FA2011: 2.47595 | FB2011: 0.083333333 | GG2011: 3.3724257 | GH2011: 0.13888889 | GO2011: 3.3724257 | GP2011: 0.083333333
E2012: 2.3724257 | F2012: 0 | M2012: 2.47595 | N2012: 0 | U2012: 2.47595 | V2012: 0 | AC2012: 2.47595 | AD2012: 0 | AK2012: 2.3724257 | AL2012: 0 | AS2012: 3.3724257 | AT2012: 0 | BA2012: 2.47595 | BB2012: 0 | BI2012: 2.3724257 | BJ2012: 0 | BQ2012: 2.47595 | BR2012: 0 | BY2012: 2.47595 | BZ2012: 0 | CG2012: 2.47595 | CH2012: 0 | CO2012: 2.3724257 | CP2012: 0 | CW2012: 2.47595 | CX2012: 0 | DM2012: 3.28595 | DN2012: 0 | DU2012: 2.47595 | DV2012: 0 | EC2012: 3.3724257 | ED2012: 0 | ES2012: 2.47595 | ET2012: 0 | FA2012: 2.47595 | FB2012: 0 | GG2012: 3.3724257 | GH2012: 0 | GO2012: 3.3724257 | GP2012: 0
E2013: 2.3759406 | F2013: 0 | M2013: 2.48 | N2013: 0 | U2013: 2.48 | V2013: 0 | AC2013: 2.48 | AD2013: 0 | AK2013: 2.3759406 | AL2013: 0 | AS2013: 3.3759406 | AT2013: 0 | BA2013: 2.48 | BB2013: 0 | BI2013: 2.3759406 | BJ2013: 0 | BQ2013: 2.48 | BR2013: 0 | BY2013: 2.48 | BZ2013: 0 | CG2013: 2.48 | CH2013: 0 | CO2013: 2.3759406 | CP2013: 0 | CW2013: 2.48 | CX2013: 0 | DM2013: 3.29 | DN2013: 0 | DU2013: 2.48 | DV2013: 0 | EC2013: 3.3759406 | ED2013: 0 | ES2013: 2.48 | ET2013: 0 | FA2013: 2.48 | FB2013: 0 | GG2013: 3.3759406 | GH2013: 0 | GO2013: 3.3759406 | GP2013: 0
E2014: 2.3759406 | F2014: 0.055555556 | M2014: 2.48 | N2014: 0.19444444 | U2014: 2.48 | V2014: 0.16666667 | AC2014: 2.48 | AD2014: 0.055555556 | AK2014: 2.3759406 | AL2014: 0.027777778 | AS2014: 3.3759406 | AT2014: 0.16666667 | BA2014: 2.48 | BB2014: 0.027777778 | BI2014: 2.3759406 | BJ2014: 0.13888889 | BQ2014: 2.48 | BR2014: 0.11111111 | BY2014: 2.48 | BZ2014: 0.19444444 | CG2014: 2.48 | CH2014: 0.16666667 | CO2014: 2.3759406 | CP2014: 0.027777778 | CW2014: 2.48 | CX2014: 0.13888889 | DM2014: 3.29 | DN2014: 0.13888889 | DU2014: 2.48 | DV2014: 0.055555556 | EC2014: 3.3759406 | ED2014: 0.19444444 | ES2014: 2.48 | ET2014: 0.027777778 | FA2014: 2.48 | FB2014: 0.11111111 | GG2014: 3.3759406 | GH2014: 0.13888889 | GO2014: 3.3759406 | GP2014: 0.083333333
E2015: 2.3794554 | F2015: 0.055555556 | M2015: 2.48405 | N2015: 0.19444444 | U2015: 2.48405 | V2015: 0.16666667 | AC2015: 2.48405 | AD2015: 0.055555556 | AK2015: 2.3794554 | AL2015: 0.027777778 | AS2015: 3.3794554 | AT2015: 0.16666667 | BA2015: 2.48405 | BB2015: 0.027777778 | BI2015: 2.3794554 | BJ2015: 0.13888889 | BQ2015: 2.48405 | BR2015: 0.11111111 | BY2015: 2.48405 | BZ2015: 0.19444444 | CG2015: 2.48405 | CH2015: 0.16666667 | CO2015: 2.3794554 | CP2015: 0.027777778 | CW2015: 2.48405 | CX2015: 0.13888889 | DM2015: 3.2940099 | DN2015: 0.13888889 | DU2015: 2.48405 | DV2015: 0.055555556 | EC2015: 3.3794554 | ED2015: 0.19444444 | ES2015: 2.48405 | ET2015: 0.027777778 | FA2015: 2.48405 | FB2015: 0.11111111 | GG2015: 3.3794554 | GH2015: 0.13888889 | GO2015: 3.3794554 | GP2015: 0.083333333
E2016: 2.3794554 | F2016: 0 | M2016: 2.48405 | N2016: 0 | U2016: 2.48405 | V2016: 0 | AC2016: 2.48405 | AD2016: 0 | AK2016: 2.3794554 | AL2016: 0 | AS2016: 3.3794554 | AT2016: 0 | BA2016: 2.48405 | BB2016: 0 | BI2016: 2.3794554 | BJ2016: 0 | BQ2016: 2.48405 | BR2016: 0 | BY2016: 2.48405 | BZ2016: 0 | CG2016: 2.48405 | CH2016: 0 | CO2016: 2.3794554 | CP2016: 0 | CW2016: 2.48405 | CX2016: 0 | DM2016: 3.2940099 | DN2016: 0 | DU2016: 2.48405 | DV2016: 0 | EC2016: 3.3794554 | ED2016: 0 | ES2016: 2.48405 | ET2016: 0 | FA2016: 2.48405 | FB2016: 0 | GG2016: 3.3794554 | GH2016: 0 | GO2016: 3.3794554 | GP2016: 0
... E2416: 3.0824257 | F2416: 0 | M2416: 3.2940099 | N2416: 0 | U2416: 3.2940099 | V2416: 0 | AC2416: 3.2940099 | AD2416: 0 | AK2416: 3.0824257 | AL2416: 0 | AS2416: 4.0824257 | AT2416: 0 | BA2416: 3.2940099 | BB2416: 0 | BI2416: 3.0824257 | BJ2416: 0 | BQ2416: 3.2940099 | BR2416: 0 | BY2416: 3.2940099 | BZ2416: 0 | CG2416: 3.2940099 | CH2416: 0 | CO2416: 3.0824257 | CP2416: 0 | CW2416: 3.2940099 | CX2416: 0 | DM2416: 4.0959901 | DN2416: 0 | DU2416: 3.2940099 | DV2416: 0 | EC2416: 4.0824257 | ED2416: 0 | ES2416: 3.2940099 | ET2416: 0 | FA2416: 3.2940099 | FB2416: 0 | GG2416: 4.0824257 | GH2416: 0 | GO2416: 4.0824257 | GP2416: 0
E2417: 3.0859406 | F2417: 0 | M2417: 3.2980198 | N2417: 0 | U2417: 3.2980198 | V2417: 0 | AC2417: 3.2980198 | AD2417: 0 | AK2417: 3.0859406 | AL2417: 0 | AS2417: 4.0859406 | AT2417: 0 | BA2417: 3.2980198 | BB2417: 0 | BI2417: 3.0859406 | BJ2417: 0 | BQ2417: 3.2980198 | BR2417: 0 | BY2417: 3.2980198 | BZ2417: 0 | CG2417: 3.2980198 | CH2417: 0 | CO2417: 3.0859406 | CP2417: 0 | CW2417: 3.2980198 | CX2417: 0 | DU2417: 3.2980198 | DV2417: 0 | EC2417: 4.0859406 | ED2417: 0 | ES2417: 3.2980198 | ET2417: 0 | FA2417: 3.2980198 | FB2417: 0 | GG2417: 4.0859406 | GH2417: 0 | GO2417: 4.0859406 | GP2417: 0
E2418: 3.0859406 | F2418: 0.027777778 | M2418: 3.2980198 | N2418: 0.27777778 | U2418: 3.2980198 | V2418: 0.055555556 | AC2418: 3.2980198 | AD2418: 0.027777778 | AK2418: 3.0859406 | AL2418: 0.027777778 | AS2418: 4.0859406 | AT2418: 0.055555556 | BA2418: 3.2980198 | BB2418: 0.083333333 | BI2418: 3.0859406 | BJ2418: 0.055555556 | BQ2418: 3.2980198 | BR2418: 0.083333333 | BY2418: 3.2980198 | BZ2418: 0.13888889 | CG2418: 3.2980198 | CH2418: 0.16666667 | CO2418: 3.0859406 | CP2418: 0.027777778 | CW2418: 3.2980198 | CX2418: 0.083333333 | DU2418: 3.2980198 | DV2418: 0.055555556 | EC2418: 4.0859406 | ED2418: 0.19444444 | ES2418: 3.2980198 | ET2418: 0.027777778 | FA2418: 3.2980198 | FB2418: 0.083333333 | GG2418: 4.0859406 | GH2418: 0.055555556 | GO2418: 4.0859406 | GP2418: 0.055555556
E2419: 3.0894554 | F2419: 0.027777778 | M2419: 3.3020297 | N2419: 0.27777778 | U2419: 3.3020297 | V2419: 0.055555556 | AC2419: 3.3020297 | AD2419: 0.027777778 | AK2419: 3.0894554 | AL2419: 0.027777778 | AS2419: 4.0894554 | AT2419: 0.055555556 | BA2419: 3.3020297 | BB2419: 0.083333333 | BI2419: 3.0894554 | BJ2419: 0.055555556 | BQ2419: 3.3020297 | BR2419: 0.083333333 | BY2419: 3.3020297 | BZ2419: 0.13888889 | CG2419: 3.3020297 | CH2419: 0.16666667 | CO2419: 3.0894554 | CP2419: 0.027777778 | CW2419: 3.3020297 | CX2419: 0.083333333 | DU2419: 3.3020297 | DV2419: 0.055555556 | EC2419: 4.0894554 | ED2419: 0.19444444 | ES2419: 3.3020297 | ET2419: 0.027777778 | FA2419: 3.3020297 | FB2419: 0.083333333 | GG2419: 4.0894554 | GH2419: 0.055555556 | GO2419: 4.0894554 | GP2419: 0.055555556
E2420: 3.0894554 | F2420: 0 | M2420: 3.3020297 | N2420: 0 | U2420: 3.3020297 | V2420: 0 | AC2420: 3.3020297 | AD2420: 0 | AK2420: 3.0894554 | AL2420: 0 | AS2420: 4.0894554 | AT2420: 0 | BA2420: 3.3020297 | BB2420: 0 | BI2420: 3.0894554 | BJ2420: 0 | BQ2420: 3.3020297 | BR2420: 0 | BY2420: 3.3020297 | BZ2420: 0 | CG2420: 3.3020297 | CH2420: 0 | CO2420: 3.0894554 | CP2420: 0 | CW2420: 3.3020297 | CX2420: 0 | DU2420: 3.3020297 | DV2420: 0 | EC2420: 4.0894554 | ED2420: 0 | ES2420: 3.3020297 | ET2420: 0 | FA2420: 3.3020297 | FB2420: 0 | GG2420: 4.0894554 | GH2420: 0 | GO2420: 4.0894554 | GP2420: 0
E2421: 3.0929703 | F2421: 0 | M2421: 3.3060396 | N2421: 0 | U2421: 3.3060396 | V2421: 0 | AC2421: 3.3060396 | AD2421: 0 | AK2421: 3.0929703 | AL2421: 0 | AS2421: 4.0929703 | AT2421: 0 | BA2421: 3.3060396 | BB2421: 0 | BI2421: 3.0929703 | BJ2421: 0 | BQ2421: 3.3060396 | BR2421: 0 | BY2421: 3.3060396 | BZ2421: 0 | CG2421: 3.3060396 | CH2421: 0 | CO2421: 3.0929703 | CP2421: 0 | CW2421: 3.3060396 | CX2421: 0 | DU2421: 3.3060396 | DV2421: 0 | EC2421: 4.0929703 | ED2421: 0 | ES2421: 3.3060396 | ET2421: 0 | FA2421: 3.3060396 | FB2421: 0 | GG2421: 4.0929703 | GH2421: 0 | GO2421: 4.0929703 | GP2421: 0
E2422: 3.0929703 | F2422: 0.027777778 | M2422: 3.3060396 | N2422: 0.27777778 | U2422: 3.3060396 | V2422: 0.055555556 | AC2422: 3.3060396 | AD2422: 0.027777778 | AK2422: 3.0929703 | AL2422: 0.027777778 | AS2422: 4.0929703 | AT2422: 0.055555556 | BA2422: 3.3060396 | BB2422: 0.083333333 | BI2422: 3.0929703 | BJ2422: 0.055555556 | BQ2422: 3.3060396 | BR2422: 0.083333333 | BY2422: 3.3060396 | BZ2422: 0.13888889 | CG2422: 3.3060396 | CH2422: 0.16666667 | CO2422: 3.0929703 | CP2422: 0.027777778 | CW2422: 3.3060396 | CX2422: 0.083333333 | DU2422: 3.3060396 | DV2422: 0.055555556 | EC2422: 4.0929703 | ED2422: 0.19444444 | ES2422: 3.3060396 | ET2422: 0.027777778 | FA2422: 3.3060396 | FB2422: 0.083333333 | GG2422: 4.0929703 | GH2422: 0.055555556 | GO2422: 4.0929703 | GP2422: 0.055555556
E2423: 3.0964851 | F2423: 0.027777778 | M2423: 3.3100495 | N2423: 0.27777778 | U2423: 3.3100495 | V2423: 0.055555556 | AC2423: 3.3100495 | AD2423: 0.027777778 | AK2423: 3.0964851 | AL2423: 0.027777778 | AS2423: 4.0964851 | AT2423: 0.055555556 | BA2423: 3.3100495 | BB2423: 0.083333333 | BI2423: 3.0964851 | BJ2423: 0.055555556 | BQ2423: 3.3100495 | BR2423: 0.083333333 | BY2423: 3.3100495 | BZ2423: 0.13888889 | CG2423: 3.3100495 | CH2423: 0.16666667 | CO2423: 3.0964851 | CP2423: 0.027777778 | CW2423: 3.3100495 | CX2423: 0.083333333 | DU2423: 3.3100495 | DV2423: 0.055555556 | EC2423: 4.0964851 | ED2423: 0.19444444 | ES2423: 3.3100495 | ET2423: 0.027777778 | FA2423: 3.3100495 | FB2423: 0.083333333 | GG2423: 4.0964851 | GH2423: 0.055555556 | GO2423: 4.0964851 | GP2423: 0.055555556
E2424: 3.0964851 | F2424: 0 | M2424: 3.3100495 | N2424: 0 | U2424: 3.3100495 | V2424: 0 | AC2424: 3.3100495 | AD2424: 0 | AK2424: 3.0964851 | AL2424: 0 | AS2424: 4.0964851 | AT2424: 0 | BA2424: 3.3100495 | BB2424: 0 | BI2424: 3.0964851 | BJ2424: 0 | BQ2424: 3.3100495 | BR2424: 0 | BY2424: 3.3100495 | BZ2424: 0 | CG2424: 3.3100495 | CH2424: 0 | CO2424: 3.0964851 | CP2424: 0 | CW2424: 3.3100495 | CX2424: 0 | DU2424: 3.3100495 | DV2424: 0 | EC2424: 4.0964851 | ED2424: 0 | ES2424: 3.3100495 | ET2424: 0 | FA2424: 3.3100495 | FB2424: 0 | GG2424: 4.0964851 | GH2424: 0 | GO2424: 4.0964851 | GP2424: 0
M2425: 3.3140594 | N2425: 0 | U2425: 3.3140594 | V2425: 0 | AC2425: 3.3140594 | AD2425: 0 | BA2425: 3.3140594 | BB2425: 0 | BQ2425: 3.3140594 | BR2425: 0 | BY2425: 3.3140594 | BZ2425: 0 | CG2425: 3.3140594 | CH2425: 0 | CW2425: 3.3140594 | CX2425: 0 | DU2425: 3.3140594 | DV2425: 0 | ES2425: 3.3140594 | ET2425: 0 | FA2425: 3.3140594 | FB2425: 0
M2426: 3.3140594 | N2426: 0.27777778 | U2426: 3.3140594 | V2426: 0.055555556 | AC2426: 3.3140594 | AD2426: 0.027777778 | BA2426: 3.3140594 | BB2426: 0.083333333 | BQ2426: 3.3140594 | BR2426: 0.083333333 | BY2426: 3.3140594 | BZ2426: 0.13888889 | CG2426: 3.3140594 | CH2426: 0.16666667 | CW2426: 3.3140594 | CX2426: 0.083333333 | DU2426: 3.3140594 | DV2426: 0.055555556 | ES2426: 3.3140594 | ET2426: 0.027777778 | FA2426: 3.3140594 | FB2426: 0.083333333
M2427: 3.3180693 | N2427: 0.27777778 | U2427: 3.3180693 | V2427: 0.055555556 | AC2427: 3.3180693 | AD2427: 0.027777778 | BA2427: 3.3180693 | BB2427: 0.083333333 | BQ2427: 3.3180693 | BR2427: 0.083333333 | BY2427: 3.3180693 | BZ2427: 0.13888889 | CG2427: 3.3180693 | CH2427: 0.16666667 | CW2427: 3.3180693 | CX2427: 0.083333333 | DU2427: 3.3180693 | DV2427: 0.055555556 | ES2427: 3.3180693 | ET2427: 0.027777778 | FA2427: 3.3180693 | FB2427: 0.083333333
M2428: 3.3180693 | N2428: 0 | U2428: 3.3180693 | V2428: 0 | AC2428: 3.3180693 | AD2428: 0 | BA2428: 3.3180693 | BB2428: 0 | BQ2428: 3.3180693 | BR2428: 0 | BY2428: 3.3180693 | BZ2428: 0 | CG2428: 3.3180693 | CH2428: 0 | CW2428: 3.3180693 | CX2428: 0 | DU2428: 3.3180693 | DV2428: 0 | ES2428: 3.3180693 | ET2428: 0 | FA2428: 3.3180693 | FB2428: 0
M2429: 3.3220792 | N2429: 0 | U2429: 3.3220792 | V2429: 0 | AC2429: 3.3220792 | AD2429: 0 | BA2429: 3.3220792 | BB2429: 0 | BQ2429: 3.3220792 | BR2429: 0 | BY2429: 3.3220792 | BZ2429: 0 | CG2429: 3.3220792 | CH2429: 0 | CW2429: 3.3220792 | CX2429: 0 | DU2429: 3.3220792 | DV2429: 0 | ES2429: 3.3220792 | ET2429: 0 | FA2429: 3.3220792 | FB2429: 0
M2430: 3.3220792 | N2430: 0.27777778 | U2430: 3.3220792 | V2430: 0.055555556 | AC2430: 3.3220792 | AD2430: 0.027777778 | BA2430: 3.3220792 | BB2430: 0.083333333 | BQ2430: 3.3220792 | BR2430: 0.083333333 | BY2430: 3.3220792 | BZ2430: 0.13888889 | CG2430: 3.3220792 | CH2430: 0.16666667 | CW2430: 3.3220792 | CX2430: 0.083333333 | DU2430: 3.3220792 | DV2430: 0.055555556 | ES2430: 3.3220792 | ET2430: 0.027777778 | FA2430: 3.3220792 | FB2430: 0.083333333
M2431: 3.3260891 | N2431: 0.27777778 | U2431: 3.3260891 | V2431: 0.055555556 | AC2431: 3.3260891 | AD2431: 0.027777778 | BA2431: 3.3260891 | BB2431: 0.083333333 | BQ2431: 3.3260891 | BR2431: 0.083333333 | BY2431: 3.3260891 | BZ2431: 0.13888889 | CG2431: 3.3260891 | CH2431: 0.16666667 | CW2431: 3.3260891 | CX2431: 0.083333333 | DU2431: 3.3260891 | DV2431: 0.055555556 | ES2431: 3.3260891 | ET2431: 0.027777778 | FA2431: 3.3260891 | FB2431: 0.083333333
M2432: 3.3260891 | N2432: 0 | U2432: 3.3260891 | V2432: 0 | AC2432: 3.3260891 | AD2432: 0 | BA2432: 3.3260891 | BB2432: 0 | BQ2432: 3.3260891 | BR2432: 0 | BY2432: 3.3260891 | BZ2432: 0 | CG2432: 3.3260891 | CH2432: 0 | CW2432: 3.3260891 | CX2432: 0 | DU2432: 3.3260891 | DV2432: 0 | ES2432: 3.3260891 | ET2432: 0 | FA2432: 3.3260891 | FB2432: 0
M2433: 3.330099 | N2433: 0 | U2433: 3.330099 | V2433: 0 | AC2433: 3.330099 | AD2433: 0 | BA2433: 3.330099 | BB2433: 0 | BQ2433: 3.330099 | BR2433: 0 | BY2433: 3.330099 | BZ2433: 0 | CG2433: 3.330099 | CH2433: 0 | CW2433: 3.330099 | CX2433: 0 | DU2433: 3.330099 | DV2433: 0 | ES2433: 3.330099 | ET2433: 0 | FA2433: 3.330099 | FB2433: 0
M2434: 3.330099 | N2434: 0.27777778 | U2434: 3.330099 | V2434: 0.055555556 | AC2434: 3.330099 | AD2434: 0.027777778 | BA2434: 3.330099 | BB2434: 0.083333333 | BQ2434: 3.330099 | BR2434: 0.083333333 | BY2434: 3.330099 | BZ2434: 0.13888889 | CG2434: 3.330099 | CH2434: 0.16666667 | CW2434: 3.330099 | CX2434: 0.083333333 | DU2434: 3.330099 | DV2434: 0.055555556 | ES2434: 3.330099 | ET2434: 0.027777778 | FA2434: 3.330099 | FB2434: 0.083333333
M2435: 3.3341089 | N2435: 0.27777778 | U2435: 3.3341089 | V2435: 0.055555556 | AC2435: 3.3341089 | AD2435: 0.027777778 | BA2435: 3.3341089 | BB2435: 0.083333333 | BQ2435: 3.3341089 | BR2435: 0.083333333 | BY2435: 3.3341089 | BZ2435: 0.13888889 | CG2435: 3.3341089 | CH2435: 0.16666667 | CW2435: 3.3341089 | CX2435: 0.083333333 | DU2435: 3.3341089 | DV2435: 0.055555556 | ES2435: 3.3341089 | ET2435: 0.027777778 | FA2435: 3.3341089 | FB2435: 0.083333333
M2436: 3.3341089 | N2436: 0 | U2436: 3.3341089 | V2436: 0 | AC2436: 3.3341089 | AD2436: 0 | BA2436: 3.3341089 | BB2436: 0 | BQ2436: 3.3341089 | BR2436: 0 | BY2436: 3.3341089 | BZ2436: 0 | CG2436: 3.3341089 | CH2436: 0 | CW2436: 3.3341089 | CX2436: 0 | DU2436: 3.3341089 | DV2436: 0 | ES2436: 3.3341089 | ET2436: 0 | FA2436: 3.3341089 | FB2436: 0
... M2816: 4.0959901 | N2816: 0 | U2816: 4.0959901 | V2816: 0 | AC2816: 4.0959901 | AD2816: 0 | BA2816: 4.0959901 | BB2816: 0 | BQ2816: 4.0959901 | BR2816: 0 | BY2816: 4.0959901 | BZ2816: 0 | CG2816: 4.0959901 | CH2816: 0 | CW2816: 4.0959901 | CX2816: 0 | DU2816: 4.0959901 | DV2816: 0 | ES2816: 4.0959901 | ET2816: 0 | FA2816: 4.0959901 | FB2816: 0

Sheet Rééchantillonnages
B1: XLSTAT 2011.4.02 - Statistiques rééchantillonnées - le 19/01/2012 à 11:43:42
B2: Données quantitatives : Classeur = enquêtetout.xlsx / Feuille = Feuil2 / Plage = Feuil2!$B$1:$Z$37 / 36 lignes et 25 colonnes
B3: Méthode : Bootstrap
B4: Taille d'échantillon : 36
B5: Nombre d'échantillons : 100
B6: Graine (nombres aléatoires) : 123456789
B9: Statistiques descriptives :
B11: Variable | C11: Observations | D11: Obs. avec données manquantes | E11: Obs. sans données manquantes | F11: Minimum | G11: Maximum | H11: Moyenne | I11: Ecart-type
B12: 1_ER | C12: 36 | D12: 0 | E12: 36 | F12: -4 | G12: 3 | H12: -2.3888889 | I12: 1.8559215
B13: 2_ER | C13: 36 | D13: 0 | E13: 36 | F13: -4 | G13: 4 | H13: 1.5833333 | I13: 2.3588738
B14: 3_ER | C14: 36 | D14: 0 | E14: 36 | F14: -4 | G14: 4 | H14: -0.25 | I14: 2.3829753
B15: 4_ER | C15: 36 | D15: 0 | E15: 36 | F15: -4 | G15: 4 | H15: -0.83333333 | I15: 2.0632845
B16: 5_DE1 | C16: 36 | D16: 0 | E16: 36 | F16: -4 | G16: 3 | H16: -2.0555556 | I16: 1.7557163
B17: 6_DE2 | C17: 36 | D17: 0 | E17: 36 | F17: -3 | G17: 4 | H17: 1.25 | I17: 1.7464249
B18: 7_DE3 | C18: 36 | D18: 0 | E18: 36 | F18: -4 | G18: 4 | H18: -0.66666667 | I18: 2.4142434
B19: 8_DE4 | C19: 36 | D19: 0 | E19: 36 | F19: -4 | G19: 3 | H19: -1.0277778 | I19: 2.035206
B20: 9_DE5 | C20: 36 | D20: 0 | E20: 36 | F20: -4 | G20: 4 | H20: 0.22222222 | I20: 2.2438629
B21: 10_MO1 | C21: 36 | D21: 0 | E21: 36 | F21: -4 | G21: 4 | H21: 0.75 | I21: 2.4068355
B22: 11_EF1 | C22: 36 | D22: 0 | E22: 36 | F22: -4 | G22: 4 | H22: 1.1388889 | I22: 2.3682758
B23: 12_EF2 | C23: 36 | D23: 0 | E23: 36 | F23: -4 | G23: 3 | H23: -2.3888889 | I23: 1.7772817
... B36: 25_EF9 | C36: 36 | D36: 0 | E36: 36 | F36: -3 | G36: 4 | H36: 0.44444444 | I36: 1.8584855
B39: Résultats du rééchantillonnage (1_ER) :
B41: Paramètres | C41: Paramètres | D41: Moyenne (Bootstrap) | E41: Ecart-type (Bootstrap) | F41: Borne inférieure (Intervalle bootstrap standard) | G41: Borne supérieure (Intervalle bootstrap standard)
B42: Somme | C42: -86 | D42: -85.88 | E42: 11.053844 | F42: -108.4405 | G42: -63.559503
B43: Moyenne | C43: -2.3888889 | D43: -2.3855556 | E43: 0.30705123 | F43: -3.012236 | G43: -1.7655417
B44: Variance (n) | C44: 3.3487654 | D44: 3.3274537 | E44: 0.97620291 | F44: 1.3669682 | G44: 5.3305627
B45: Variance (n-1) | C45: 3.4444444 | D45: 3.4225238 | E45: 1.0040944 | F45: 1.4060244 | G45: 5.4828645
B46: Ecart-type (n) | C46: 1.8299632 | D46: 1.8031079 | E46: 0.27753528 | F46: 1.2665367 | G46: 2.3933898
B47: Ecart-type (n-1) | C47: 1.8559215 | D47: 1.8286852 | E47: 0.28147215 | F47: 1.2845026 | G47: 2.4273403
B48: Médiane | C48: -3 | D48: -2.88 | E48: 0.38349799 | F48: -3.7785423 | G48: -2.2214577
B49: 1er Quartile | C49: -4 | D49: -3.875 | E49: 0.30255645 | F49: -4.6142222 | G49: -3.3857778
B50: 3ème Quartile | C50: -2 | D50: -1.81 | E50: 0.55745634 | F50: -3.1316965 | G50: -0.86830346
B51: Coefficient de variation | C51: -0.76603112 | D51: -0.7821143 | E51: 0.21756268 | F51: -1.2077068 | G51: -0.32435539
B52: Ecart-type de la moyenne | C52: 0.30932024 | D52: 0.30478086 | E52: 0.046912025 | F52: 0.21408377 | G52: 0.40455672
B53: Ecart absolu moyen | C53: 1.3796296 | D53: 1.3728549 | E53: 0.25211056 | F53: 0.86781797 | G53: 1.8914413
B54: Ecart absolu médian | C54: 1 | D54: 1.035 | E54: 0.2952058 | F54: 0.40070036 | G54: 1.5992996
B55: Moyenne géométrique
B56: Ecart-type géométrique
B57: Moyenne harmonique
B60: Résultats du rééchantillonnage (2_ER) :
B62: Paramètres | C62: Paramètres | D62: Moyenne (Bootstrap) | E62: Ecart-type (Bootstrap) | F62: Borne inférieure (Intervalle bootstrap standard) | G62: Borne supérieure (Intervalle bootstrap standard)
B63: Somme | C63: 57 | D63: 58.9 | E63: 13.509069 | F63: 29.575132 | G63: 84.424868
B64: Moyenne | C64: 1.5833333 | D64: 1.6361111 | E64: 0.37525192 | F64: 0.82153143 | G64: 2.3451352
B65: Variance (n) | C65: 5.4097222 | D65: 5.1770679 | E65: 1.1254812 | F65: 3.1248739 | G65: 7.6945706
B66: Variance (n-1) | C66: 5.5642857 | D66: 5.3249841 | E66: 1.1576378 | F66: 3.214156 | G66: 7.9144154
B67: Ecart-type (n) | C67: 2.325881 | D67: 2.2614522 | E67: 0.25206559 | F67: 1.8141606 | G67: 2.8376013
B68: Ecart-type (n-1) | C68: 2.3588738 | D68: 2.2935312 | E68: 0.25564117 | F68: 1.8398947 | G68: 2.877853
B69: Médiane | C69: 2 | D69: 2.295 | E69: 0.71454937 | F69: 0.54938765 | G69: 3.4506123
B70: 1er Quartile | C70: 0 | D70: 0.11 | E70: 0.51532083 | F70: -1.0461569 | G70: 1.0461569
B71: 3ème Quartile | C71: 4 | D71: 3.6275 | E71: 0.45573644 | F71: 3.0748058 | G71: 4.9251942
B72: Coefficient de variation | C72: 1.4689774 | D72: 1.4970179 | E72: 0.53375065 | F72: 0.38540602 | G72: 2.5525489
B73: Ecart-type de la moyenne | C73: 0.39314564 | D73: 0.3822552 | E73: 0.042606861 | F73: 0.30664911 | G73: 0.47964216
B74: Ecart absolu moyen | C74: 2.0092593 | D74: 1.9321759 | E74: 0.25044352 | F74: 1.5008319 | G74: 2.5176866
B75: Ecart absolu médian | C75: 2 | D75: 1.565 | E75: 0.47490031 | F75: 1.0359011 | G75: 2.9640989
B76: Moyenne géométrique
B77: Ecart-type géométrique
B78: Moyenne harmonique
B81: Résultats du rééchantillonnage (3_ER) :
B83: Paramètres | C83: Paramètres | D83: Moyenne (Bootstrap) | E83: Ecart-type (Bootstrap) | F83: Borne inférieure (Intervalle bootstrap standard) | G83: Borne supérieure (Intervalle bootstrap standard)
B84: Somme | C84: -9 | D84: -9.2 | E84: 14.96528 | F84: -39.381133 | G84: 21.381133
B85: Moyenne | C85: -0.25 | D85: -0.25555556 | E85: 0.41570221 | F85: -1.0939204 | G85: 0.59392036
B86: Variance (n) | C86: 5.5208333 | D86: 5.3491667 | E86: 0.88181817 | F86: 3.7306473 | G86: 7.3110194
B87: Variance (n-1) | C87: 5.6785714 | D87: 5.502 | E87: 0.90701297 | F87: 3.8372372 | G87: 7.5199057
B88: Ecart-type (n) | C88: 2.3496454 | D88: 2.3048595 | E88: 0.19277132 | F88: 1.9582988 | G88: 2.740992
B89: Ecart-type (n-1) | C89: 2.3829753 | D89: 2.3375542 | E89: 0.1955058 | F89: 1.9860775 | G89: 2.7798732
B90: Médiane | C90: 0 | D90: -0.37 | E90: 0.73381527 | F90: -1.4897242 | G90: 1.4897242
B91: 1er Quartile | C91: -2 | D91: -2.27 | E91: 0.65005827 | F91: -3.3196885 | G91: -0.68031155
B92: 3ème Quartile | C92: 2 | D92: 1.505 | E92: 1.3238202 | F92: -0.68749794 | G92: 4.6874979
B93: Coefficient de variation | C93: -9.3985815 | D93: -2.2492817 | E93: 27.045719 | F93: -64.30431 | G93: 45.507147
B94: Ecart-type de la moyenne | C94: 0.39716256 | D94: 0.38959237 | E94: 0.0325843 | F94: 0.33101291 | G94: 0.4633122
B95: Ecart absolu moyen | C95: 1.9583333 | D95: 1.9258488 | E95: 0.22561106 | F95: 1.5003185 | G95: 2.4163481
B96: Ecart absolu médian | C96: 2 | D96: 2.04 | E96: 0.6058636 | F96: 0.77003149 | G96: 3.2299685
B97: Moyenne géométrique
B98: Ecart-type géométrique
B99: Moyenne harmonique
B102: Résultats du rééchantillonnage (4_ER) :
B104: Paramètres | C104: Paramètres | D104: Moyenne (Bootstrap) | E104: Ecart-type (Bootstrap) | F104: Borne inférieure (Intervalle bootstrap standard) | G104: Borne supérieure (Intervalle bootstrap standard)
B105: Somme | C105: -30 | D105: -28.64 | E105: 10.815739 | F105: -51.957117 | G105: -8.0428833
B106: Moyenne | C106: -0.83333333 | D106: -0.79555556 | E106: 0.30043718 | F106: -1.4432532 | G106: -0.22341342
B107: Variance (n) | C107: 4.1388889 | D107: 4.1416204 | E107: 0.84370824 | F107: 2.4260701 | G107: 5.8517077
B108: Variance (n-1) | C108: 4.2571429 | D108: 4.2599524 | E108: 0.86781419 | F108: 2.4953864 | G108: 6.0188993
B109: Ecart-type (n) | C109: 2.0344259 | D109: 2.0243966 | E109: 0.20946969 | F109: 1.6091799 | G109: 2.459672
B110: Ecart-type (n-1) | C110: 2.0632845 | D110: 2.0531129 | E110: 0.21244104 | F110: 1.6320063 | G110: 2.4945627
B111: Médiane | C111: -2 | D111: -1.35 | E111: 0.88048426 | F111: -3.7874781 | G111: -0.21252193
B112: 1er Quartile | C112: -2 | D112: -2.0775 | E112: 0.24281337 | F112: -2.4929374 | G112: -1.5070626
B113: 3ème Quartile | C113: 0 | D113: 0.3775 | E113: 0.71465097 | F113: -1.4508186 | G113: 1.4508186
B114: Coefficient de variation | C114: -2.4413111 | D114: -3.3351885 | E114: 3.305259 | F114: -9.1513437 | G114: 4.2687214
B115: Ecart-type de la moyenne | C115: 0.34388075 | D115: 0.34218548 | E115: 0.035406839 | F115: 0.27200104 | G115: 0.41576045
B116: Ecart absolu moyen | C116: 1.7407407 | D116: 1.7246296 | E116: 0.19122464 | F116: 1.3525341 | G116: 2.1289474
B117: Ecart absolu médian | C117: 1.5 | D117: 1.39 | E117: 0.62595382 | F117: 0.22924619 | G117: 2.7707538
B118: Moyenne géométrique
B119: Ecart-type géométrique
B120: Moyenne harmonique
B123: Résultats du rééchantillonnage (5_DE1) :
B125: Paramètres | C125: Paramètres | D125: Moyenne (Bootstrap) | E125: Ecart-type (Bootstrap) | F125: Borne inférieure (Intervalle bootstrap standard) | G125: Borne supérieure (Intervalle bootstrap standard)
B126: Somme | C126: -74 | D126: -72.43 | E126: 11.182829 | F126: -96.702349 | G126: -51.297651
B127: Moyenne | C127: -2.0555556 | D127: -2.0119444 | E127: 0.31063413 | F127: -2.6861764 | G127: -1.4249347
B128: Variance (n) | C128: 2.9969136 | D128: 2.9179398 | E128: 0.8289178 | F128: 1.314121 | G128: 4.6797062
B129: Variance (n-1) | C129: 3.0825397 | D129: 3.0013095 | E129: 0.85260116 | F129: 1.3516673 | G129: 4.8134121
B130: Ecart-type (n) | C130: 1.7311596 | D130: 1.6903269 | E130: 0.24768608 | F130: 1.2283301 | G130: 2.2339891
...

Sheet NORM
B1: XLSTAT 2011.4.02 - Tests de normalité - le 14/01/2012 à 17:50:16
B2: Données : Classeur = enquêtetout.xlsx / Feuille = Feuil2 / Plage = Feuil2!$B$1:$Z$37 / 36 lignes et 25 colonnes
B3: Niveau de signification (%) : 5
B6: Statistiques descriptives :
B8: Variable | C8: Observations | D8: Obs. avec données manquantes | E8: Obs. sans données manquantes | F8: Minimum | G8: Maximum | H8: Moyenne | I8: Ecart-type
B9: 1_ER | C9: 36 | D9: 0 | E9: 36 | F9: -4 | G9: 3 | H9: -2.3888889 | I9: 1.8559215
B10: 2_ER | C10: 36 | D10: 0 | E10: 36 | F10: -4 | G10: 4 | H10: 1.5833333 | I10: 2.3588738
B11: 3_ER | C11: 36 | D11: 0 | E11: 36 | F11: -4 | G11: 4 | H11: -0.25 | I11: 2.3829753
B12: 4_ER | C12: 36 | D12: 0 | E12: 36 | F12: -4 | G12: 4 | H12: -0.83333333 | I12: 2.0632845
B13: 5_DE1 | C13: 36 | D13: 0 | E13: 36 | F13: -4 | G13: 3 | H13: -2.0555556 | I13: 1.7557163
B14: 6_DE2 | C14: 36 | D14: 0 | E14: 36 | F14: -3 | G14: 4 | H14: 1.25 | I14: 1.7464249
B15: 7_DE3 | C15: 36 | D15: 0 | E15: 36 | F15: -4 | G15: 4 | H15: -0.66666667 | I15: 2.4142434
B16: 8_DE4 | C16: 36 | D16: 0 | E16: 36 | F16: -4 | G16: 3 | H16: -1.0277778 | I16: 2.035206
B17: 9_DE5 | C17: 36 | D17: 0 | E17: 36 | F17: -4 | G17: 4 | H17: 0.22222222 | I17: 2.2438629
B18: 10_MO1 | C18: 36 | D18: 0 | E18: 36 | F18: -4 | G18: 4 | H18: 0.75 | I18: 2.4068355
B19: 11_EF1 | C19: 36 | D19: 0 | E19: 36 | F19: -4 | G19: 4 | H19: 1.1388889 | I19: 2.3682758
B20: 12_EF2 | C20: 36 | D20: 0 | E20: 36 | F20: -4 | G20: 3 | H20: -2.3888889 | I20: 1.7772817
... B33: 25_EF9 | C33: 36 | D33: 0 | E33: 36 | F33: -3 | G33: 4 | H33: 0.44444444 | I33: 1.8584855
B36: Test de Shapiro-Wilk (1_ER) :
B38: W | C38: 0.7924616
B39: p-value | C39: < 0,0001
B40: alpha | C40: 0.05
B42: Interprétation du test :
B43: H0 : L'échantillon suit une loi Normale.
B44: Ha : L'échantillon ne suit pas une loi Normale.
B45: Etant donné que la p-value calculée est inférieure au niveau de signification alpha=0.05, on doit rejeter l'hypothèse nulle H0, et retenir l'hypothèse alternative Ha.
B46: Le risque de rejeter l'hypothèse nulle H0 alors qu'elle est vraie est inférieur à 0.01%.
B49: Test de Anderson-Darling (1_ER) :
B51: A² | C51: 2.5808306
B52: p-value | C52: < 0,0001
B53: alpha | C53: 0.05
B55: Interprétation du test :
B56: H0 : L'échantillon suit une loi Normale.
B57: Ha : L'échantillon ne suit pas une loi Normale.
B58: Etant donné que la p-value calculée est inférieure au niveau de signification alpha=0.05, on doit rejeter l'hypothèse nulle H0, et retenir l'hypothèse alternative Ha.
B59: Le risque de rejeter l'hypothèse nulle H0 alors qu'elle est vraie est inférieur à 0.01%.
B62: Test de Lilliefors (1_ER) :
B64: D | C64: 0.25034688
B65: D (normalisé) | C65: 1.5020813
B66: p-value | C66: < 0,0001
B67: alpha | C67: 0.05
B69: Interprétation du test :
B70: H0 : L'échantillon suit une loi Normale.
B71: Ha : L'échantillon ne suit pas une loi Normale.
B72: Etant donné que la p-value calculée est inférieure au niveau de signification alpha=0.05, on doit rejeter l'hypothèse nulle H0, et retenir l'hypothèse alternative Ha.
B73: Le risque de rejeter l'hypothèse nulle H0 alors qu'elle est vraie est inférieur à 0.01%.
B76: Test de Jarque-Bera (1_ER) :
B78: JB (Valeur observée) | C78: 15.041771
B79: JB (Valeur critique) | C79: 5.9914645
B80: DDL | C80: 2
B81: p-value | C81: 0.00054165278
B82: alpha | C82: 0.05
B84: Interprétation du test :
B85: H0 : L'échantillon suit une loi Normale.
B86: Ha : L'échantillon ne suit pas une loi Normale.
B87: Etant donné que la p-value calculée est inférieure au niveau de signification alpha=0.05, on doit rejeter l'hypothèse nulle H0, et retenir l'hypothèse alternative Ha.
B88: Le risque de rejeter l'hypothèse nulle H0 alors qu'elle est vraie est inférieur à 0.05%.
B91: Test de Shapiro-Wilk (2_ER) :
B93: W | C93: 0.86630629
B94: p-value | C94: 0.00046233619
B95: alpha | C95: 0.05
B97: Interprétation du test :
B98: H0 : L'échantillon suit une loi Normale.
B99: Ha : L'échantillon ne suit pas une loi Normale.
B100: Etant donné que la p-value calculée est inférieure au niveau de signification alpha=0.05, on doit rejeter l'hypothèse nulle H0, et retenir l'hypothèse alternative Ha.
B101: Le risque de rejeter l'hypothèse nulle H0 alors qu'elle est vraie est inférieur à 0.05%.
B104: Test de Anderson-Darling (2_ER) :
B106: A² | C106: 1.730978
B107: p-value | C107: 0.00015795296
B108: alpha | C108: 0.05
B110: Interprétation du test :
B111: H0 : L'échantillon suit une loi Normale.
B112: Ha : L'échantillon ne suit pas une loi Normale.
B113: Etant donné que la p-value calculée est inférieure au niveau de signification alpha=0.05, on doit rejeter l'hypothèse nulle H0, et retenir l'hypothèse alternative Ha.
B114: Le risque de rejeter l'hypothèse nulle H0 alors qu'elle est vraie est inférieur à 0.02%.
B117: Test de Lilliefors (2_ER) :
B119: D | C119: 0.1981587
B120: D (normalisé) | C120: 1.1889522
B121: p-value | C121: 0.0010131869
B122: alpha | C122: 0.05
B124: Interprétation du test :
B125: H0 : L'échantillon suit une loi Normale.
B126: Ha : L'échantillon ne suit pas une loi Normale.
B127: Etant donné que la p-value calculée est inférieure au niveau de signification alpha=0.05, on doit rejeter l'hypothèse nulle H0, et retenir l'hypothèse alternative Ha.
B128: Le risque de rejeter l'hypothèse nulle H0 alors qu'elle est vraie est inférieur à 0.10%.
B131: Test de Jarque-Bera (2_ER) :
B133: JB (Valeur observée) | C133: 3.6514713
B134: JB (Valeur critique) | C134: 5.9914645
B135: DDL | C135: 2
B136: p-value | C136: 0.16109909
B137: alpha | C137: 0.05
B139: Interprétation du test :
B140: H0 : L'échantillon suit une loi Normale.
B141: Ha : L'échantillon ne suit pas une loi Normale.
B142: Etant donné que la p-value calculée est supérieure au niveau de signification seuil alpha=0.05, on ne peut pas rejeter l'hypothèse nulle H0.
B143: Le risque de rejeter l'hypothèse nulle H0 alors qu'elle est vraie est de 16.11%.
B146: Test de Shapiro-Wilk (3_ER) :
B148: W | C148: 0.8987565
B149: p-value | C149: 0.0031557683
B150: alpha | C150: 0.05
...

Sheet Histogramme
B1: XLSTAT 2011.4.02 - Histogrammes - le 14/01/2012 à 17:36:28
B2: Données : Classeur = enquêtetout.xlsx / Feuille = Feuil2 / Plage = Feuil2!$B$1:$Z$37 / 36 lignes et 25 colonnes
B3: Intervalles : Nombre = 10
B6: Statistiques descriptives :
B8: Variable | C8: Observations | D8: Obs. avec données manquantes | E8: Obs. sans données manquantes | F8: Minimum | G8: Maximum | H8: Moyenne | I8: Ecart-type
B9: 1_ER | C9: 36 | D9: 0 | E9: 36 | F9: -4 | G9: 3 | H9: -2.3888889 | I9: 1.8559215
B10: 2_ER | C10: 36 | D10: 0 | E10: 36 | F10: -4 | G10: 4 | H10: 1.5833333 | I10: 2.3588738
B11: 3_ER | C11: 36 | D11: 0 | E11: 36 | F11: -4 | G11: 4 | H11: -0.25 | I11: 2.3829753
B12: 4_ER | C12: 36 | D12: 0 | E12: 36 | F12: -4 | G12: 4 | H12: -0.83333333 | I12: 2.0632845
B13: 5_DE1 | C13: 36 | D13: 0 | E13: 36 | F13: -4 | G13: 3 | H13: -2.0555556 | I13: 1.7557163
B14: 6_DE2 | C14: 36 | D14: 0 | E14: 36 | F14: -3 | G14: 4 | H14: 1.25 | I14: 1.7464249
B15: 7_DE3 | C15: 36 | D15: 0 | E15: 36 | F15: -4 | G15: 4 | H15: -0.66666667 | I15: 2.4142434
B16: 8_DE4 | C16: 36 | D16: 0 | E16: 36 | F16: -4 | G16: 3 | H16: -1.0277778 | I16: 2.035206
B17: 9_DE5 | C17: 36 | D17: 0 | E17: 36 | F17: -4 | G17: 4 | H17: 0.22222222 | I17: 2.2438629
B18: 10_MO1 | C18: 36 | D18: 0 | E18: 36 | F18: -4 | G18: 4 | H18: 0.75 | I18: 2.4068355
B19: 11_EF1 | C19: 36 | D19: 0 | E19: 36 | F19: -4 | G19: 4 | H19: 1.1388889 | I19: 2.3682758
B20: 12_EF2 | C20: 36 | D20: 0 | E20: 36 | F20: -4 | G20: 3 | H20: -2.3888889 | I20: 1.7772817
... B33: 25_EF9 | C33: 36 | D33: 0 | E33: 36 | F33: -3 | G33: 4 | H33: 0.44444444 | I33: 1.8584855
B55: Statistiques descriptives pour les intervalles (1_ER) :
B57: Borne inférieure | C57: Borne supérieure | D57: Effectif | E57: Fréquence | F57: Densité
B58: -4 | C58: -3.29 | D58: 12 | E58: 0.33333333 | F58: 0.46948357
B59: -3.29 | C59: -2.58 | D59: 9 | E59: 0.25 | F59: 0.35211268
B60: -2.58 | C60: -1.87 | D60: 9 | E60: 0.25 | F60: 0.35211268
B61: -1.87 | C61: -1.16 | D61: 0 | E61: 0 | F61: 0
B62: -1.16 | C62: -0.45 | D62: 0 | E62: 0 | F62: 0
B63: -0.45 | C63: 0.26 | D63: 3 | E63: 0.083333333 | F63: 0.11737089
B64: 0.26 | C64: 0.97 | D64: 0 | E64: 0 | F64: 0
B65: 0.97 | C65: 1.68 | D65: 0 | E65: 0 | F65: 0
B66: 1.68 | C66: 2.39 | D66: 2 | E66: 0.055555556 | F66: 0.078247261
B67: 2.39 | C67: 3.1 | D67: 1 | E67: 0.027777778 | F67: 0.039123631
B89: Statistiques descriptives pour les intervalles (2_ER) :
B91: Borne inférieure | C91: Borne supérieure | D91: Effectif | E91: Fréquence | F91: Densité
B92: -4 | C92: -3.19 | D92: 1 | E92: 0.027777778 | F92: 0.034293553
B93: -3.19 | C93: -2.38 | D93: 2 | E93: 0.055555556 | F93: 0.068587106
B94: -2.38 | C94: -1.57 | D94: 2 | E94: 0.055555556 | F94: 0.068587106
B95: -1.57 | C95: -0.76 | D95: 0 | E95: 0 | F95: 0
B96: -0.76 | C96: 0.05 | D96: 9 | E96: 0.25 | F96: 0.30864198
B97: 0.05 | C97: 0.86 | D97: 0 | E97: 0 | F97: 0
B98: 0.86 | C98: 1.67 | D98: 0 | E98: 0 | F98: 0
B99: 1.67 | C99: 2.48 | D99: 5 | E99: 0.13888889 | F99: 0.17146776
B100: 2.48 | C100: 3.29 | D100: 7 | E100: 0.19444444 | F100: 0.24005487
B101: 3.29 | C101: 4.1 | D101: 10 | E101: 0.27777778 | F101: 0.34293553
B123: Statistiques descriptives pour les intervalles (3_ER) :
B125: Borne inférieure | C125: Borne supérieure | D125: Effectif | E125: Fréquence | F125: Densité
B126: -4 | C126: -3.19 | D126: 1 | E126: 0.027777778 | F126: 0.034293553
B127: -3.19 | C127: -2.38 | D127: 7 | E127: 0.19444444 | F127: 0.24005487
B128: -2.38 | C128: -1.57 | D128: 7 | E128: 0.19444444 | F128: 0.24005487
B129: -1.57 | C129: -0.76 | D129: 0 | E129: 0 | F129: 0
B130: -0.76 | C130: 0.05 | D130: 11 | E130: 0.30555556 | F130: 0.37722908
B131: 0.05 | C131: 0.86 | D131: 0 | E131: 0 | F131: 0
B132: 0.86 | C132: 1.67 | D132: 0 | E132: 0 | F132: 0
B133: 1.67 | C133: 2.48 | D133: 2 | E133: 0.055555556 | F133: 0.068587106
B134: 2.48 | C134: 3.29 | D134: 6 | E134: 0.16666667 | F134: 0.20576132
B135: 3.29 | C135: 4.1 | D135: 2 | E135: 0.055555556 | F135: 0.068587106
B157: Statistiques descriptives pour les intervalles (4_ER) :
B159: Borne inférieure | C159: Borne supérieure | D159: Effectif | E159: Fréquence | F159: Densité
B160: -4 | C160: -3.19 | D160: 2 | E160: 0.055555556 | F160: 0.068587106
B161: -3.19 | C161: -2.38 | D161: 4 | E161: 0.11111111 | F161: 0.13717421
B162: -2.38 | C162: -1.57 | D162: 14 | E162: 0.38888889 | F162: 0.48010974
B163: -1.57 | C163: -0.76 | D163: 0 | E163: 0 | F163: 0
B164: -0.76 | C164: 0.05 | D164: 9 | E164: 0.25 | F164: 0.30864198
B165: 0.05 | C165: 0.86 | D165: 0 | E165: 0 | F165: 0
B166: 0.86 | C166: 1.67 | D166: 0 | E166: 0 | F166: 0
B167: 1.67 | C167: 2.48 | D167: 4 | E167: 0.11111111 | F167: 0.13717421
B168: 2.48 | C168: 3.29 | D168: 2 | E168: 0.055555556 | F168: 0.068587106
B169: 3.29 | C169: 4.1 | D169: 1 | E169: 0.027777778 | F169: 0.034293553
B191: Statistiques descriptives pour les intervalles (5_DE1) :
B193: Borne inférieure | C193: Borne supérieure | D193: Effectif | E193: Fréquence | F193: Densité
B194: -4 | C194: -3.29 | D194: 7 | E194: 0.19444444 | F194: 0.27386541
B195: -3.29 | C195: -2.58 | D195: 11 | E195: 0.30555556 | F195: 0.43035994
B196: -2.58 | C196: -1.87 | D196: 9 | E196: 0.25 | F196: 0.35211268
B197: -1.87 | C197: -1.16 | D197: 0 | E197: 0 | F197: 0
B198: -1.16 | C198: -0.45 | D198: 0 | E198: 0 | F198: 0
B199: -0.45 | C199: 0.26 | D199: 7 | E199: 0.19444444 | F199: 0.27386541
B200: 0.26 | C200: 0.97 | D200: 0 | E200: 0 | F200: 0
B201: 0.97 | C201: 1.68 | D201: 0 | E201: 0 | F201: 0
B202: 1.68 | C202: 2.39 | D202: 1 | E202: 0.027777778 | F202: 0.039123631
B203: 2.39 | C203: 3.1 | D203: 1 | E203: 0.027777778 | F203: 0.039123631
B225: Statistiques descriptives pour les intervalles (6_DE2) :
B227: Borne inférieure | C227: Borne supérieure | D227: Effectif | E227: Fréquence | F227: Densité
B228: -3 | C228: -2.29 | D228: 1 | E228: 0.027777778 | F228: 0.039123631
B229: -2.29 | C229: -1.58 | D229: 3 | E229: 0.083333333 | F229: 0.11737089
B230: -1.58 | C230: -0.87 | D230: 0 | E230: 0 | F230: 0
B231: -0.87 | C231: -0.16 | D231: 0 | E231: 0 | F231: 0
B232: -0.16 | C232: 0.55 | D232: 10 | E232: 0.27777778 | F232: 0.39123631
B233: 0.55 | C233: 1.26 | D233: 0 | E233: 0 | F233: 0
B234: 1.26 | C234: 1.97 | D234: 0 | E234: 0 | F234: 0
B235: 1.97 | C235: 2.68 | D235: 14 | E235: 0.38888889 | F235: 0.54773083
B236: 2.68 | C236: 3.39 | D236: 6 | E236: 0.16666667 | F236: 0.23474178
B237: 3.39 | C237: 4.1 | D237: 2 | E237: 0.055555556 | F237: 0.078247261
B259: Statistiques descriptives pour les intervalles (7_DE3) :
B261: Borne inférieure | C261: Borne supérieure | D261: Effectif | E261: Fréquence | F261: Densité
B262: -4 | C262: -3.19 | D262: 3 | E262: 0.083333333 | F262: 0.10288066
B263: -3.19 | C263: -2.38 | D263: 7 | E263: 0.19444444 | F263: 0.24005487
B264: -2.38 | C264: -1.57 | D264: 8 | E264: 0.22222222 | F264: 0.27434842
B265: -1.57 | C265: -0.76 | D265: 0 | E265: 0 | F265: 0
B266: -0.76 | C266: 0.05 | D266: 9 | E266: 0.25 | F266: 0.30864198
B267: 0.05 | C267: 0.86 | D267: 0 | E267: 0 | F267: 0
B268: 0.86 | C268: 1.67 | D268: 0 | E268: 0 | F268: 0
B269: 1.67 | C269: 2.48 | D269: 5 | E269: 0.13888889 | F269: 0.17146776
...

Sheet ER
B1: 1_ER | C1: 2_ER | D1: 3_ER | E1: 4_ER | G1: Q-item | M1: Mean | N1: sd | O1: p-value
A2: 1106 | B2: 0 | C2: 2 | D2: 0 | E2: 3 | G2: 1_ER. My decision to take part in this study was difficult | M2: -2.3888889 | N2: 1.8559215 | O2: < 0,0001
A3: 1111 | B3: -2 | C3: 0 | D3: 0 | E3: -2 | G3: 2_ER. When I became acquainted with the objectives of this study, I felt concerned | M3: 1.5833333 | N3: 2.3588738 | O3: 0.00046233619
A4: 1113 | B4: -4 | C4: 4 | D4: 0 | E4: -3 | G4: 3_ER. My initial decision to take part in this research resulted from the encouragement of another person | M4: -0.25 | N4: 2.3829753 | O4: 0.00080281691
A5: 1120 | B5: 0 | C5: 2 | D5: -2 | E5: -3 | G5: 4_ER. Before this study, I was not familiar at all with the methodology of research | M5: -0.83333333 | N5: 2.0632845 | O5: 0.00012957478
A6: 1146 | B6: -4 | C6: 2 | D6: 0 | E6: 0
A7: 1147 | B7: -4 | C7: 0 | D7: 0 | E7: -3 | G7: p-value
A8: 1154 | B8: -4 | C8: 3 | D8: 0 | E8: -2
A9: 1167 | B9: -3 | C9: -3 | D9: -4 | E9: 0
A10: 1168 | B10: -2 | C10: 0 | D10: -2 | E10: 0
A11: 1169 | B11: -4 | C11: 3 | D11: 2 | E11: 2
A12: 1178 | B12: -2 | C12: -3 | D12: 4 | E12: 2
A13: 1194 | B13: -4 | C13: 3 | D13: -3 | E13: -2
A14: 1206 | B14: -4 | C14: -2 | D14: 0 | E14: -2
A15: 1226 | B15: -2 | C15: 0 | D15: -3 | E15: 0
A16: 1232 | B16: 2 | C16: -2 | D16: 3 | E16: 2
A17: 1233 | B17: -2 | C17: -4 | D17: 3 | E17: 0
A18: 1244 | B18: -3 | C18: 2 | D18: -2 | E18: -4
A19: 1261 | B19: -3 | C19: 4 | D19: -3 | E19: 4
... A37: 1378 | B37: -4 | C37: 4 | D37: -3 | E37: -2
A38: Moy | B38: =AVERAGE(B2:B37) -> -2.3888889 | C38: =AVERAGE(C2:C37) -> 1.5833333 | D38: =AVERAGE(D2:D37) -> -0.25 | E38: =AVERAGE(E2:E37) -> -0.83333333
A39: sd | B39: =STDEV(B2:B38) -> 1.8299632 | C39: =STDEV(C2:C38) -> 2.325881 | D39: =STDEV(D2:D38) -> 2.3496454 | E39: =STDEV(E2:E38) -> 2.0344259
A40: Résultats Pôles autisme et Borderline | B40: 1_ER1. Ma décision de participer à cette étude a été difficile | C40: 2_ER2. Lorsque j’ai pris connaissance des objectifs de cette étude je me suis senti(e) concerné(e) | D40: 3_ER3. Avant cette étude je n’étais pas du tout préparé à la méthodologie de la recherche | E40: 4_ER4. Ma décision initiale de participer à cette recherche est issue de l’incitation d’une autre personne

Sheet NTI
B1: 5_NTI1 | C1: 6_NTI2 | D1: 7_NTI3 | E1: 8_NTI4 | F1: 9_NTI5 | G1: 18_NTI6 | H1: 19_NTI7 | I1: 20_NTI8 | J1: 24_NTI9
A2: 1106 | B2: -4 | C2: -3 | D2: 4 | E2: 3 | F2: 4 | G2: -2 | H2: 0 | I2: -4 | J2: 3
A3: 1111 | B3: 0 | C3: 2 | D3: -2 | E3: -3 | F3: 0 | G3: -3 | H3: -3 | I3: 4 | J3: -2
A4: 1113 | B4: -2 | C4: 0 | D4: -4 | E4: 0 | F4: 0 | G4: 0 | H4: -2 | I4: -3 | J4: -2
A5: 1120 | B5: 0 | C5: 2 | D5: -2 | E5: 0 | F5: 0 | G5: -2 | H5: -3 | I5: 0 | J5: 0
A6: 1146 | B6: -3 | C6: 3 | D6: 0 | E6: -3 | F6: 0 | G6: 0 | H6: -2 | I6: -2 | J6: -2
A7: 1147 | B7: -3 | C7: 2 | D7: -2 | E7: -2 | F7: -2 | G7: 0 | H7: -3 | I7: 0 | J7: 2
A8: 1154 | B8: -3 | C8: 3 | D8: 2 | E8: 2 | F8: 0 | G8: 0 | H8: -4 | I8: 0 | J8: 3
A9: 1167 | B9: -2 | C9: -2 | D9: 2 | E9: 2 | F9: 0 | G9: 0 | H9: -2 | I9: 3 | J9: 0
A10: 1168 | B10: -3 | C10: 3 | D10: -3 | E10: -2 | F10: -3 | G10: 0 | H10: -2 | I10: 0 | J10: 0
A11: 1169 | B11: 0 | C11: 0 | D11: -2 | E11: -2 | F11: 0 | G11: -3 | H11: -2 | I11: -2 | J11: -3
A12: 1178 | B12: -3 | C12: 0 | D12: 0 | E12: -4 | F12: 0 | G12: -2 | H12: 0 | I12: -4 | J12: 0
A13: 1194 | B13: -2 | C13: 0 | D13: -3 | E13: -4 | F13: 0 | G13: 0 | H13: 0 | I13: 2 | J13: 3
... A37: 1378 | B37: -2 | C37: 2 | D37: 2 | E37: -3 | F37: 3 | G37: 0 | H37: 2 | I37: 3 | J37: 0
A38: Moy | B38: =AVERAGE(B2:B37) -> -2.0555556 | C38: =AVERAGE(C2:C37) -> 1.25 | D38: =AVERAGE(D2:D37) -> -0.66666667 | E38: =AVERAGE(E2:E37) -> -1.0277778 | F38: =AVERAGE(F2:F37) -> 0.22222222 | G38: =AVERAGE(G2:G37) -> -1.75 | H38: =AVERAGE(H2:H37) -> -1.1666667 | I38: =AVERAGE(I2:I37) -> -0.33333333 | J38: =AVERAGE(J2:J37) -> 0.41666667
A39: sd | B39: =STDEV(B2:B37) -> 1.7557163 | C39: =STDEV(C2:C37) -> 1.7464249 | D39: =STDEV(D2:D37) -> 2.4142434 | E39: =STDEV(E2:E37) -> 2.035206 | F39: =STDEV(F2:F37) -> 2.2438629 | G39: =STDEV(G2:G37) -> 1.556094 | H39: =STDEV(H2:H37) -> 2.2232537 | I39: =STDEV(I2:I37) -> 2.5071327 | J39: =STDEV(J2:J37) -> 2.00535
A40: Résultats Pôles autisme et Borderline | B40: 5_NTI. La constitution de mon groupe de pairs a été difficile | C40: 6_NTI. Je me suis senti aidé par l’équipe de recherche | D40: 7_NTI. La compréhension de la méthodologie a été difficile | E40: 8_NTI. La prise de notes extensives a été facile | F40: 9_NTI. La prise en main des instruments est (a été) difficile | G40: 18_NTI. La sortie de traitement d’un patient engagé dans l’évaluation avec mes pairs a déstabilisé le groupe | H40: 19_NTI. Le consensus sur les cotations des différents instruments a toujours eu beaucoup de mal à aboutir | I40: 20_NTI. Pour faciliter le travail avec mes pairs j’utilise Skype ou une autre technologie internet | J40: 24_NTI. Présenter le suivi de mon cas et exposer ma pratique en groupe de pairs s’est avéré facile

Sheet NTI-2
A1: Q-Item | G1: Mean | H1: sd | I1: p-value
A2: 5_DE1The constitution of my peer group was difficult. | G2: -2.0555556 | H2: 1.7557163 | I2: < 0,0001
A3: 6_DE2I felt helped by the research team | G3: 1.25 | H3: 1.7464249 | I3: < 0,0001
A4: 7_DE3The comprehension of methodology was difficult | G4: -0.66666667 | H4: 2.4142434 | I4: 0.0028597791
A5: 8_DE4The collection of extensive notes was easy | G5: -1.0277778 | H5: 2.035206 | I5: 0.00024322809
A6: 9_DE5The taking in hand of the instruments is (was) difficult | G6: 0.22222222 | H6: 2.2438629 | I6: 0.0039309652
A7: 18_DE6The exit of treatment of a patient engaged in the evaluation with my peers destabilized the group | G7: -1.75 | H7: 1.556094 | I7: < 0,0001
A8: 19_DE7The consensus on quotations of the various instruments always was very difficult to attain | G8: -1.1666667 | H8: 2.2232537 | I8: 0.00058723095
A9: 20_DE8To facilitate work with my peers I use Skype or another technology Internet | G9: -0.33333333 | H9: 2.5071327 | I9: 0.0089795644
A10: 24_DE9To present the follow-up of my case and to expose my practice in peer group proved to be easy | G10: 0.41666667 | H10: 2.00535 | I10: 0.00097040831

Sheet MOT
B1: 10_MOT1 | C1: 14_MOT2 | D1: 15_MOT3
A2: 1106 | B2: 2 | C2: 0 | D2: -3
A3: 1111 | B3: 0 | C3: 0 | D3: 0
A4: 1113 | B4: 0 | C4: 2 | D4: 2
A5: 1120 | B5: 3 | C5: 0 | D5: -4
A6: 1146 | B6: 3 | C6: 4 | D6: 2
A7: 1147 | B7: 0 | C7: 3 | D7: 2
A8: 1154 | B8: 0 | C8: 4 | D8: -3
A9: 1167 | B9: -2 | C9: 2 | D9: 3
A10: 1168 | B10: 2 | C10: 3 | D10: 2
A11: 1169 | B11: 0 | C11: 0 | D11: 2
A12: 1178 | B12: 3 | C12: 0 | D12: 4
A13: 1194 | B13: -2 | C13: 4 | D13: 2
... A37: 1378 | B37: 4 | C37: 3 | D37: 0
A38: Moy | B38: =AVERAGE(B2:B37) -> 0.75 | C38: =AVERAGE(C2:C37) -> 2.0277778 | D38: =AVERAGE(D2:D37) -> 1.3888889
A39: sd | B39: =STDEV(B2:B37) -> 2.4068355 | C39: =STDEV(C2:C37) -> 1.6472681 | D39: =STDEV(D2:D37) -> 2.1417987
A40: Résultats Pôles autisme et Borderline | B40: 10_MOT. Le travail en groupe de pairs est (a été) le moteur principal de mon implication | C40: 14_MOT. Sur le plan professionnel cette recherche me semble importante pour défendre la pratique psychothérapique | D40: 15_MOT. La possibilité de mieux connaître ma pratique et de comprendre comment se produisent les changements chez mon patient participent à ma motivation

Sheet MOT-2
A1: Q-Item | G1: Mean | H1: sd | I1: p-value
A2: 10_The peer group work is (was) the principal motor of my implication | G2: 0.75 | H2: 2.4068355 | I2: 0.0021405781
A3: 14_On the professional level, this research seems important to me to defend the psychotherapy practice | G3: 2.0277778 | H3: 1.6472681 | I3: < 0,0001
A4: 15_The possibility of better knowing my practice and understanding how the changes at my patient occur take part in my motivation | G4: 1.3888889 | H4: 2.1417987 | I4: 0.00017495686

Sheet IMP
B1: 11_IMP1 | C1: 12_IMP2 | D1: 13_IMP3 | E1: 16_IMP4 | F1: 17_IMP5 | G1: 21_IMP6 | H1: 22_IMP7 | I1: 23_IMP8 | J1: 25_IMP9
A2: 1106 | B2: -2 | C2: 2 | D2: 0 | E2: -2 | F2: 0 | G2: -2 | H2: 0 | I2: 2 | J2: -3
A3: 1111 | B3: 3 | C3: -4 | D3: 2 | E3: 2 | F3: 4 | G3: 3 | H3: -4 | I3: 3 | J3: 2
A4: 1113 | B4: 3 | C4: -2 | D4: 4 | E4: 3 | F4: 0 | G4: 2 | H4: -3 | I4: 2 | J4: 3
A5: 1120 | B5: 4 | C5: -3 | D5: 4 | E5: 2 | F5: 3 | G5: 3 | H5: -4 | I5: 2 | J5: -2
A6: 1146 | B6: 2 | C6: -4 | D6: 0 | E6: 2 | F6: 4 | G6: 3 | H6: -3 | I6: -2 | J6: 0
A7: 1147 | B7: 4 | C7: -4 | D7: 3 | E7: 0 | F7: 4 | G7: 0 | H7: -2 | I7: 3 | J7: 2
A8: 1154 | B8: 2 | C8: -2 | D8: 0 | E8: -3 | F8: 0 | G8: 2 | H8: -2 | I8: 4 | J8: -2
A9: 1167 | B9: 4 | C9: -3 | D9: 2 | E9: 4 | F9: 3 | G9: 0 | H9: -4 | I9: 0 | J9: 0
A10: 1168 | B10: 3 | C10: -4 | D10: 0 | E10: 4 | F10: 2 | G10: 4 | H10: -4 | I10: 2 | J10: 0
A11: 1169 | B11: 3 | C11: -4 | D11: 4 | E11: 2 | F11: 3 | G11: 4 | H11: -3 | I11: 0 | J11: 0
A12: 1178 | B12: 2 | C12: -2 | D12: 0 | E12: 2 | F12: 3 | G12: 2 | H12: -3 | I12: 3 | J12: -2
A13: 1194 | B13: 0 | C13: -2 | D13: 0 | E13: 2 | F13: 3 | G13: 2 | H13: -3 | I13: 4 | J13: 0
... A37: 1378 | B37: 2 | C37: -3 | D37: 0 | E37: 0 | F37: 0 | G37: 0 | H37: -4 | I37: -2 | J37: -2
A38: Moy | B38: =AVERAGE(B2:B37) -> 1.1388889 | C38: =AVERAGE(C2:C37) -> -2.3888889 | D38: =AVERAGE(D2:D37) -> 0.86111111 | E38: =AVERAGE(E2:E37) -> 0.66666667 | F38: =AVERAGE(F2:F37) -> 1.6111111 | G38: =AVERAGE(G2:G37) -> 1.5277778 | H38: =AVERAGE(H2:H37) -> -2.6944444 | I38: =AVERAGE(I2:I37) -> 1.6666667 | J38: =AVERAGE(J2:J37) -> 0.44444444
A39: sd | B39: =STDEV(B2:B37) -> 2.3682758 | C39: =STDEV(C2:C37) -> 1.7772817 | D39: =STDEV(D2:D37) -> 2.0305211 | E39: =STDEV(E2:E37) -> 1.8822479 | F39: =STDEV(F2:F37) -> 1.9313619 | G39: =STDEV(G2:G37) -> 1.5581328 | H39: =STDEV(H2:H37) -> 1.3053613 | I39: =STDEV(I2:I37) -> 1.8047556 | J39: =STDEV(J2:J37) -> 1.8584855
A40: Résultats Pôles autisme et Borderline | B40: 11_IMP. Le travail en groupe de pairs a revitalisé ma clinique | C40: 12_IMP. Cette recherche n’a pas (eu) d’impact sur ma pratique | D40: 13_IMP. La participation à cette recherche m’a permis de préciser des questions cliniques | E40: 16_IMP. Je vois mieux les changements de mon patient depuis que j’ai commencé cette recherche | F40: 17_IMP. Les discussions cliniques en groupe de pairs ont beaucoup apporté à ma réflexion en rapport avec ce patient | G40: 21_IMP. J’ai le sentiment que cette recherche a eu un impact positif sur le processus psychothérapique du patient engagé. | H40: 22_IMP. Cette étude n’a pas suscité chez moi de questions théoriques | I40: 23_IMP. La formulation de cas est une étape intéressante pour définir l’indication d’une psychothérapie et ses objectifs | J40: 25_IMP. Ma représentation de la recherche en psychothérapie a évolué de façon positive depuis ma participation au réseau.

Sheet IMP-2
A1: Q-Item | G1: Mean | H1: sd | I1: p-value
A2: 11_The peer group work revitalized my clinical work | G2: 1.139 | H2: 2.368 | I2: 0.001942108
A3: 12_This research did not have impact on my practice | G3: -2.389 | H3: 1.777 | I3: < 0,0001
A4: 13_The participation in this research enabled me to specify clinical questions | G4: 0.861 | H4: 2.031 | I4: < 0,0001
A5: 16_I better see the changes of my patient since I began this research | G5: 0.667 | H5: 1.882 | I5: < 0,0001
A6: 17_Clinical discussions in peer group brought much to my reflection about my patient | G6: 1.611 | H6: 1.931 | I6: 0.00068440878
A7: 21_I have the feeling that this research had a positive impact on the psychotherapy process of the included patient. | G7: 1.528 | H7: 1.558 | I7: < 0,0001
A8: 22_This study did not cause for me theoretical questions | G8: -2.694 | H8: 1.305 | I8: < 0,0001
A9: 23_The case formulation is an interesting stage to define the indication of a psychotherapy and its objectives | G9: 1.667 | H9: 1.805 | I9: < 0,0001
A10: 25_My representation of research in psychotherapy evolved in a positive way since my participation in the network. | G10: 0.444 | H10: 1.858 | I10: 0.00036681727

Sheet Feuil4
B1: Moy
A2: 22_EF7 | B2: -2.6944444
A3: 1_ER | B3: -2.3888889
A4: 12_EF2 | B4: -2.3888889
A5: 5_DE1 | B5: -2.0555556
A6: 18_DE6 | B6: -1.75
A7: 19_DE7 | B7: -1.1666667
A8: 8_DE4 | B8: -1.0277778
A9: 4_ER | B9: -0.83333333
A10: 7_DE3 | B10: -0.66666667
A11: 20_DE8 | B11: -0.33333333
A12: 3_ER | B12: -0.25
A13: 9_DE5 | B13: 0.22222222
... A26: 14_MO2 | B26: 2.0277778

Sheet Feuil5
B1: MoyAbs
A2: 9_DE5 | B2: =ABS(Feuil4!B13) -> 0.22222222
A3: 3_ER | B3: =ABS(Feuil4!B12) -> 0.25
A4: 20_DE8 | B4: =ABS(Feuil4!B11) -> 0.33333333
A5: 24_DE9 | B5: =ABS(Feuil4!B14) -> 0.41666667
A6: 25_EF9 | B6: =ABS(Feuil4!B15) -> 0.44444444
A7: 7_DE3 | B7: =ABS(Feuil4!B10) -> 0.66666667
A8: 16_EF4 | B8: =ABS(Feuil4!B16) -> 0.66666667
A9: 10_MO1 | B9: =ABS(Feuil4!B17) -> 0.75
A10: 4_ER | B10: =ABS(Feuil4!B9) -> 0.83333333
A11: 13_EF3 | B11: =ABS(Feuil4!B18) -> 0.86111111
A12: 8_DE4 | B12: =ABS(Feuil4!B8) -> 1.0277778
A13: 11_EF1 | B13: =ABS(Feuil4!B19) -> 1.1388889
A14: 19_DE7 | B14: =ABS(Feuil4!B7) -> 1.1666667
A15: 6_DE2 | B15: =ABS(Feuil4!B20) -> 1.25
A16: 15_MO3 | B16: =ABS(Feuil4!B21) -> 1.3888889
A17: 21_EF6 | B17: =ABS(Feuil4!B22) -> 1.5277778
A18: 2_ER | B18: =ABS(Feuil4!B23) -> 1.5833333
A19: 17_EF5 | B19: =ABS(Feuil4!B24) -> 1.6111111
A20: 23_EF8 | B20: =ABS(Feuil4!B25) -> 1.6666667
A21: 18_DE6 | B21: =ABS(Feuil4!B6) -> 1.75
A22: 14_MO2 | B22: =ABS(Feuil4!B26) -> 2.0277778
A23: 5_DE1 | B23: =ABS(Feuil4!B5) -> 2.0555556
A24: 1_ER | B24: =ABS(Feuil4!B3) -> 2.3888889
A25: 12_EF2 | B25: =ABS(Feuil4!B4) -> 2.3888889
A26: 22_EF7 | B26: =ABS(Feuil4!B2) -> 2.6944444

Sheet Feuil6
B1: 1106
A2: 5_DE1 | B2: -4
A3: 20_DE8 | B3: -4
A4: 6_DE2 | B4: -3
A5: 15_MO3 | B5: -3
A6: 25_EF9 | B6: -3
A7: 11_EF1 | B7: -2
A8: 16_EF4 | B8: -2
A9: 18_DE6 | B9: -2
A10: 21_EF6 | B10: -2
A11: 1_ER | B11: 0
A12: 3_ER | B12: 0
A13: 13_EF3 | B13: 0
... A26: 9_DE5 | B26: 4
